BEGIN:VCALENDAR
VERSION:2.0
PRODID:-//Dans les vignes - ECPv6.15.20//NONSGML v1.0//EN
CALSCALE:GREGORIAN
METHOD:PUBLISH
X-WR-CALNAME:Dans les vignes
X-ORIGINAL-URL:https://www.danslesvignes.fr
X-WR-CALDESC:Évènements pour Dans les vignes
REFRESH-INTERVAL;VALUE=DURATION:PT1H
X-Robots-Tag:noindex
X-PUBLISHED-TTL:PT1H
BEGIN:VTIMEZONE
TZID:Europe/Paris
BEGIN:DAYLIGHT
TZOFFSETFROM:+0100
TZOFFSETTO:+0200
TZNAME:CEST
DTSTART:20220327T010000
END:DAYLIGHT
BEGIN:STANDARD
TZOFFSETFROM:+0200
TZOFFSETTO:+0100
TZNAME:CET
DTSTART:20221030T010000
END:STANDARD
BEGIN:DAYLIGHT
TZOFFSETFROM:+0100
TZOFFSETTO:+0200
TZNAME:CEST
DTSTART:20230326T010000
END:DAYLIGHT
BEGIN:STANDARD
TZOFFSETFROM:+0200
TZOFFSETTO:+0100
TZNAME:CET
DTSTART:20231029T010000
END:STANDARD
BEGIN:DAYLIGHT
TZOFFSETFROM:+0100
TZOFFSETTO:+0200
TZNAME:CEST
DTSTART:20240331T010000
END:DAYLIGHT
BEGIN:STANDARD
TZOFFSETFROM:+0200
TZOFFSETTO:+0100
TZNAME:CET
DTSTART:20241027T010000
END:STANDARD
END:VTIMEZONE
BEGIN:VEVENT
DTSTART;VALUE=DATE:20230513
DTEND;VALUE=DATE:20230515
DTSTAMP:20260424T073349
CREATED:20230317T161920Z
LAST-MODIFIED:20230512T094958Z
UID:148-1683936000-1684108799@www.danslesvignes.fr
SUMMARY:Peyri’art
DESCRIPTION:Peyri’art \nOrganisée tous les deux ans\, les années impaires\, Peyri’Art est une exposition d’artistes sélectionnés par un jury\, ainsi que d’artistes résidents de Peyriac. Découverte du cœur de village à l’occasion du parcours des galeries éphémères\, et dégustation des vins au Marché des Vignerons\, à la rencontre des caves particulières de Peyriac de Mer.\nRestauration sur place.\nConcerts. \nwww.facebook.com/capeyriac \nPlus d’événements dans l’Aude : www.danslesvignes.fr/events/categorie/11-aude/
URL:https://www.danslesvignes.fr/event/peyriart/
LOCATION:PEYRIAC-DE-MER\, 11440
CATEGORIES:11. AUDE
ATTACH;FMTTYPE=image/jpeg:https://www.danslesvignes.fr/wp-content/uploads/2023/03/11_05_13-PEYRIART.jpg
END:VEVENT
BEGIN:VEVENT
DTSTART;TZID=Europe/Paris:20230513T160000
DTEND;TZID=Europe/Paris:20230513T230000
DTSTAMP:20260424T073349
CREATED:20230403T154304Z
LAST-MODIFIED:20230411T164035Z
UID:575-1683993600-1684018800@www.danslesvignes.fr
SUMMARY:Balad’apéro Made in Douzens
DESCRIPTION:Balad’apéro Made in Douzens \nProposée par les 5 caves du village\, Balad’apéro Made in Douzens c’est une balade-dégustations dans les vignes afin de faire découvrir leurs cépages et de mettre en avant leur savoir-faire\, se termine par un moment convivial en musique autour d’un rougail de saucisse. \nA partir de 16h00 \nDomaine Colline de l’Hirondelle \n25€ \nRéservation obligatoire sur madeindouzens@gmail.com \nwww.facebook.com/madeindouzens \nPlus d’événements dans l’Aude : www.danslesvignes.fr/events/categorie/11-aude/
URL:https://www.danslesvignes.fr/event/baladapero-made-in-douzens/
LOCATION:DOUZENS\, 11700
CATEGORIES:11. AUDE
ATTACH;FMTTYPE=image/jpeg:https://www.danslesvignes.fr/wp-content/uploads/2023/04/11_05_13-DOUZENS.jpg
END:VEVENT
BEGIN:VEVENT
DTSTART;VALUE=DATE:20230521
DTEND;VALUE=DATE:20230522
DTSTAMP:20260424T073349
CREATED:20230401T095855Z
LAST-MODIFIED:20230411T172711Z
UID:341-1684627200-1684713599@www.danslesvignes.fr
SUMMARY:Sentiers Gourmands en Clape Vigneronne
DESCRIPTION:Sentiers Gourmands en Clape Vigneronne \nTout au long de ce parcours de 6km\, ponctué de pauses gourmandes\, vous découvrirez le cœur de la Clape en dégustant ses vins et en admirant le terroir qui les forge\, le tout en accord avec les mets préparés par le chef Marc Schwall du Petit Lac (Narbonne).  \nAdulte 72€ (68€ à partir de 12 personnes)\nEnfant 20€ (moins de 12 ans) \nDéparts toutes les 10mn : 10h20-14h00 \nCaveau d’Armissan \nRéservation obligatoire \nwww.la-clape.com\nwww.facebook.com/aoclaclape \nPlus d’événements dans l’Aude : www.danslesvignes.fr/events/categorie/11-aude/
URL:https://www.danslesvignes.fr/event/sentiers-gourmands-en-clape-vigneronne/
LOCATION:AMISSAN\, Amissan\, 11110
CATEGORIES:11. AUDE
ATTACH;FMTTYPE=image/jpeg:https://www.danslesvignes.fr/wp-content/uploads/2023/04/11_05_21-LA-CLAPE.jpg
END:VEVENT
BEGIN:VEVENT
DTSTART;TZID=Europe/Paris:20230526T100000
DTEND;TZID=Europe/Paris:20230529T230000
DTSTAMP:20260424T073349
CREATED:20230401T104015Z
LAST-MODIFIED:20230411T172924Z
UID:346-1685095200-1685401200@www.danslesvignes.fr
SUMMARY:Prom'Aude
DESCRIPTION:Prom’Aude \nPentecôte gourmande en plein cœur de l’Occitanie : le printemps inspire les créateurs et les amateurs passionnés… Réservez une excursion de quatre jours pour découvrir les saveurs de l’Aude\, dans la capitale des Corbières\, aux portes du Minervois… Au programme\, présentations et découvertes\, démonstrations\, partages et transmissions\, dégustations avec les producteurs agricoles\, les artisans en agroalimentaire\, les métiers d’art\, les professionnels du tourisme et de l’animation. \nEntrée 2€\n5€ Pass 4 jours \nParc de Gaujac \nwww.promaude.fr\nwww.facebook.com/prom.aude \nPlus d’événements dans l’Aude : www.danslesvignes.fr/events/categorie/11-aude/
URL:https://www.danslesvignes.fr/event/promaude/
LOCATION:LEZIGNAN-CORBIERES\, 11200
CATEGORIES:11. AUDE
ATTACH;FMTTYPE=image/jpeg:https://www.danslesvignes.fr/wp-content/uploads/2023/04/11_05_26-PROMAUDE.jpg
END:VEVENT
END:VCALENDAR