BEGIN:VCALENDAR
VERSION:2.0
PRODID:-//Dans les vignes - ECPv6.15.20//NONSGML v1.0//EN
CALSCALE:GREGORIAN
METHOD:PUBLISH
X-WR-CALNAME:Dans les vignes
X-ORIGINAL-URL:https://www.danslesvignes.fr
X-WR-CALDESC:Évènements pour Dans les vignes
REFRESH-INTERVAL;VALUE=DURATION:PT1H
X-Robots-Tag:noindex
X-PUBLISHED-TTL:PT1H
BEGIN:VTIMEZONE
TZID:Europe/Paris
BEGIN:DAYLIGHT
TZOFFSETFROM:+0100
TZOFFSETTO:+0200
TZNAME:CEST
DTSTART:20220327T010000
END:DAYLIGHT
BEGIN:STANDARD
TZOFFSETFROM:+0200
TZOFFSETTO:+0100
TZNAME:CET
DTSTART:20221030T010000
END:STANDARD
BEGIN:DAYLIGHT
TZOFFSETFROM:+0100
TZOFFSETTO:+0200
TZNAME:CEST
DTSTART:20230326T010000
END:DAYLIGHT
BEGIN:STANDARD
TZOFFSETFROM:+0200
TZOFFSETTO:+0100
TZNAME:CET
DTSTART:20231029T010000
END:STANDARD
BEGIN:DAYLIGHT
TZOFFSETFROM:+0100
TZOFFSETTO:+0200
TZNAME:CEST
DTSTART:20240331T010000
END:DAYLIGHT
BEGIN:STANDARD
TZOFFSETFROM:+0200
TZOFFSETTO:+0100
TZNAME:CET
DTSTART:20241027T010000
END:STANDARD
END:VTIMEZONE
BEGIN:VEVENT
DTSTART;VALUE=DATE:20230706
DTEND;VALUE=DATE:20230707
DTSTAMP:20260424T041627
CREATED:20230403T162843Z
LAST-MODIFIED:20230628T155659Z
UID:584-1688601600-1688687999@www.danslesvignes.fr
SUMMARY:Les Jeudis en Malepère
DESCRIPTION:Les Jeudis en Malepère \nLes vignerons(nes) de la Malepère vous reçoivent tous les jeudis de l’été dans leur caves et domaines pour une soirée conviviale autour de la dégustation de leurs vins. Restauration sur place et animation musicale. \nTOUS LES JEUDIS du 06/07 au 24/08 dans les villages de la Malepère\n– Château de la Soujeole à Montclar. 18h00-22h30\n– Domaine Girard à Alaigne. 19h00-23h00\n– Domaine Rose et Paul à Arzens. 18h30-23h30\n– Domaine des Souleilles à Donazac. 19h00-23h00 \nwww.aop-malepere.fr\nwww.instagram.com/reel/Ct08yoYApJW/ \nPlus d’événements dans l’Aude : www.danslesvignes.fr/events/categorie/11-aude/
URL:https://www.danslesvignes.fr/event/les-jeudis-en-malepere/
LOCATION:CARCASSONNE\, 11000
CATEGORIES:11. AUDE
ATTACH;FMTTYPE=image/png:https://www.danslesvignes.fr/wp-content/uploads/2023/04/11_06_JEUDIS-MALEPERE.png
END:VEVENT
BEGIN:VEVENT
DTSTART;TZID=Europe/Paris:20230706T190000
DTEND;TZID=Europe/Paris:20230706T220000
DTSTAMP:20260424T041627
CREATED:20230527T092926Z
LAST-MODIFIED:20230527T094711Z
UID:1262-1688670000-1688680800@www.danslesvignes.fr
SUMMARY:Les Estivales de Russol
DESCRIPTION:Les Estivales de Russol \n10 soirées musicales électriques de duo\, trio et quintet: chants\, jazz\, musiques du monde. La restauration sera assurée par Stéphane Rouabah et les vins vous seront proposés par dix vignerons lauranais\, à tour de rôle. \nTous les jeudis du 06/07 au 07/09\n06/07 : Paranoïd. 13/07 : Pistache. 20/07 : South Brothers. 27/07 : La Guiguinche. 03/08 : Magda Mango. 10/08 : Huck. 17/08 : Kijote. 24/08 : Mojo. 31/08 : Juliette Minvielle. 07/09 : Muet. \nAdulte 15€. Pass 5 concerts : 50€. Etudiant 5€\nMenu plat+dessert 15€ \n19h00-22h00\nDomaine de Russol \nwww.facebook.com/Russol11 \nPlus d’événements dans l’Aude : www.danslesvignes.fr/events/categorie/11-aude/
URL:https://www.danslesvignes.fr/event/les-estivales-de-russol/
LOCATION:LAURE-MINERVOIS\, 11800
CATEGORIES:11. AUDE
ATTACH;FMTTYPE=image/jpeg:https://www.danslesvignes.fr/wp-content/uploads/2023/05/11_07_06-RUSSOL.jpg
END:VEVENT
BEGIN:VEVENT
DTSTART;TZID=Europe/Paris:20230707T190000
DTEND;TZID=Europe/Paris:20230707T230000
DTSTAMP:20260424T041627
CREATED:20230606T161809Z
LAST-MODIFIED:20230702T161850Z
UID:1355-1688756400-1688770800@www.danslesvignes.fr
SUMMARY:Les Estivales de Narbonne
DESCRIPTION:Les Estivales de Narbonne \nDans une ambiance conviviale et musicale\, venez partager une soirée\, et déguster la grande diversité des vins AOP La Clape\, AOP Corbières\, AOP Minervois. Les produits du terroir sont aussi mis à l’honneur et accompagnent agréablement vos dégustations avec des assiettes «estivales» à déguster sur place. \nTous les vedredis du 07/07 au 18/08\n6€ le verre dégustation + 2 tickets\n19h00-23h00\nCours Mirabeau \nwww.reservations.languedoc-aoc.com \nPlus d’événements dans l’Aude : www.danslesvignes.fr/events/categorie/11-aude/
URL:https://www.danslesvignes.fr/event/les-estivales-de-narbonne/
LOCATION:NARBONNE\, 11100
CATEGORIES:11. AUDE
ATTACH;FMTTYPE=image/png:https://www.danslesvignes.fr/wp-content/uploads/2023/06/11_07_07-ESTIVALES-NARBONNE.png
END:VEVENT
BEGIN:VEVENT
DTSTART;TZID=Europe/Paris:20230710T190000
DTEND;TZID=Europe/Paris:20230710T230000
DTSTAMP:20260424T041627
CREATED:20230702T101937Z
LAST-MODIFIED:20230702T164006Z
UID:1500-1689015600-1689030000@www.danslesvignes.fr
SUMMARY:L'été en Corbières
DESCRIPTION:L’été en Corbières \nTout l’été\, les vignerons de l’AOC Corbières vous donnent rendez-vous dans leurs domaines répartis sur l’ensemble du territoire pour vous faire partager un moment de convivialité. Au programme : dégustations de vins\, musique et convivialité ! Ambiance musicale et possibilité de se restaurer sur place selon les domaines.\nAvec les domaines : Domaine de Saint Johannès\, Abbaye de Fontfroide et Château Saint Estève. \nAu Château Ollieux Romanis \nwww.vins-corbieres.com \nPlus d’événements dans l’Aude : www.danslesvignes.fr/events/categorie/11-aude/
URL:https://www.danslesvignes.fr/event/lete-des-corbieres/
LOCATION:MONTSERET\, 11200
CATEGORIES:11. AUDE
END:VEVENT
BEGIN:VEVENT
DTSTART;VALUE=DATE:20230713
DTEND;VALUE=DATE:20230714
DTSTAMP:20260424T041627
CREATED:20230628T153333Z
LAST-MODIFIED:20230628T155740Z
UID:1426-1689206400-1689292799@www.danslesvignes.fr
SUMMARY:Les Jeudis en Malepère
DESCRIPTION:Les Jeudis en Malepère \nLes vignerons(nes) de la Malepère vous reçoivent tous les jeudis de l’été dans leur caves et domaines pour une soirée conviviale autour de la dégustation de leurs vins. Restauration sur place et animation musicale. \nTOUS LES JEUDIS du 06/07 au 24/08 dans les villages de la Malepère\n– Château de Serres à Carcassonne. 19h00-22h00\n– Château Guilhem à Malviès \nwww.aop-malepere.fr\nwww.instagram.com/reel/Ct08yoYApJW/ \nPlus d’événements dans l’Aude : www.danslesvignes.fr/events/categorie/11-aude/
URL:https://www.danslesvignes.fr/event/les-jeudis-en-malepere-2/
LOCATION:CARCASSONNE\, 11000
CATEGORIES:11. AUDE
ATTACH;FMTTYPE=image/png:https://www.danslesvignes.fr/wp-content/uploads/2023/04/11_06_JEUDIS-MALEPERE.png
END:VEVENT
BEGIN:VEVENT
DTSTART;TZID=Europe/Paris:20230716T110000
DTEND;TZID=Europe/Paris:20230716T230000
DTSTAMP:20260424T041627
CREATED:20230713T090248Z
LAST-MODIFIED:20230713T090248Z
UID:1656-1689505200-1689548400@www.danslesvignes.fr
SUMMARY:De chai en chez
DESCRIPTION:Les vignerons du Val de Dagne vous donnent rendez-vous à Montlaur pour la 4ème édition de « De chai en chez »\, une journée portes ouvertes avec différents vignerons du village.\nDégustations\, animations\, soirée concert.\n\nwww.facebook.com\n\n\nPlus d’événements dans l’Aude : www.danslesvignes.fr/events/categorie/11-aude/
URL:https://www.danslesvignes.fr/event/de-chai-en-chez/
LOCATION:MONTLAUR\, 11220
CATEGORIES:11. AUDE
ATTACH;FMTTYPE=image/jpeg:https://www.danslesvignes.fr/wp-content/uploads/2023/07/11_07_16-DE-CHAI-EN-CHEZ.jpeg
END:VEVENT
BEGIN:VEVENT
DTSTART;TZID=Europe/Paris:20230718T193000
DTEND;TZID=Europe/Paris:20230718T235900
DTSTAMP:20260424T041627
CREATED:20230702T161705Z
LAST-MODIFIED:20230702T161705Z
UID:1504-1689708600-1689724740@www.danslesvignes.fr
SUMMARY:Le Cru Boutenac fait son cinéma
DESCRIPTION:Le Cru Boutenac fait son cinéma\n\nLe Cru Boutenac et ses vignerons seront ravis de partager un bon moment avec vous lors de la projection en plein air du film « Ce qui nous lie » de Cédric Klapisch. Rencontre avec les vignerons\, vente de vins\, food trucks et musique.\n\nEntrée libre\nChâteau de Boutenac\n\nwww.cruboutenac.com\nPlus d’événements dans l’Aude : www.danslesvignes.fr/events/categorie/11-aude/
URL:https://www.danslesvignes.fr/event/le-cru-boutenac-fait-son-cinema/
LOCATION:BOUTENAC\, 11200
CATEGORIES:11. AUDE
ATTACH;FMTTYPE=image/jpeg:https://www.danslesvignes.fr/wp-content/uploads/2023/07/11_07_18-CRU-BOUTENAC-CINEMA.jpeg
END:VEVENT
BEGIN:VEVENT
DTSTART;TZID=Europe/Paris:20230719T190000
DTEND;TZID=Europe/Paris:20230719T230000
DTSTAMP:20260424T041627
CREATED:20230702T162927Z
LAST-MODIFIED:20230702T163424Z
UID:1515-1689793200-1689807600@www.danslesvignes.fr
SUMMARY:L'été en Corbières
DESCRIPTION:L’été en Corbières \nTout l’été\, les vignerons de l’AOC Corbières vous donnent rendez-vous dans leurs domaines répartis sur l’ensemble du territoire pour vous faire partager un moment de convivialité. Au programme : dégustations de vins\, musique et convivialité ! Ambiance musicale et possibilité de se restaurer sur place selon les domaines.\nAvec les domaines : Clos de l’Anhel\, Château Beauregard Mirouze\, Domaine Les Cascades et Domaine Mingraut. \nAu Domaine de Maingraut\nRéservation conseillée \nwww.corbieres-bio.fr \nPlus d’événements dans l’Aude : www.danslesvignes.fr/events/categorie/11-aude/
URL:https://www.danslesvignes.fr/event/lete-en-corbieres/
LOCATION:FONTCOUVERTE\, 11700
CATEGORIES:11. AUDE
ATTACH;FMTTYPE=image/jpeg:https://www.danslesvignes.fr/wp-content/uploads/2023/07/11_07_19-ETE-CORBIERES.jpeg
END:VEVENT
BEGIN:VEVENT
DTSTART;VALUE=DATE:20230720
DTEND;VALUE=DATE:20230721
DTSTAMP:20260424T041627
CREATED:20230628T153904Z
LAST-MODIFIED:20230628T155828Z
UID:1428-1689811200-1689897599@www.danslesvignes.fr
SUMMARY:Les Jeudis en Malepère
DESCRIPTION:Les Jeudis en Malepère \nLes vignerons(nes) de la Malepère vous reçoivent tous les jeudis de l’été dans leur caves et domaines pour une soirée conviviale autour de la dégustation de leurs vins. Restauration sur place et animation musicale. \nTOUS LES JEUDIS du 06/07 au 24/08 dans les villages de la Malepère\n– Château Belvèze à Belvèze du Razes. 19h00-23h00\n– Le Pas de la Dame à Montréal. 19h00-23h00\n– Les Cèdres de Robert à Villesiscle. 19h00-23h00\n– Vignobles de Vendéole à Routier. 18h00-23h00 \nwww.aop-malepere.fr\nwww.instagram.com/reel/Ct08yoYApJW/ \nPlus d’événements dans l’Aude : www.danslesvignes.fr/events/categorie/11-aude/
URL:https://www.danslesvignes.fr/event/les-jeudis-en-malepere-3/
LOCATION:CARCASSONNE\, 11000
CATEGORIES:11. AUDE
ATTACH;FMTTYPE=image/png:https://www.danslesvignes.fr/wp-content/uploads/2023/04/11_06_JEUDIS-MALEPERE.png
END:VEVENT
BEGIN:VEVENT
DTSTART;TZID=Europe/Paris:20230721T183000
DTEND;TZID=Europe/Paris:20230721T230000
DTSTAMP:20260424T041627
CREATED:20230702T164020Z
LAST-MODIFIED:20230702T165636Z
UID:1522-1689964200-1689980400@www.danslesvignes.fr
SUMMARY:L'été en Corbières
DESCRIPTION:L’été en Corbières \nTout l’été\, les vignerons de l’AOC Corbières vous donnent rendez-vous dans leurs domaines répartis sur l’ensemble du territoire pour vous faire partager un moment de convivialité. Au programme : dégustations de vins\, musique et convivialité ! Ambiance musicale et possibilité de se restaurer sur place selon les domaines.\nAvec les domaines : Le Chai des Vignerons\, Château Grand Moulin et Château Vieux Parc. \nAu Domaine Château La Bastide \nwww.vins-corbieres.com \nPlus d’événements dans l’Aude : www.danslesvignes.fr/events/categorie/11-aude/
URL:https://www.danslesvignes.fr/event/lete-en-corbieres-2/
LOCATION:ESCALES\, 11200
CATEGORIES:11. AUDE
END:VEVENT
BEGIN:VEVENT
DTSTART;TZID=Europe/Paris:20230721T190000
DTEND;TZID=Europe/Paris:20230721T230000
DTSTAMP:20260424T041627
CREATED:20230606T162223Z
LAST-MODIFIED:20230702T161913Z
UID:1361-1689966000-1689980400@www.danslesvignes.fr
SUMMARY:Les Estivales de Narbonne
DESCRIPTION:Les Estivales de Narbonne \nDans une ambiance conviviale et musicale\, venez partager une soirée\, et déguster la grande diversité des vins AOP La Clape\, AOP Corbières\, AOP Minervois. Les produits du terroir sont aussi mis à l’honneur et accompagnent agréablement vos dégustations avec des assiettes «estivales» à déguster sur place. \nTous les vedredis du 07/07 au 18/08\n6€ le verre dégustation + 2 tickets\n19h00-23h00\nCours Mirabeau \nwww.reservations.languedoc-aoc.com \nPlus d’événements dans l’Aude : www.danslesvignes.fr/events/categorie/11-aude/ \n 
URL:https://www.danslesvignes.fr/event/les-estivales-de-narbonne-3/
LOCATION:NARBONNE\, 11100
CATEGORIES:11. AUDE
ATTACH;FMTTYPE=image/png:https://www.danslesvignes.fr/wp-content/uploads/2023/06/11_07_07-ESTIVALES-NARBONNE.png
END:VEVENT
BEGIN:VEVENT
DTSTART;VALUE=DATE:20230727
DTEND;VALUE=DATE:20230728
DTSTAMP:20260424T041627
CREATED:20230628T154436Z
LAST-MODIFIED:20230628T155848Z
UID:1430-1690416000-1690502399@www.danslesvignes.fr
SUMMARY:Les Jeudis en Malepère
DESCRIPTION:Les Jeudis en Malepère \nLes vignerons(nes) de la Malepère vous reçoivent tous les jeudis de l’été dans leur caves et domaines pour une soirée conviviale autour de la dégustation de leurs vins. Restauration sur place et animation musicale. \nTOUS LES JEUDIS du 06/07 au 24/08 dans les villages de la Malepère\n– Château de Caux à Caux et Sauzens. 18h00-23h30\n– Domaine le Fort à Montréal. 18h30-22h30\n– Le Mas de mon Père. 18h00-22h00 \nwww.aop-malepere.fr\nwww.instagram.com/reel/Ct08yoYApJW/ \nPlus d’événements dans l’Aude : www.danslesvignes.fr/events/categorie/11-aude/
URL:https://www.danslesvignes.fr/event/les-jeudis-en-malepere-4/
LOCATION:CARCASSONNE\, 11000
CATEGORIES:11. AUDE
ATTACH;FMTTYPE=image/png:https://www.danslesvignes.fr/wp-content/uploads/2023/04/11_06_JEUDIS-MALEPERE.png
END:VEVENT
BEGIN:VEVENT
DTSTART;TZID=Europe/Paris:20230728T190000
DTEND;TZID=Europe/Paris:20230728T230000
DTSTAMP:20260424T041627
CREATED:20230606T162423Z
LAST-MODIFIED:20230702T161929Z
UID:1363-1690570800-1690585200@www.danslesvignes.fr
SUMMARY:Les Estivales de Narbonne
DESCRIPTION:Les Estivales de Narbonne \nDans une ambiance conviviale et musicale\, venez partager une soirée\, et déguster la grande diversité des vins AOP La Clape\, AOP Corbières\, AOP Minervois. Les produits du terroir sont aussi mis à l’honneur et accompagnent agréablement vos dégustations avec des assiettes «estivales» à déguster sur place. \nTous les vedredis du 07/07 au 18/08\n6€ le verre dégustation + 2 tickets\n19h00-23h00\nCours Mirabeau \nwww.reservations.languedoc-aoc.com \nPlus d’événements dans l’Aude : www.danslesvignes.fr/events/categorie/11-aude/ \n 
URL:https://www.danslesvignes.fr/event/les-estivales-de-narbonne-4/
LOCATION:NARBONNE\, 11100
CATEGORIES:11. AUDE
ATTACH;FMTTYPE=image/png:https://www.danslesvignes.fr/wp-content/uploads/2023/06/11_07_07-ESTIVALES-NARBONNE.png
END:VEVENT
BEGIN:VEVENT
DTSTART;TZID=Europe/Paris:20230729T193000
DTEND;TZID=Europe/Paris:20230729T230000
DTSTAMP:20260424T041627
CREATED:20230702T164438Z
LAST-MODIFIED:20230702T164438Z
UID:1527-1690659000-1690671600@www.danslesvignes.fr
SUMMARY:L'été en Corbières
DESCRIPTION:L’été en Corbières \nTout l’été\, les vignerons de l’AOC Corbières vous donnent rendez-vous dans leurs domaines répartis sur l’ensemble du territoire pour vous faire partager un moment de convivialité. Au programme : dégustations de vins\, musique et convivialité ! Ambiance musicale et possibilité de se restaurer sur place selon les domaines.\nAvec les domaines : Château de Luc\, Château Etang des Colombes et Clos du Cers. \nAu Domaine Château du Grand Caumont \nwww.vins-corbieres.com \nPlus d’événements dans l’Aude : www.danslesvignes.fr/events/categorie/11-aude/
URL:https://www.danslesvignes.fr/event/lete-en-corbieres-3/
LOCATION:LEZIGNAN-CORBIERES\, 11200
CATEGORIES:11. AUDE
END:VEVENT
END:VCALENDAR