BEGIN:VCALENDAR
VERSION:2.0
PRODID:-//Dans les vignes - ECPv6.15.20//NONSGML v1.0//EN
CALSCALE:GREGORIAN
METHOD:PUBLISH
X-WR-CALNAME:Dans les vignes
X-ORIGINAL-URL:https://www.danslesvignes.fr
X-WR-CALDESC:Évènements pour Dans les vignes
REFRESH-INTERVAL;VALUE=DURATION:PT1H
X-Robots-Tag:noindex
X-PUBLISHED-TTL:PT1H
BEGIN:VTIMEZONE
TZID:Europe/Paris
BEGIN:DAYLIGHT
TZOFFSETFROM:+0100
TZOFFSETTO:+0200
TZNAME:CEST
DTSTART:20220327T010000
END:DAYLIGHT
BEGIN:STANDARD
TZOFFSETFROM:+0200
TZOFFSETTO:+0100
TZNAME:CET
DTSTART:20221030T010000
END:STANDARD
BEGIN:DAYLIGHT
TZOFFSETFROM:+0100
TZOFFSETTO:+0200
TZNAME:CEST
DTSTART:20230326T010000
END:DAYLIGHT
BEGIN:STANDARD
TZOFFSETFROM:+0200
TZOFFSETTO:+0100
TZNAME:CET
DTSTART:20231029T010000
END:STANDARD
BEGIN:DAYLIGHT
TZOFFSETFROM:+0100
TZOFFSETTO:+0200
TZNAME:CEST
DTSTART:20240331T010000
END:DAYLIGHT
BEGIN:STANDARD
TZOFFSETFROM:+0200
TZOFFSETTO:+0100
TZNAME:CET
DTSTART:20241027T010000
END:STANDARD
END:VTIMEZONE
BEGIN:VEVENT
DTSTART;VALUE=DATE:20230803
DTEND;VALUE=DATE:20230804
DTSTAMP:20260424T023637
CREATED:20230628T154737Z
LAST-MODIFIED:20230629T185610Z
UID:1432-1691020800-1691107199@www.danslesvignes.fr
SUMMARY:Les Jeudis en Malepère
DESCRIPTION:Les Jeudis en Malepère \nLes vignerons(nes) de la Malepère vous reçoivent tous les jeudis de l’été dans leur caves et domaines pour une soirée conviviale autour de la dégustation de leurs vins. Restauration sur place et animation musicale. \nTOUS LES JEUDIS du 06/07 au 24/08 dans les villages de la Malepère\n– Château de La Louvière à Malviès. 18h00-22h00\n– Vignobles de Vendéole à Arzens.  18h00-23h00 \nwww.aop-malepere.fr\nwww.instagram.com/reel/Ct08yoYApJW/ \nPlus d’événements dans l’Aude : www.danslesvignes.fr/events/categorie/11-aude/
URL:https://www.danslesvignes.fr/event/les-jeudis-en-malepere-5/
LOCATION:CARCASSONNE\, 11000
CATEGORIES:11. AUDE
ATTACH;FMTTYPE=image/png:https://www.danslesvignes.fr/wp-content/uploads/2023/04/11_06_JEUDIS-MALEPERE.png
END:VEVENT
BEGIN:VEVENT
DTSTART;TZID=Europe/Paris:20230804T190000
DTEND;TZID=Europe/Paris:20230804T230000
DTSTAMP:20260424T023637
CREATED:20230606T162638Z
LAST-MODIFIED:20230702T161945Z
UID:1365-1691175600-1691190000@www.danslesvignes.fr
SUMMARY:Les Estivales de Narbonne
DESCRIPTION:Les Estivales de Narbonne \nDans une ambiance conviviale et musicale\, venez partager une soirée\, et déguster la grande diversité des vins AOP La Clape\, AOP Corbières\, AOP Minervois. Les produits du terroir sont aussi mis à l’honneur et accompagnent agréablement vos dégustations avec des assiettes «estivales» à déguster sur place. \nTous les vedredis du 07/07 au 18/08\n6€ le verre dégustation + 2 tickets\n19h00-23h00\nCours Mirabeau \nwww.reservations.languedoc-aoc.com \nPlus d’événements dans l’Aude : www.danslesvignes.fr/events/categorie/11-aude/ \n 
URL:https://www.danslesvignes.fr/event/les-estivales-de-narbonne-5/
LOCATION:NARBONNE\, 11100
CATEGORIES:11. AUDE
ATTACH;FMTTYPE=image/png:https://www.danslesvignes.fr/wp-content/uploads/2023/06/11_07_07-ESTIVALES-NARBONNE.png
END:VEVENT
BEGIN:VEVENT
DTSTART;TZID=Europe/Paris:20230805T183000
DTEND;TZID=Europe/Paris:20230805T230000
DTSTAMP:20260424T023637
CREATED:20230702T165142Z
LAST-MODIFIED:20230702T165142Z
UID:1529-1691260200-1691276400@www.danslesvignes.fr
SUMMARY:L'été en Corbières
DESCRIPTION:L’été en Corbières \nTout l’été\, les vignerons de l’AOC Corbières vous donnent rendez-vous dans leurs domaines répartis sur l’ensemble du territoire pour vous faire partager un moment de convivialité. Au programme : dégustations de vins\, musique et convivialité ! Ambiance musicale et possibilité de se restaurer sur place selon les domaines.\nAvec les domaines : Domaine Saint Michel\, Domaine Vent Terral\, Domaine Pech Maho et Domaine Caccia. \nA la Cave Coopérative de Sigean \nwww.vins-corbieres.com \nPlus d’événements dans l’Aude : www.danslesvignes.fr/events/categorie/11-aude/
URL:https://www.danslesvignes.fr/event/lete-en-corbieres-4/
LOCATION:SIGEAN\, 11130
CATEGORIES:11. AUDE
END:VEVENT
BEGIN:VEVENT
DTSTART;VALUE=DATE:20230810
DTEND;VALUE=DATE:20230811
DTSTAMP:20260424T023637
CREATED:20230628T155050Z
LAST-MODIFIED:20230629T185629Z
UID:1434-1691625600-1691711999@www.danslesvignes.fr
SUMMARY:Les Jeudis en Malepère
DESCRIPTION:Les Jeudis en Malepère \nLes vignerons(nes) de la Malepère vous reçoivent tous les jeudis de l’été dans leur caves et domaines pour une soirée conviviale autour de la dégustation de leurs vins. Restauration sur place et animation musicale. \nTOUS LES JEUDIS du 06/07 au 24/08 dans les villages de la Malepère\n– Domaine de Matibat à St Martin de Villeregran. 18h00-22h30\n– Domaine Rose et Paul à Arzens. 18h30-22h30 \nwww.aop-malepere.fr\nwww.instagram.com/reel/Ct08yoYApJW/ \nPlus d’événements dans l’Aude : www.danslesvignes.fr/events/categorie/11-aude/
URL:https://www.danslesvignes.fr/event/les-jeudis-en-malepere-6/
LOCATION:CARCASSONNE\, 11000
CATEGORIES:11. AUDE
ATTACH;FMTTYPE=image/png:https://www.danslesvignes.fr/wp-content/uploads/2023/04/11_06_JEUDIS-MALEPERE.png
END:VEVENT
BEGIN:VEVENT
DTSTART;TZID=Europe/Paris:20230811T190000
DTEND;TZID=Europe/Paris:20230811T230000
DTSTAMP:20260424T023637
CREATED:20230606T162830Z
LAST-MODIFIED:20230702T162003Z
UID:1367-1691780400-1691794800@www.danslesvignes.fr
SUMMARY:Les Estivales de Narbonne
DESCRIPTION:Les Estivales de Narbonne \nDans une ambiance conviviale et musicale\, venez partager une soirée\, et déguster la grande diversité des vins AOP La Clape\, AOP Corbières\, AOP Minervois. Les produits du terroir sont aussi mis à l’honneur et accompagnent agréablement vos dégustations avec des assiettes «estivales» à déguster sur place. \nTous les vedredis du 07/07 au 18/08\n6€ le verre dégustation + 2 tickets\n19h00-23h00\nCours Mirabeau \nwww.reservations.languedoc-aoc.com \nPlus d’événements dans l’Aude : www.danslesvignes.fr/events/categorie/11-aude/ \n 
URL:https://www.danslesvignes.fr/event/les-estivales-de-narbonne-6/
LOCATION:NARBONNE\, 11100
CATEGORIES:11. AUDE
ATTACH;FMTTYPE=image/png:https://www.danslesvignes.fr/wp-content/uploads/2023/06/11_07_07-ESTIVALES-NARBONNE.png
END:VEVENT
BEGIN:VEVENT
DTSTART;VALUE=DATE:20230815
DTEND;VALUE=DATE:20230816
DTSTAMP:20260424T023637
CREATED:20230807T144727Z
LAST-MODIFIED:20230807T145736Z
UID:1741-1692057600-1692143999@www.danslesvignes.fr
SUMMARY:Fête du vin à Montlaur
DESCRIPTION:Fête du vin à Montlaur \nDe 10h00 à 18h00\, retrouvez dans le cœur de Montlaur :\n• Le marché des vignerons locaux (principalement\, les vignerons indépendants et caves coopératives du Val de Dagne et des communes voisines)\n• Le marché des producteurs\, artisans et commerçants locaux\n• Le vide-greniers\, la tombola et la buvette\n• Démonstration du jeu de boule : la lyonnaise\n• Jeux pour les enfants \nA partir de 18h00\, soirée concert avec restauration proposée par les associations du village. \nwww.carcassonne-agglo.fr \nPlus d’événements dans l’Aude : www.danslesvignes.fr/events/categorie/11-aude/
URL:https://www.danslesvignes.fr/event/fete-du-vin-a-montlaur/
LOCATION:MONTLAUR\, 11220
CATEGORIES:11. AUDE
ATTACH;FMTTYPE=image/jpeg:https://www.danslesvignes.fr/wp-content/uploads/2023/08/11_08_15-FETE-VIN-MONTLAUR.jpeg
END:VEVENT
BEGIN:VEVENT
DTSTART;VALUE=DATE:20230817
DTEND;VALUE=DATE:20230818
DTSTAMP:20260424T023637
CREATED:20230628T155324Z
LAST-MODIFIED:20230629T185648Z
UID:1437-1692230400-1692316799@www.danslesvignes.fr
SUMMARY:Les Jeudis en Malepère
DESCRIPTION:Les Jeudis en Malepère \nLes vignerons(nes) de la Malepère vous reçoivent tous les jeudis de l’été dans leur caves et domaines pour une soirée conviviale autour de la dégustation de leurs vins. Restauration sur place et animation musicale. \nTOUS LES JEUDIS du 06/07 au 24/08 dans les villages de la Malepère\n– Château de Cointes à Roullens. 19h00-23h00 \nwww.aop-malepere.fr\nwww.instagram.com/reel/Ct08yoYApJW/ \nPlus d’événements dans l’Aude : www.danslesvignes.fr/events/categorie/11-aude/
URL:https://www.danslesvignes.fr/event/les-jeudis-en-malepere-7/
LOCATION:ROULLENS\, 11290
CATEGORIES:11. AUDE
ATTACH;FMTTYPE=image/png:https://www.danslesvignes.fr/wp-content/uploads/2023/04/11_06_JEUDIS-MALEPERE.png
END:VEVENT
BEGIN:VEVENT
DTSTART;TZID=Europe/Paris:20230818T190000
DTEND;TZID=Europe/Paris:20230818T230000
DTSTAMP:20260424T023637
CREATED:20230606T162954Z
LAST-MODIFIED:20230702T162025Z
UID:1369-1692385200-1692399600@www.danslesvignes.fr
SUMMARY:Les Estivales de Narbonne
DESCRIPTION:Les Estivales de Narbonne \nDans une ambiance conviviale et musicale\, venez partager une soirée\, et déguster la grande diversité des vins AOP La Clape\, AOP Corbières\, AOP Minervois. Les produits du terroir sont aussi mis à l’honneur et accompagnent agréablement vos dégustations avec des assiettes «estivales» à déguster sur place. \nTous les vedredis du 07/07 au 18/08\n6€ le verre dégustation + 2 tickets\n19h00-23h00\nCours Mirabeau \nwww.reservations.languedoc-aoc.com \nPlus d’événements dans l’Aude : www.danslesvignes.fr/events/categorie/11-aude/ \n 
URL:https://www.danslesvignes.fr/event/les-estivales-de-narbonne-7/
LOCATION:NARBONNE\, 11100
CATEGORIES:11. AUDE
ATTACH;FMTTYPE=image/png:https://www.danslesvignes.fr/wp-content/uploads/2023/06/11_07_07-ESTIVALES-NARBONNE.png
END:VEVENT
BEGIN:VEVENT
DTSTART;TZID=Europe/Paris:20230820T180000
DTEND;TZID=Europe/Paris:20230820T230000
DTSTAMP:20260424T023637
CREATED:20230702T165458Z
LAST-MODIFIED:20230702T165458Z
UID:1532-1692554400-1692572400@www.danslesvignes.fr
SUMMARY:L'été en Corbières
DESCRIPTION:L’été en Corbières \nTout l’été\, les vignerons de l’AOC Corbières vous donnent rendez-vous dans leurs domaines répartis sur l’ensemble du territoire pour vous faire partager un moment de convivialité. Au programme : dégustations de vins\, musique et convivialité ! Ambiance musicale et possibilité de se restaurer sur place selon les domaines.\nAvec les domaines : Cellier des Demoiselles\, Domaine MP Berthier et Château de Saint Eutrope. \nAu Château Cicéron \nwww.vins-corbieres.com \nPlus d’événements dans l’Aude : www.danslesvignes.fr/events/categorie/11-aude/
URL:https://www.danslesvignes.fr/event/lete-en-corbieres-5/
LOCATION:RIBAUTE\, 11220
CATEGORIES:11. AUDE
END:VEVENT
BEGIN:VEVENT
DTSTART;VALUE=DATE:20230824
DTEND;VALUE=DATE:20230825
DTSTAMP:20260424T023637
CREATED:20230628T155601Z
LAST-MODIFIED:20230628T155631Z
UID:1439-1692835200-1692921599@www.danslesvignes.fr
SUMMARY:Les Jeudis en Malepère
DESCRIPTION:Les Jeudis en Malepère \nLes vignerons(nes) de la Malepère vous reçoivent tous les jeudis de l’été dans leur caves et domaines pour une soirée conviviale autour de la dégustation de leurs vins. Restauration sur place et animation musicale. \nTOUS LES JEUDIS du 06/07 au 24/08 dans les villages de la Malepère\n– Restaurant Le Verre d’Un à Carcassonne. 19h00-23h00 \nwww.aop-malepere.fr\nwww.instagram.com/reel/Ct08yoYApJW/ \nPlus d’événements dans l’Aude : www.danslesvignes.fr/events/categorie/11-aude/
URL:https://www.danslesvignes.fr/event/les-jeudis-en-malepere-8/
LOCATION:CARCASSONNE\, 11000
CATEGORIES:11. AUDE
ATTACH;FMTTYPE=image/png:https://www.danslesvignes.fr/wp-content/uploads/2023/04/11_06_JEUDIS-MALEPERE.png
END:VEVENT
END:VCALENDAR