BEGIN:VCALENDAR
VERSION:2.0
PRODID:-//Dans les vignes - ECPv6.15.20//NONSGML v1.0//EN
CALSCALE:GREGORIAN
METHOD:PUBLISH
X-ORIGINAL-URL:https://www.danslesvignes.fr
X-WR-CALDESC:Évènements pour Dans les vignes
REFRESH-INTERVAL;VALUE=DURATION:PT1H
X-Robots-Tag:noindex
X-PUBLISHED-TTL:PT1H
BEGIN:VTIMEZONE
TZID:Europe/Paris
BEGIN:DAYLIGHT
TZOFFSETFROM:+0100
TZOFFSETTO:+0200
TZNAME:CEST
DTSTART:20220327T010000
END:DAYLIGHT
BEGIN:STANDARD
TZOFFSETFROM:+0200
TZOFFSETTO:+0100
TZNAME:CET
DTSTART:20221030T010000
END:STANDARD
BEGIN:DAYLIGHT
TZOFFSETFROM:+0100
TZOFFSETTO:+0200
TZNAME:CEST
DTSTART:20230326T010000
END:DAYLIGHT
BEGIN:STANDARD
TZOFFSETFROM:+0200
TZOFFSETTO:+0100
TZNAME:CET
DTSTART:20231029T010000
END:STANDARD
BEGIN:DAYLIGHT
TZOFFSETFROM:+0100
TZOFFSETTO:+0200
TZNAME:CEST
DTSTART:20240331T010000
END:DAYLIGHT
BEGIN:STANDARD
TZOFFSETFROM:+0200
TZOFFSETTO:+0100
TZNAME:CET
DTSTART:20241027T010000
END:STANDARD
END:VTIMEZONE
BEGIN:VEVENT
DTSTART;TZID=Europe/Paris:20230909T180000
DTEND;TZID=Europe/Paris:20230909T233000
DTSTAMP:20260424T004628
CREATED:20230828T051408Z
LAST-MODIFIED:20230904T140244Z
UID:1794-1694282400-1694302200@www.danslesvignes.fr
SUMMARY:Ripaille
DESCRIPTION:Ripaille \nL’événement où on mange beaucoup et bien.\nDe nombreux tapas élaborés et chouchoutés par Guillaume\, des cocktails mondialement célèbres et stylés réalisés par Aurélien\, un service hors norme par Aurélien (l’autre\, celui du Vins de Dagne) et surtout beaucoup de vin !\nLes 5 caves du regroupement « Made In Douzens »\, Colline de l’hirondelle\, Domaine de Fontenelles\, Domaine Sainte Marie des Crozes\, Domaine Régazel et le domaine Py vous proposeront une soirée riche en dégustations !\n\nPlace de l’Eglise à Douzens\nA partir de 18h00\nRéservation fortement conseillée\, sur www.vinsdedagne.fr\nwww.facebook.com \nPlus d’événements dans l’Aude : www.danslesvignes.fr/events/categorie/11-aude/
URL:https://www.danslesvignes.fr/event/ripaille/
LOCATION:DOUZENS\, 11700
CATEGORIES:11. AUDE
ATTACH;FMTTYPE=image/jpeg:https://www.danslesvignes.fr/wp-content/uploads/2023/08/11_09_09-RIPAILLE.jpeg
END:VEVENT
END:VCALENDAR