BEGIN:VCALENDAR
VERSION:2.0
PRODID:-//Dans les vignes - ECPv6.15.20//NONSGML v1.0//EN
CALSCALE:GREGORIAN
METHOD:PUBLISH
X-ORIGINAL-URL:https://www.danslesvignes.fr
X-WR-CALDESC:Évènements pour Dans les vignes
REFRESH-INTERVAL;VALUE=DURATION:PT1H
X-Robots-Tag:noindex
X-PUBLISHED-TTL:PT1H
BEGIN:VTIMEZONE
TZID:Europe/Paris
BEGIN:DAYLIGHT
TZOFFSETFROM:+0100
TZOFFSETTO:+0200
TZNAME:CEST
DTSTART:20230326T010000
END:DAYLIGHT
BEGIN:STANDARD
TZOFFSETFROM:+0200
TZOFFSETTO:+0100
TZNAME:CET
DTSTART:20231029T010000
END:STANDARD
BEGIN:DAYLIGHT
TZOFFSETFROM:+0100
TZOFFSETTO:+0200
TZNAME:CEST
DTSTART:20240331T010000
END:DAYLIGHT
BEGIN:STANDARD
TZOFFSETFROM:+0200
TZOFFSETTO:+0100
TZNAME:CET
DTSTART:20241027T010000
END:STANDARD
BEGIN:DAYLIGHT
TZOFFSETFROM:+0100
TZOFFSETTO:+0200
TZNAME:CEST
DTSTART:20250330T010000
END:DAYLIGHT
BEGIN:STANDARD
TZOFFSETFROM:+0200
TZOFFSETTO:+0100
TZNAME:CET
DTSTART:20251026T010000
END:STANDARD
END:VTIMEZONE
BEGIN:VEVENT
DTSTART;VALUE=DATE:20240413
DTEND;VALUE=DATE:20240414
DTSTAMP:20260423T124743
CREATED:20240216T123611Z
LAST-MODIFIED:20240308T143450Z
UID:2257-1712966400-1713052799@www.danslesvignes.fr
SUMMARY:Toques et Clochers
DESCRIPTION:Toques et Clochers \nRetour au village 20 ans plus tard pour une fête populaire : dégustations des chardonnays de nos terroirs\, stands de restauration\, animations musicales et expositions. Un moment de partage inoubliable ! \nOrganisé par Sieur d’Arques depuis 1990\, Toques et Clochers c’est avant tout une vente aux enchères caritative d’une centaine de barriques dont une partie des bénéfices sert à la rénovation d’un des 42 Clochers des villages de l’aire d’appellation Limoux\, contribuant ainsi à la préservation du patrimoine historique et architectural local.\nAprès la vente aux enchères du vendredi réservée aux professionnels\, le samedi est une journée de fête autour du vin\, ouverte au grand public\, qui permet d’unir curieux et professionnels gastronomes\, autour des caveaux de dégustation et des animations musicales organisées dans le village de Ladern-sur-Lauquet. Chacun peut ainsi découvrir les prouesses architecturales\, romanes ou gothiques du patrimoine audois au cours de l’événement. \n5€ avec verre dégustation \nwww.sieurdarques.com \nPlus d’événements en Occitanie : www.danslesvignes.fr
URL:https://www.danslesvignes.fr/event/toques-et-clochers-2/
LOCATION:LADERN-SUR-LAUQUET\, 11250
CATEGORIES:11. AUDE
ATTACH;FMTTYPE=image/jpeg:https://www.danslesvignes.fr/wp-content/uploads/2023/03/logotoquesq.jpg
END:VEVENT
END:VCALENDAR