BEGIN:VCALENDAR
VERSION:2.0
PRODID:-//Dans les vignes - ECPv6.15.20//NONSGML v1.0//EN
CALSCALE:GREGORIAN
METHOD:PUBLISH
X-WR-CALNAME:Dans les vignes
X-ORIGINAL-URL:https://www.danslesvignes.fr
X-WR-CALDESC:Évènements pour Dans les vignes
REFRESH-INTERVAL;VALUE=DURATION:PT1H
X-Robots-Tag:noindex
X-PUBLISHED-TTL:PT1H
BEGIN:VTIMEZONE
TZID:Europe/Paris
BEGIN:DAYLIGHT
TZOFFSETFROM:+0100
TZOFFSETTO:+0200
TZNAME:CEST
DTSTART:20230326T010000
END:DAYLIGHT
BEGIN:STANDARD
TZOFFSETFROM:+0200
TZOFFSETTO:+0100
TZNAME:CET
DTSTART:20231029T010000
END:STANDARD
BEGIN:DAYLIGHT
TZOFFSETFROM:+0100
TZOFFSETTO:+0200
TZNAME:CEST
DTSTART:20240331T010000
END:DAYLIGHT
BEGIN:STANDARD
TZOFFSETFROM:+0200
TZOFFSETTO:+0100
TZNAME:CET
DTSTART:20241027T010000
END:STANDARD
BEGIN:DAYLIGHT
TZOFFSETFROM:+0100
TZOFFSETTO:+0200
TZNAME:CEST
DTSTART:20250330T010000
END:DAYLIGHT
BEGIN:STANDARD
TZOFFSETFROM:+0200
TZOFFSETTO:+0100
TZNAME:CET
DTSTART:20251026T010000
END:STANDARD
END:VTIMEZONE
BEGIN:VEVENT
DTSTART;TZID=Europe/Paris:20240705T190000
DTEND;TZID=Europe/Paris:20240705T230000
DTSTAMP:20260423T080333
CREATED:20240412T172002Z
LAST-MODIFIED:20240620T141115Z
UID:2454-1720206000-1720220400@www.danslesvignes.fr
SUMMARY:Guinguette Made in Douzens
DESCRIPTION:Guinguette Made in Douzens \nSoirée cabaret populaire\, le plus souvent en plein air\, où l’on va déguster les vins des 5 domaines du village\, manger et danser. \nDomaine Regazel\n19h00-23h00 \nwww.facebook.com/madeindouzens \nPlus d’événements en Occitanie : www.danslesvignes.fr \n 
URL:https://www.danslesvignes.fr/event/guinguette-made-in-douzens/
LOCATION:DOUZENS\, 11700
CATEGORIES:11. AUDE
ATTACH;FMTTYPE=image/jpeg:https://www.danslesvignes.fr/wp-content/uploads/2024/04/11_07_05-DOUZENS.jpeg
END:VEVENT
BEGIN:VEVENT
DTSTART;TZID=Europe/Paris:20240705T190000
DTEND;TZID=Europe/Paris:20240705T230000
DTSTAMP:20260423T080333
CREATED:20240625T060624Z
LAST-MODIFIED:20240625T061205Z
UID:2693-1720206000-1720220400@www.danslesvignes.fr
SUMMARY:L'été en Corbières
DESCRIPTION:Tout l’été\, les vignerons de l’AOC Corbières vous donnent rendez-vous dans leurs domaines répartis sur l’ensemble du territoire pour vous faire partager un moment de convivialité. Au programme : dégustations de vins\, musique et convivialité ! Ambiance musicale et possibilité de se restaurer sur place selon les domaines.\nAvec les domaines :\nDOMAINE RÉGAZEL\, DOMAINE PY\, DOMAINE SAINTE MARIE DES\nCROZES\, DOMAINE DE FONTENELLES\nAnimation musicale avec Duo Gunshot \nPlace de l’église à Douzens \nwww.vins-corbieres.com\nwww.facebook.com \nPlus d’événements en Occitanie : www.danslesvignes.fr
URL:https://www.danslesvignes.fr/event/lete-en-corbieres-6/
LOCATION:DOUZENS\, 11700
CATEGORIES:11. AUDE
ATTACH;FMTTYPE=image/jpeg:https://www.danslesvignes.fr/wp-content/uploads/2024/06/11_07_05-CORBIERES.jpeg
END:VEVENT
BEGIN:VEVENT
DTSTART;TZID=Europe/Paris:20240706T190000
DTEND;TZID=Europe/Paris:20240706T230000
DTSTAMP:20260423T080333
CREATED:20240625T061134Z
LAST-MODIFIED:20240625T061134Z
UID:2697-1720292400-1720306800@www.danslesvignes.fr
SUMMARY:L'été en Corbières
DESCRIPTION:Tout l’été\, les vignerons de l’AOC Corbières vous donnent rendez-vous dans leurs domaines répartis sur l’ensemble du territoire pour vous faire partager un moment de convivialité. Au programme : dégustations de vins\, musique et convivialité ! Ambiance musicale et possibilité de se restaurer sur place selon les domaines.\nAvec les domaines :\nCave coopérative de Leucate\, JM Boulard\nAnimation musicale avec Groove Factory \nBoutique des Vignerons de Cap Leucate \nwww.vins-corbieres.com\nwww.facebook.com \nPlus d’événements en Occitanie : www.danslesvignes.fr
URL:https://www.danslesvignes.fr/event/lete-en-corbieres-7/
LOCATION:ROQUEFORT-LES-CORBIERES\, 11540
CATEGORIES:11. AUDE
ATTACH;FMTTYPE=image/jpeg:https://www.danslesvignes.fr/wp-content/uploads/2024/06/11_07_05-CORBIERES.jpeg
END:VEVENT
BEGIN:VEVENT
DTSTART;TZID=Europe/Paris:20240711T190000
DTEND;TZID=Europe/Paris:20240711T230000
DTSTAMP:20260423T080333
CREATED:20240625T061831Z
LAST-MODIFIED:20240625T061831Z
UID:2702-1720724400-1720738800@www.danslesvignes.fr
SUMMARY:L'été en Corbières
DESCRIPTION:Tout l’été\, les vignerons de l’AOC Corbières vous donnent rendez-vous dans leurs domaines répartis sur l’ensemble du territoire pour vous faire partager un moment de convivialité. Au programme : dégustations de vins\, musique et convivialité ! Ambiance musicale et possibilité de se restaurer sur place selon les domaines.\nAvec les domaines :\nChâteau de Lastours\, Château Maylandie\, Château Saint-Estève\nAnimation musicale avec Duo Mar \nChâteau de Lastours \nwww.vins-corbieres.com\nwww.facebook.com \nPlus d’événements en Occitanie : www.danslesvignes.fr
URL:https://www.danslesvignes.fr/event/lete-en-corbieres-8/
LOCATION:PORTEL-DES-CORBIERES\, 11490
CATEGORIES:11. AUDE
ATTACH;FMTTYPE=image/jpeg:https://www.danslesvignes.fr/wp-content/uploads/2024/06/11_07_05-CORBIERES.jpeg
END:VEVENT
BEGIN:VEVENT
DTSTART;TZID=Europe/Paris:20240713T190000
DTEND;TZID=Europe/Paris:20240713T230000
DTSTAMP:20260423T080333
CREATED:20240625T062119Z
LAST-MODIFIED:20240625T062119Z
UID:2705-1720897200-1720911600@www.danslesvignes.fr
SUMMARY:L'été en Corbières
DESCRIPTION:Tout l’été\, les vignerons de l’AOC Corbières vous donnent rendez-vous dans leurs domaines répartis sur l’ensemble du territoire pour vous faire partager un moment de convivialité. Au programme : dégustations de vins\, musique et convivialité ! Ambiance musicale et possibilité de se restaurer sur place selon les domaines.\nAvec les domaines :\nChâteau de Cicéron\, Terre d’Expression\nAnimation musicale avec Trio Bergins \nChâteau de Puceron \nwww.vins-corbieres.com\nwww.facebook.com \nPlus d’événements en Occitanie : www.danslesvignes.fr
URL:https://www.danslesvignes.fr/event/lete-en-corbieres-9/
LOCATION:RIBAUTE\, 11220
CATEGORIES:11. AUDE
ATTACH;FMTTYPE=image/jpeg:https://www.danslesvignes.fr/wp-content/uploads/2024/06/11_07_05-CORBIERES.jpeg
END:VEVENT
BEGIN:VEVENT
DTSTART;TZID=Europe/Paris:20240714T190000
DTEND;TZID=Europe/Paris:20240714T190000
DTSTAMP:20260423T080333
CREATED:20240711T094721Z
LAST-MODIFIED:20240711T094721Z
UID:2889-1720983600-1720983600@www.danslesvignes.fr
SUMMARY:Aude aux vins
DESCRIPTION:COMPLET _ Soirée découverte des vins par les vignerons de l’Aude\, accompagnée d’une vue imprenable sur feu d’artifice de la Cité.\n– Dégustations et vente directe de vins\n– DJ\n– Restauration sur place (Food trucks)\n– Parking gratuit \nLycée Charlemagne\n15€ entrée + 3 dégustations \nwww.facebook.com\nPlus d’événements en Occitanie : www.danslesvignes.fr
URL:https://www.danslesvignes.fr/event/aude-aux-vins-4/
LOCATION:CARCASSONNE\, 11000
CATEGORIES:11. AUDE
ATTACH;FMTTYPE=image/jpeg:https://www.danslesvignes.fr/wp-content/uploads/2024/07/11_07_14-AUDE-AUX-VINS.jpeg
END:VEVENT
BEGIN:VEVENT
DTSTART;TZID=Europe/Paris:20240717T190000
DTEND;TZID=Europe/Paris:20240717T230000
DTSTAMP:20260423T080333
CREATED:20240625T062433Z
LAST-MODIFIED:20240625T062520Z
UID:2708-1721242800-1721257200@www.danslesvignes.fr
SUMMARY:L'été en Corbières
DESCRIPTION:Tout l’été\, les vignerons de l’AOC Corbières vous donnent rendez-vous dans leurs domaines répartis sur l’ensemble du territoire pour vous faire partager un moment de convivialité. Au programme : dégustations de vins\, musique et convivialité ! Ambiance musicale et possibilité de se restaurer sur place selon les domaines.\nAvec les domaines :\nClos Canos\, Château de Saint Eutrope\, Château Hauteirve le Haut\nAnimation musicale avec Rythm & Smile \nPlace du village  de Luc sur Orbieu \nwww.vins-corbieres.com\nwww.facebook.com \nPlus d’événements en Occitanie : www.danslesvignes.fr
URL:https://www.danslesvignes.fr/event/lete-en-corbieres-10/
LOCATION:LUC-SUR-ORBIEU\, 11200
CATEGORIES:11. AUDE
ATTACH;FMTTYPE=image/jpeg:https://www.danslesvignes.fr/wp-content/uploads/2024/06/11_07_05-CORBIERES.jpeg
END:VEVENT
BEGIN:VEVENT
DTSTART;TZID=Europe/Paris:20240718T190000
DTEND;TZID=Europe/Paris:20240718T230000
DTSTAMP:20260423T080333
CREATED:20240625T062846Z
LAST-MODIFIED:20240625T062846Z
UID:2712-1721329200-1721343600@www.danslesvignes.fr
SUMMARY:L'été en Corbières
DESCRIPTION:Tout l’été\, les vignerons de l’AOC Corbières vous donnent rendez-vous dans leurs domaines répartis sur l’ensemble du territoire pour vous faire partager un moment de convivialité. Au programme : dégustations de vins\, musique et convivialité ! Ambiance musicale et possibilité de se restaurer sur place selon les domaines.\nAvec les domaines :\nDomaine de Mingraut\, Domaine Les Cascades\, Domaine Sainte Marie d’Albas\nAnimation musicale avec Barbar’oc \nAU Domaine de Mingraut à Fontcouverte \nwww.vins-corbieres.com\nwww.facebook.com \nPlus d’événements en Occitanie : www.danslesvignes.fr
URL:https://www.danslesvignes.fr/event/lete-en-corbieres-11/
LOCATION:FONTCOUVERTE\, 11700
CATEGORIES:11. AUDE
ATTACH;FMTTYPE=image/jpeg:https://www.danslesvignes.fr/wp-content/uploads/2024/06/11_07_05-CORBIERES.jpeg
END:VEVENT
BEGIN:VEVENT
DTSTART;TZID=Europe/Paris:20240720T190000
DTEND;TZID=Europe/Paris:20240720T230000
DTSTAMP:20260423T080333
CREATED:20240625T063315Z
LAST-MODIFIED:20240625T063315Z
UID:2714-1721502000-1721516400@www.danslesvignes.fr
SUMMARY:L'été en Corbières
DESCRIPTION:Tout l’été\, les vignerons de l’AOC Corbières vous donnent rendez-vous dans leurs domaines répartis sur l’ensemble du territoire pour vous faire partager un moment de convivialité. Au programme : dégustations de vins\, musique et convivialité ! Ambiance musicale et possibilité de se restaurer sur place selon les domaines.\nAvec les domaines :\nDomaine de Roquenegade\, Le Clos Touchant\nAnimation musicale avec Berkeley Wright \nAu Domaine de Roquenegade \nwww.vins-corbieres.com\nwww.facebook.com \nPlus d’événements en Occitanie : www.danslesvignes.fr
URL:https://www.danslesvignes.fr/event/lete-en-corbieres-12/
LOCATION:PRADELLES-EN-VAL\, 11220
CATEGORIES:11. AUDE
ATTACH;FMTTYPE=image/jpeg:https://www.danslesvignes.fr/wp-content/uploads/2024/06/11_07_05-CORBIERES.jpeg
END:VEVENT
BEGIN:VEVENT
DTSTART;TZID=Europe/Paris:20240723T190000
DTEND;TZID=Europe/Paris:20240723T220000
DTSTAMP:20260423T080333
CREATED:20240711T090929Z
LAST-MODIFIED:20240711T093053Z
UID:2871-1721761200-1721772000@www.danslesvignes.fr
SUMMARY:Aude aux vins
DESCRIPTION:Cet été\, les vignerons audois vous font découvrir leurs vins à Villesèque-des-Corbières lors de soirées dégustations. Rendez-vous le 23 juillet pour déguster les vins IGP de l’Aude\, proposés par nos différents producteurs. Au programme :\n– Dégustations et vente directe de vins\n– Musique\n– Restauration sur place\n\nA partir de 19h00\n\n\nChâteau de Bonnafous\n\n\nwww.facebook.com\nPlus d’événements en Occitanie : www.danslesvignes.fr
URL:https://www.danslesvignes.fr/event/aude-aux-vins-2/
LOCATION:VILLESEQUE-DES-CORBIERES\, 11360
CATEGORIES:11. AUDE
ATTACH;FMTTYPE=image/jpeg:https://www.danslesvignes.fr/wp-content/uploads/2024/07/11_07_23-AUDE-AUX-VINS.jpeg
END:VEVENT
BEGIN:VEVENT
DTSTART;TZID=Europe/Paris:20240723T190000
DTEND;TZID=Europe/Paris:20240723T233000
DTSTAMP:20260423T080333
CREATED:20240712T093911Z
LAST-MODIFIED:20240712T094317Z
UID:2905-1721761200-1721777400@www.danslesvignes.fr
SUMMARY:Le Cru Boutenac fait son cinéma
DESCRIPTION:Le Cru Boutenac et ses vignerons seront ravis de partager un bon moment avec vous lors de la projection en plein air du film « Premiers crus » de Jérôme Lemaire. Rencontre avec les vignerons (17 domaines)\, vente de vins\, food trucks et musique.\n\n\nHoraires : 19h – Minuit (Animation musicale\, Restauration & Dégustation)\nProjection cinéma : 22h30\n\n\nLa Projection aura lieu dans la cour du Château. Les vignerons seront installés individuellement sur des barriques dans l’allée du château. Vous trouverez sur le parking du Château de Boutenac un espace restauration avec 4 foodtrucks : Glaces Audeline\, Traiteur Georges Lemarié\, la Ferme de Couize et le Petit Bangkok.\n\n\nOFFRE VINS :\n– 10 € comprenant le verre pour déguster et 2 verres de vin au choix.\no Tarif unique au verre (rouge\, blanc ou rosé) : 4 €\no Tarif unique bouteille (rouge\, blanc ou rosé) : 20 €\n– Jus de fruits offerts pour les enfants\n\n\n\nEntrée libre\nChâteau de Boutenac\n\nwww.cruboutenac.com\nPlus d’événements en Occitanie : www.danslesvignes.fr
URL:https://www.danslesvignes.fr/event/le-cru-boutenac-fait-son-cinema-2/
LOCATION:BOUTENAC\, 11200
CATEGORIES:11. AUDE
ATTACH;FMTTYPE=image/jpeg:https://www.danslesvignes.fr/wp-content/uploads/2024/07/11_07_23-BOUTENAC.jpeg
END:VEVENT
BEGIN:VEVENT
DTSTART;TZID=Europe/Paris:20240726T190000
DTEND;TZID=Europe/Paris:20240726T230000
DTSTAMP:20260423T080333
CREATED:20240625T063557Z
LAST-MODIFIED:20240625T063557Z
UID:2717-1722020400-1722034800@www.danslesvignes.fr
SUMMARY:L'été en Corbières
DESCRIPTION:Tout l’été\, les vignerons de l’AOC Corbières vous donnent rendez-vous dans leurs domaines répartis sur l’ensemble du territoire pour vous faire partager un moment de convivialité. Au programme : dégustations de vins\, musique et convivialité ! Ambiance musicale et possibilité de se restaurer sur place selon les domaines.\nAvec les domaines :\nChâteau du Vieux Parc\, Le Chai des Vignerons\, Château Grand Moulin\nAnimation musicale avec Voodoo Child \nAu Château du Vieux Parc \nwww.vins-corbieres.com\nwww.facebook.com \nPlus d’événements en Occitanie : www.danslesvignes.fr
URL:https://www.danslesvignes.fr/event/lete-en-corbieres-13/
LOCATION:CONILHAC-CORBIERES\, 11200
CATEGORIES:11. AUDE
ATTACH;FMTTYPE=image/jpeg:https://www.danslesvignes.fr/wp-content/uploads/2024/06/11_07_05-CORBIERES.jpeg
END:VEVENT
END:VCALENDAR