BEGIN:VCALENDAR
VERSION:2.0
PRODID:-//Dans les vignes - ECPv6.15.20//NONSGML v1.0//EN
CALSCALE:GREGORIAN
METHOD:PUBLISH
X-ORIGINAL-URL:https://www.danslesvignes.fr
X-WR-CALDESC:Évènements pour Dans les vignes
REFRESH-INTERVAL;VALUE=DURATION:PT1H
X-Robots-Tag:noindex
X-PUBLISHED-TTL:PT1H
BEGIN:VTIMEZONE
TZID:Europe/Paris
BEGIN:DAYLIGHT
TZOFFSETFROM:+0100
TZOFFSETTO:+0200
TZNAME:CEST
DTSTART:20230326T010000
END:DAYLIGHT
BEGIN:STANDARD
TZOFFSETFROM:+0200
TZOFFSETTO:+0100
TZNAME:CET
DTSTART:20231029T010000
END:STANDARD
BEGIN:DAYLIGHT
TZOFFSETFROM:+0100
TZOFFSETTO:+0200
TZNAME:CEST
DTSTART:20240331T010000
END:DAYLIGHT
BEGIN:STANDARD
TZOFFSETFROM:+0200
TZOFFSETTO:+0100
TZNAME:CET
DTSTART:20241027T010000
END:STANDARD
BEGIN:DAYLIGHT
TZOFFSETFROM:+0100
TZOFFSETTO:+0200
TZNAME:CEST
DTSTART:20250330T010000
END:DAYLIGHT
BEGIN:STANDARD
TZOFFSETFROM:+0200
TZOFFSETTO:+0100
TZNAME:CET
DTSTART:20251026T010000
END:STANDARD
END:VTIMEZONE
BEGIN:VEVENT
DTSTART;TZID=Europe/Paris:20240801T190000
DTEND;TZID=Europe/Paris:20240801T230000
DTSTAMP:20260423T063307
CREATED:20240625T063904Z
LAST-MODIFIED:20240625T063904Z
UID:2721-1722538800-1722553200@www.danslesvignes.fr
SUMMARY:L'été en Corbières
DESCRIPTION:Tout l’été\, les vignerons de l’AOC Corbières vous donnent rendez-vous dans leurs domaines répartis sur l’ensemble du territoire pour vous faire partager un moment de convivialité. Au programme : dégustations de vins\, musique et convivialité ! Ambiance musicale et possibilité de se restaurer sur place selon les domaines.\nAvec les domaines :\nDomaine Calmel & Joseph\, Château Ollieux Romanis\nAnimation musicale avec What Else \nAu Domaine Calmel & Joseph \nwww.vins-corbieres.com\nwww.facebook.com \nPlus d’événements en Occitanie : www.danslesvignes.fr
URL:https://www.danslesvignes.fr/event/lete-en-corbieres-14/
LOCATION:MONTIRAT\, 11800
CATEGORIES:11. AUDE
ATTACH;FMTTYPE=image/jpeg:https://www.danslesvignes.fr/wp-content/uploads/2024/06/11_07_05-CORBIERES.jpeg
END:VEVENT
BEGIN:VEVENT
DTSTART;TZID=Europe/Paris:20240807T190000
DTEND;TZID=Europe/Paris:20240807T220000
DTSTAMP:20260423T063307
CREATED:20240711T093402Z
LAST-MODIFIED:20240711T093402Z
UID:2885-1723057200-1723068000@www.danslesvignes.fr
SUMMARY:Aude aux vins
DESCRIPTION:Cet été\, les vignerons audois vous font découvrir leurs vins à Villesèque-des-Corbières lors de soirées dégustations. Rendez-vous le 07 août pour déguster les vins IGP de l’Aude\, proposés par nos différents producteurs. Au programme :\n– Dégustations et vente directe de vins\n– Musique\n– Restauration sur place\n\nA partir de 19h00\n\n\nChâteau de Bonnafous\n\n\nwww.facebook.com\nPlus d’événements en Occitanie : www.danslesvignes.fr
URL:https://www.danslesvignes.fr/event/aude-aux-vins/
LOCATION:VILLESEQUE-DES-CORBIERES\, 11360
CATEGORIES:11. AUDE
ATTACH;FMTTYPE=image/jpeg:https://www.danslesvignes.fr/wp-content/uploads/2024/07/11_07_23-AUDE-AUX-VINS.jpeg
END:VEVENT
BEGIN:VEVENT
DTSTART;VALUE=DATE:20240814
DTEND;VALUE=DATE:20240815
DTSTAMP:20260423T063307
CREATED:20240806T075151Z
LAST-MODIFIED:20240806T075151Z
UID:3062-1723593600-1723679999@www.danslesvignes.fr
SUMMARY:Sea\, Grapes & Sun
DESCRIPTION:Sea\, Grapes & Sun \nLe Foodtruck des vignerons du Pays d’Oc se déplace à la rencontre d’épicurieux en vacances !\nAu bord de mer\, du 5 au 16 aout 2024\, ce sont 11 villes qui accueilleront cette tournée estivale des Vins Pays d’Oc IGP. De l’Aude\, à l’Hérault en passant par le Gard.\nVenez découvrir les cuvées ambassadrices du territoire et les meilleurs accords mets & vins. Toutes les animations sont gratuites !\n\nDe 11h00 à 13h00 et de 18h00 à 22h00.\nVoici les dates et les destinations de la tournée :\nLundi 5 août – Le Grau-du-Roi\, Parvis de la MairieMardi 6 août – Frontignan\, Place VaubanMercredi 7 août – Carnon Plage\, Place CassanJeudi 8 août – Valras Plage\, Place PanisVendredi 9 août – Sète\, Place Roger ThéronSamedi 10 août – Marseillan\, Liaison entre la plage d’Honneur et l’av de la MéditerranéeLundi 12 août – Le Cap d’Agde\, Place du MôleMardi 13 août – Portiragnes\, place du BicentenaireMercredi 14 août – Narbonne\, Terrasse de la mer à Narbonne PlageJeudi 15 août – La Grande-Motte\, sur le marchéVendredi 16 août – Port-la-Nouvelle\, Place Paul Valéry\nChaque jour\, un restaurateur sera mis à l’honneur en proposant des bouchées apéritives qui accompagneront les cuvées Pays d’Oc IGP.\n\nPour plus d’informations : www.paysdoc-wines.com/seagrapessun24 \nPlus d’événements en Occitanie : www.danslesvignes.fr
URL:https://www.danslesvignes.fr/event/sea-grapes-sun-8/
LOCATION:NARBONNE\, 11100
CATEGORIES:11. AUDE
ATTACH;FMTTYPE=image/jpeg:https://www.danslesvignes.fr/wp-content/uploads/2024/08/34_08_05-SEA-GRAPES-SUN.jpeg
END:VEVENT
BEGIN:VEVENT
DTSTART;VALUE=DATE:20240816
DTEND;VALUE=DATE:20240817
DTSTAMP:20260423T063307
CREATED:20240806T075547Z
LAST-MODIFIED:20240806T075547Z
UID:3067-1723766400-1723852799@www.danslesvignes.fr
SUMMARY:Sea\, Grapes & Sun
DESCRIPTION:Sea\, Grapes & Sun \nLe Foodtruck des vignerons du Pays d’Oc se déplace à la rencontre d’épicurieux en vacances !\nAu bord de mer\, du 5 au 16 aout 2024\, ce sont 11 villes qui accueilleront cette tournée estivale des Vins Pays d’Oc IGP. De l’Aude\, à l’Hérault en passant par le Gard.\nVenez découvrir les cuvées ambassadrices du territoire et les meilleurs accords mets & vins. Toutes les animations sont gratuites !\n\nDe 11h00 à 13h00 et de 18h00 à 22h00.\nVoici les dates et les destinations de la tournée :\nLundi 5 août – Le Grau-du-Roi\, Parvis de la MairieMardi 6 août – Frontignan\, Place VaubanMercredi 7 août – Carnon Plage\, Place CassanJeudi 8 août – Valras Plage\, Place PanisVendredi 9 août – Sète\, Place Roger ThéronSamedi 10 août – Marseillan\, Liaison entre la plage d’Honneur et l’av de la MéditerranéeLundi 12 août – Le Cap d’Agde\, Place du MôleMardi 13 août – Portiragnes\, place du BicentenaireMercredi 14 août – Narbonne\, Terrasse de la mer à Narbonne PlageJeudi 15 août – La Grande-Motte\, sur le marchéVendredi 16 août – Port-la-Nouvelle\, Place Paul Valéry\nChaque jour\, un restaurateur sera mis à l’honneur en proposant des bouchées apéritives qui accompagneront les cuvées Pays d’Oc IGP.\n\nPour plus d’informations : www.paysdoc-wines.com/seagrapessun24 \nPlus d’événements en Occitanie : www.danslesvignes.fr
URL:https://www.danslesvignes.fr/event/sea-grapes-sun-10/
LOCATION:PORT LA NOUVELLE\, 11210
CATEGORIES:11. AUDE
ATTACH;FMTTYPE=image/jpeg:https://www.danslesvignes.fr/wp-content/uploads/2024/08/34_08_05-SEA-GRAPES-SUN.jpeg
END:VEVENT
BEGIN:VEVENT
DTSTART;TZID=Europe/Paris:20240820T190000
DTEND;TZID=Europe/Paris:20240820T220000
DTSTAMP:20260423T063307
CREATED:20240711T093706Z
LAST-MODIFIED:20240711T093706Z
UID:2887-1724180400-1724191200@www.danslesvignes.fr
SUMMARY:Aude aux vins
DESCRIPTION:Cet été\, les vignerons audois vous font découvrir leurs vins à Villesèque-des-Corbières lors de soirées dégustations. Rendez-vous le 20 août pour déguster les vins IGP de l’Aude\, proposés par nos différents producteurs. Au programme :\n– Dégustations et vente directe de vins\n– Musique\n– Restauration sur place\n\nA partir de 19h00\n\n\nChâteau de Bonnafous\n\n\nwww.facebook.com\nPlus d’événements en Occitanie : www.danslesvignes.fr
URL:https://www.danslesvignes.fr/event/aude-aux-vins-3/
LOCATION:VILLESEQUE-DES-CORBIERES\, 11360
CATEGORIES:11. AUDE
ATTACH;FMTTYPE=image/jpeg:https://www.danslesvignes.fr/wp-content/uploads/2024/07/11_07_23-AUDE-AUX-VINS.jpeg
END:VEVENT
BEGIN:VEVENT
DTSTART;TZID=Europe/Paris:20240822T190000
DTEND;TZID=Europe/Paris:20240822T230000
DTSTAMP:20260423T063307
CREATED:20240625T064316Z
LAST-MODIFIED:20240625T064316Z
UID:2724-1724353200-1724367600@www.danslesvignes.fr
SUMMARY:L'été en Corbières
DESCRIPTION:Tout l’été\, les vignerons de l’AOC Corbières vous donnent rendez-vous dans leurs domaines répartis sur l’ensemble du territoire pour vous faire partager un moment de convivialité. Au programme : dégustations de vins\, musique et convivialité ! Ambiance musicale et possibilité de se restaurer sur place selon les domaines.\nAvec les domaines :\nLes Vins de Fontfroide\, Domaine de la Cendrillon\, Château d’Aussières\nAnimation musicale avec Son Caribe \nAu Domaine Saint Julien de Septime \nwww.vins-corbieres.com\nwww.facebook.com \nPlus d’événements en Occitanie : www.danslesvignes.fr
URL:https://www.danslesvignes.fr/event/lete-en-corbieres-15/
LOCATION:NARBONNE\, 11100
CATEGORIES:11. AUDE
ATTACH;FMTTYPE=image/jpeg:https://www.danslesvignes.fr/wp-content/uploads/2024/06/11_07_05-CORBIERES.jpeg
END:VEVENT
BEGIN:VEVENT
DTSTART;TZID=Europe/Paris:20240824T190000
DTEND;TZID=Europe/Paris:20240824T230000
DTSTAMP:20260423T063307
CREATED:20240625T064942Z
LAST-MODIFIED:20240625T064942Z
UID:2728-1724526000-1724540400@www.danslesvignes.fr
SUMMARY:L'été en Corbières
DESCRIPTION:Tout l’été\, les vignerons de l’AOC Corbières vous donnent rendez-vous dans leurs domaines répartis sur l’ensemble du territoire pour vous faire partager un moment de convivialité. Au programme : dégustations de vins\, musique et convivialité ! Ambiance musicale et possibilité de se restaurer sur place selon les domaines.\nAvec les domaines :\nMas Osmose\, Château Etang des Colombes\, Château de Luc\, Clos du Cers\, Château du Grand Caumont\nAnimation musicale avec JM Solo \nAu Domaine Plaisance \nwww.vins-corbieres.com\nwww.facebook.com \nPlus d’événements en Occitanie : www.danslesvignes.fr
URL:https://www.danslesvignes.fr/event/lete-en-corbieres-16/
LOCATION:LEZIGNAN-CORBIERES\, 11200
CATEGORIES:11. AUDE
ATTACH;FMTTYPE=image/jpeg:https://www.danslesvignes.fr/wp-content/uploads/2024/06/11_07_05-CORBIERES.jpeg
END:VEVENT
END:VCALENDAR