BEGIN:VCALENDAR
VERSION:2.0
PRODID:-//Dans les vignes - ECPv6.15.20//NONSGML v1.0//EN
CALSCALE:GREGORIAN
METHOD:PUBLISH
X-WR-CALNAME:Dans les vignes
X-ORIGINAL-URL:https://www.danslesvignes.fr
X-WR-CALDESC:Évènements pour Dans les vignes
REFRESH-INTERVAL;VALUE=DURATION:PT1H
X-Robots-Tag:noindex
X-PUBLISHED-TTL:PT1H
BEGIN:VTIMEZONE
TZID:Europe/Paris
BEGIN:DAYLIGHT
TZOFFSETFROM:+0100
TZOFFSETTO:+0200
TZNAME:CEST
DTSTART:20230326T010000
END:DAYLIGHT
BEGIN:STANDARD
TZOFFSETFROM:+0200
TZOFFSETTO:+0100
TZNAME:CET
DTSTART:20231029T010000
END:STANDARD
BEGIN:DAYLIGHT
TZOFFSETFROM:+0100
TZOFFSETTO:+0200
TZNAME:CEST
DTSTART:20240331T010000
END:DAYLIGHT
BEGIN:STANDARD
TZOFFSETFROM:+0200
TZOFFSETTO:+0100
TZNAME:CET
DTSTART:20241027T010000
END:STANDARD
BEGIN:DAYLIGHT
TZOFFSETFROM:+0100
TZOFFSETTO:+0200
TZNAME:CEST
DTSTART:20250330T010000
END:DAYLIGHT
BEGIN:STANDARD
TZOFFSETFROM:+0200
TZOFFSETTO:+0100
TZNAME:CET
DTSTART:20251026T010000
END:STANDARD
END:VTIMEZONE
BEGIN:VEVENT
DTSTART;TZID=Europe/Paris:20241108T180000
DTEND;TZID=Europe/Paris:20241108T230000
DTSTAMP:20260423T013148
CREATED:20241008T084638Z
LAST-MODIFIED:20241008T084810Z
UID:3179-1731088800-1731106800@www.danslesvignes.fr
SUMMARY:Narbo Vina
DESCRIPTION:Narbo Vina \nVive un moment de dégustation unique dédiée à la découverte culturelle et à la dégustation des vins de 12 vignerons de l’AOC La Clape\, en partenariat avec le Musée Narbovia et le restaurant Cadence.\nAu programme :\n18h00 à 19h30 : Visite offerte du Musée Narbo Via – accessible uniquement avec votre entrée à la dégustation (attention dernière entrée au musée à 19h00)\n19h00 à 21h30 : Dégustation auprès de 12 vignerons en accord avec les mets préparés par le Restaurant Cadence\nTarif unique : 45€ par personne\, inscription obligatoire. \n21h30 -23h00 : Bar à vins éphémère AOC La Clape (bouteilles au tarif caveau)\nLe tout animé par le groupe de musique Ezy Vibe !\nParking de l’Aréna à 2 min à pieds. \nhttps://reservations.languedoc-aoc.com \nPlus d’événements en Occitanie : www.danslesvignes.fr \n 
URL:https://www.danslesvignes.fr/event/narbo-vina-2/
LOCATION:NARBONNE\, 11100
CATEGORIES:11. AUDE
ATTACH;FMTTYPE=image/jpeg:https://www.danslesvignes.fr/wp-content/uploads/2024/10/11_11_08-NARBO-VINA.jpeg
END:VEVENT
END:VCALENDAR