BEGIN:VCALENDAR
VERSION:2.0
PRODID:-//Dans les vignes - ECPv6.15.20//NONSGML v1.0//EN
CALSCALE:GREGORIAN
METHOD:PUBLISH
X-WR-CALNAME:Dans les vignes
X-ORIGINAL-URL:https://www.danslesvignes.fr
X-WR-CALDESC:Évènements pour Dans les vignes
REFRESH-INTERVAL;VALUE=DURATION:PT1H
X-Robots-Tag:noindex
X-PUBLISHED-TTL:PT1H
BEGIN:VTIMEZONE
TZID:Europe/Paris
BEGIN:DAYLIGHT
TZOFFSETFROM:+0100
TZOFFSETTO:+0200
TZNAME:CEST
DTSTART:20240331T010000
END:DAYLIGHT
BEGIN:STANDARD
TZOFFSETFROM:+0200
TZOFFSETTO:+0100
TZNAME:CET
DTSTART:20241027T010000
END:STANDARD
BEGIN:DAYLIGHT
TZOFFSETFROM:+0100
TZOFFSETTO:+0200
TZNAME:CEST
DTSTART:20250330T010000
END:DAYLIGHT
BEGIN:STANDARD
TZOFFSETFROM:+0200
TZOFFSETTO:+0100
TZNAME:CET
DTSTART:20251026T010000
END:STANDARD
BEGIN:DAYLIGHT
TZOFFSETFROM:+0100
TZOFFSETTO:+0200
TZNAME:CEST
DTSTART:20260329T010000
END:DAYLIGHT
BEGIN:STANDARD
TZOFFSETFROM:+0200
TZOFFSETTO:+0100
TZNAME:CET
DTSTART:20261025T010000
END:STANDARD
END:VTIMEZONE
BEGIN:VEVENT
DTSTART;TZID=Europe/Paris:20250601T100000
DTEND;TZID=Europe/Paris:20250601T170000
DTSTAMP:20260422T141613
CREATED:20250520T141145Z
LAST-MODIFIED:20250520T141145Z
UID:3784-1748772000-1748797200@www.danslesvignes.fr
SUMMARY:Balade Vigneronne
DESCRIPTION:Balade Vigneronne \nBalade dans la Bade de Tourouzelle à la rencontre des vignerons présents tout le long du circuit. Découverte des sentiers des paysans batisseurs (ruchers\, terrasses\, drailles…). \nÀ partir de 10h00 : Balade dans la Bade de Tourouzelle à la rencontre des vignerons présents tout le long du circuit. Découverte des sentiers des paysans batisseurs (ruchers\, terrasses\, drailles …)\n12h30 : Dégustation gratuite à l’arrivée\n13h00 : Repas dans la pinède de la Bade : Tomate mozzarella\, Rougail saucisse\, Tarte aux pommes\, Café\nRepas 20€/pers (places limitées à 200 personnes)\nRéservation obligatoire \nDépart et arrivée parking de la Bade (GPS : 43.2526250\,2.7399124) \naop-minervois.com \nPlus d’événements en Occitanie : www.danslesvignes.fr
URL:https://www.danslesvignes.fr/event/balade-vigneronne-4/
LOCATION:TOUROUZELLE\, 11200
CATEGORIES:11. AUDE
ATTACH;FMTTYPE=image/jpeg:https://www.danslesvignes.fr/wp-content/uploads/2025/05/11_06_01-TOUROUZELLE.jpeg
END:VEVENT
BEGIN:VEVENT
DTSTART;TZID=Europe/Paris:20250606T080000
DTEND;TZID=Europe/Paris:20250609T170000
DTSTAMP:20260422T141613
CREATED:20250116T112441Z
LAST-MODIFIED:20250505T125455Z
UID:3361-1749196800-1749488400@www.danslesvignes.fr
SUMMARY:Prom'Aude
DESCRIPTION:Prom’AUDE – Festival Aude al País \nArtisans\, éleveurs\, vignerons\, artistes et acteurs du tourisme seront présents pour faire découvrir la diversité de leurs savoir-faire au cœur du marché agricole et artisanal\, de la ferme vivante et des autres pôles thématiques.\nDéambulations musicales\, concerts\, spectacles de rapaces\, battle de hip hop\, ainsi que des animations sportives et circassiennes pour les familles rythmeront les journées. Dans un cadre verdoyant\, manèges\, ludothèque géante\, médiation animale\, attelages et activités familiales viendront compléter l’offre pour petits et grands\, dans une ambiance chaleureuse et authentique et bien sûr de nombreuses surprises attendent le visiteur…\nLes soirées prendront une nouvelle dimension avec deux grands pôles festifs :\n– L’Espace Bodega\, espace de convivialité et de musique\,\n– Le Village Occitan\, dédié aux traditions et aux saveurs régionales. \nBilletterie : www.helloasso.com\nEntrée 2€\nDu vendredi au dimanche : 10h00 – 23h30\nLe lundi : 10h00 – 20h00\nParc de Gaujac \nwww.promaude.fr\nwww.facebook.com \nPlus d’événements en Occitanie : www.danslesvignes.fr
URL:https://www.danslesvignes.fr/event/promaude-2/
LOCATION:LEZIGNAN-CORBIERES\, 11200
CATEGORIES:11. AUDE
ATTACH;FMTTYPE=image/jpeg:https://www.danslesvignes.fr/wp-content/uploads/2025/01/11_06_06-PROMAUDE.jpeg
END:VEVENT
BEGIN:VEVENT
DTSTART;TZID=Europe/Paris:20250607T160000
DTEND;TZID=Europe/Paris:20250607T230000
DTSTAMP:20260422T141613
CREATED:20250409T064034Z
LAST-MODIFIED:20250409T064034Z
UID:3632-1749312000-1749337200@www.danslesvignes.fr
SUMMARY:Fest’in Cabardès
DESCRIPTION:Fest’in Cabardès \nVenez à la rencontre des exploitants et producteurs locaux avec des dégustations et ventes de vins du cru Cabardès. Tout au long de la journée découvrez la gastronomie locale le tout dans une ambiance musicale et conviviale. Possibilité de restauration sur place. Mais aussi des animations durant la journée et des jeux pour les enfants. \n16h00-24h00\nParc André Monnié \nwww.grand-carcassonne-tourisme.fr\nwww.facebook.com \nPlus d’événements en Occitanie : www.danslesvignes.fr
URL:https://www.danslesvignes.fr/event/festin-cabardes-3/
LOCATION:VILLEMOUSTAUSSOU\, 11620
CATEGORIES:11. AUDE
ATTACH;FMTTYPE=image/jpeg:https://www.danslesvignes.fr/wp-content/uploads/2025/04/11_06_07-FESTIN-CABARDES.jpeg
END:VEVENT
BEGIN:VEVENT
DTSTART;TZID=Europe/Paris:20250614T170000
DTEND;TZID=Europe/Paris:20250615T020000
DTSTAMP:20260422T141613
CREATED:20250403T100743Z
LAST-MODIFIED:20250403T100743Z
UID:3593-1749920400-1749952800@www.danslesvignes.fr
SUMMARY:Roque en vin
DESCRIPTION:Roque en vin \nDe 17h00 à 20h00 : les vignerons du village vous ouvrent leurs caves pour des dégustations et vous faire découvrir leurs vins.\nA partir de 20h00\, le bar à vins ouvre sur la place\, et une soirée festive clôture la journée en musique. \n17h00-02h00 : Concerts\, Bar à Vin et Food trucks \n5€ le verre ouvrant droit à la dégustation \nwww.facebook.com \nPlus d’événements en Occitanie : www.danslesvignes.fr
URL:https://www.danslesvignes.fr/event/roque-en-vin-3/
LOCATION:ROQUETAILLADE\, 11300
CATEGORIES:11. AUDE
ATTACH;FMTTYPE=image/jpeg:https://www.danslesvignes.fr/wp-content/uploads/2025/04/11_06_14-ROQUE-EN-VIN.jpeg
END:VEVENT
BEGIN:VEVENT
DTSTART;TZID=Europe/Paris:20250615T100000
DTEND;TZID=Europe/Paris:20250615T170000
DTSTAMP:20260422T141613
CREATED:20250520T124354Z
LAST-MODIFIED:20250520T124354Z
UID:3778-1749981600-1750006800@www.danslesvignes.fr
SUMMARY:Balade Gourmande des Vignerons du Terroir de Laure
DESCRIPTION:Balade Gourmande des Vignerons du Terroir de Laure \nLes vigneron.e.s du Terroir de Laure organisent le dimanche 15 Juin prochain\, la 2ème Balade Gourmande des vignerons du Terroir de Laure\, en appellation Minervois. Partageant un goût certain de l’art de vivre et de leur terroir\, 10 caves et domaines\, issus des 9 communes du Terroir de Laure vous invitent à la découverte de leur vignoble\, des espaces naturels (garrigues et pinèdes) et patrimoniaux (anciennes carrières de grès\, capitelles et autres bâtis) de ce territoire au départ de la commune de Malves en Minervois.\nAgréable et varié\, le circuit fait la part belle aux parties ombragées. Sur 3 étapes gourmandes\, le chef David Kaci et les vigneronnes et vignerons du Terroir de Laure vous proposeront des associations spécialement pensées pour régaler vos papilles.\nDe la géologie à la rêverie\, la Balade Gourmande des Vignerons du Terroir de Laure vous proposera également des escales de détente et découverte… \nDépart du Domaine Villepeyroux-Forest\ntoutes les 20′ de 10h00 à 12h40\n65€ (62€ groupe à partir de 10 personnes)\n18€ (enfants moins de 12 ans) \naop-minervois.com \nPlus d’événements en Occitanie : www.danslesvignes.fr
URL:https://www.danslesvignes.fr/event/balade-gourmande-des-vignerons-du-terroir-de-laure/
LOCATION:MALVES EN MINERVOIS\, 11600
CATEGORIES:11. AUDE
ATTACH;FMTTYPE=image/jpeg:https://www.danslesvignes.fr/wp-content/uploads/2025/05/11_06_15-MINERVOIS.jpeg
END:VEVENT
BEGIN:VEVENT
DTSTART;TZID=Europe/Paris:20250627T183000
DTEND;TZID=Europe/Paris:20250627T223000
DTSTAMP:20260422T141613
CREATED:20250520T095801Z
LAST-MODIFIED:20250520T095801Z
UID:3768-1751049000-1751063400@www.danslesvignes.fr
SUMMARY:Corbières fête ses 40 ans
DESCRIPTION:Corbières fête ses 40 ans \nLes vignerons de Corbières se réunissent au Château de Boutenac\, leur « fief »\, pour vous faire déguster leurs cuvées\, dans une ambiance conviviale. Esprit guinguette et musique live. \nRestauration sur place : plusieurs Foodtrucks\nLes domaines présents : 40 Vignerons présents\nAmbiance musicale : Rythm & Smile\, Quality Street Band \nEntrée : 10€ incluant un verre de dégustation et 3 consommations. \nwww.vins-corbieres.com\nwww.facebook.com \nPlus d’événements en Occitanie : www.danslesvignes.fr
URL:https://www.danslesvignes.fr/event/corbieres-fete-ses-40-ans/
LOCATION:BOUTENAC\, 11200
CATEGORIES:11. AUDE
ATTACH;FMTTYPE=image/jpeg:https://www.danslesvignes.fr/wp-content/uploads/2025/05/11_06_27-CORBIERES.jpeg
END:VEVENT
END:VCALENDAR