BEGIN:VCALENDAR
VERSION:2.0
PRODID:-//Dans les vignes - ECPv6.15.20//NONSGML v1.0//EN
CALSCALE:GREGORIAN
METHOD:PUBLISH
X-ORIGINAL-URL:https://www.danslesvignes.fr
X-WR-CALDESC:Évènements pour Dans les vignes
REFRESH-INTERVAL;VALUE=DURATION:PT1H
X-Robots-Tag:noindex
X-PUBLISHED-TTL:PT1H
BEGIN:VTIMEZONE
TZID:Europe/Paris
BEGIN:DAYLIGHT
TZOFFSETFROM:+0100
TZOFFSETTO:+0200
TZNAME:CEST
DTSTART:20240331T010000
END:DAYLIGHT
BEGIN:STANDARD
TZOFFSETFROM:+0200
TZOFFSETTO:+0100
TZNAME:CET
DTSTART:20241027T010000
END:STANDARD
BEGIN:DAYLIGHT
TZOFFSETFROM:+0100
TZOFFSETTO:+0200
TZNAME:CEST
DTSTART:20250330T010000
END:DAYLIGHT
BEGIN:STANDARD
TZOFFSETFROM:+0200
TZOFFSETTO:+0100
TZNAME:CET
DTSTART:20251026T010000
END:STANDARD
BEGIN:DAYLIGHT
TZOFFSETFROM:+0100
TZOFFSETTO:+0200
TZNAME:CEST
DTSTART:20260329T010000
END:DAYLIGHT
BEGIN:STANDARD
TZOFFSETFROM:+0200
TZOFFSETTO:+0100
TZNAME:CET
DTSTART:20261025T010000
END:STANDARD
END:VTIMEZONE
BEGIN:VEVENT
DTSTART;TZID=Europe/Paris:20250704T190000
DTEND;TZID=Europe/Paris:20250704T230000
DTSTAMP:20260422T125533
CREATED:20250520T092943Z
LAST-MODIFIED:20250520T093017Z
UID:3760-1751655600-1751670000@www.danslesvignes.fr
SUMMARY:Guinguette Made in Douzens
DESCRIPTION:Guinguette Made in Douzens \nSoirée cabaret populaire\, le plus souvent en plein air\, où l’on va déguster les vins des 5 domaines du village\, manger et danser. \nPlace de l’Eglise\n19h00-23h00 \nwww.facebook.com \nPlus d’événements en Occitanie : www.danslesvignes.fr \n 
URL:https://www.danslesvignes.fr/event/guinguette-made-in-douzens-2/
LOCATION:DOUZENS\, 11700
CATEGORIES:11. AUDE
ATTACH;FMTTYPE=image/jpeg:https://www.danslesvignes.fr/wp-content/uploads/2025/05/11_07_04-DOUZENS.jpeg
END:VEVENT
BEGIN:VEVENT
DTSTART;TZID=Europe/Paris:20250705T190000
DTEND;TZID=Europe/Paris:20250705T233000
DTSTAMP:20260422T125533
CREATED:20250520T091501Z
LAST-MODIFIED:20250624T170119Z
UID:3753-1751742000-1751758200@www.danslesvignes.fr
SUMMARY:Le grand festin du Cru Boutenac
DESCRIPTION:Le grand festin du Cru Boutenac \nPour son 20ème anniversaire\, le Cru Boutenac met les petits plats dans les grands avec un dîner à la française dressé dans la cour du château de Boutenac. A cette occasion\, 17 caves et domaines de l’appellation vous proposent de partager leur table.\nLe dîner sera concocté par notre ami vigneron et chef cuisinier\, Georges Lemarié du Château Aiguilloux. Chaque plat sera associé à différentes cuvées des vigneronnes et vignerons présents. \nAu menu :\nLe velouté estival\, façon gaspacho\, éclats de lard croustillant\nLe filet de Turbot rôti\, sur un risotto a l’épeautre\, espuma d’arêtes à l’ail des ours façon bourride.\nLe Chateaubriand de filet de bœuf « Pyrénées » : comme un rossini\, foie gras caramélisé\, légumes nouveaux glacés\, réduction aux cèpes et vin de Boutenac.\nTomme de chèvre affinée et miel de garrigue des Clauses.\nL’instant chocolat Grand Cru Manjari\nPrix de la soirée (dîner et vins compris) : 80 € / personne\nSur réservation obligatoire avant le 25 juin : Réserver en ligne \nChâteau de Boutenac\nA partir de 19h00\n\nwww.cruboutenac.com\nPlus d’événements en Occitanie : www.danslesvignes.fr
URL:https://www.danslesvignes.fr/event/le-grand-festin-du-cru-boutenac/
LOCATION:BOUTENAC\, 11200
CATEGORIES:11. AUDE
ATTACH;FMTTYPE=image/jpeg:https://www.danslesvignes.fr/wp-content/uploads/2025/05/11_07_05-BOUTENAC.jpeg
END:VEVENT
BEGIN:VEVENT
DTSTART;TZID=Europe/Paris:20250710T180000
DTEND;TZID=Europe/Paris:20250710T223000
DTSTAMP:20260422T125533
CREATED:20250624T145415Z
LAST-MODIFIED:20250624T145415Z
UID:3990-1752170400-1752186600@www.danslesvignes.fr
SUMMARY:Soirée des vignerons de Lagrasse
DESCRIPTION:Soirée des vignerons de Lagrasse \nRetrouvez une quinzaine de vignerons du terroir de Lagrasse dans une ambiance festive et conviviale\, où ils vous présenteront leur domaines\, caves et cuvées spécifiques à ce terroir rare\, en cours de reconnaissance en tant que Dénomination Géographique Complémentaire de l’appellation Corbières.  \nSoirée décontractée\, dans un cadre magnifique et en musique live avec le groupe Atomic Girls. Foodtrucks et restaurateurs du village. \nTarif : 10€ les 3 consommations + verre de dégustation\nHalle de Lagrasse \nwww.cruboutenac.com\nPlus d’événements en Occitanie : www.danslesvignes.fr
URL:https://www.danslesvignes.fr/event/soiree-des-vignerons-de-lagrasse/
LOCATION:LAGRASSE\, 11220
CATEGORIES:11. AUDE
ATTACH;FMTTYPE=image/png:https://www.danslesvignes.fr/wp-content/uploads/2025/06/11_07_10-LAGRASSE.png
END:VEVENT
BEGIN:VEVENT
DTSTART;TZID=Europe/Paris:20250714T190000
DTEND;TZID=Europe/Paris:20250714T233000
DTSTAMP:20260422T125533
CREATED:20250624T152809Z
LAST-MODIFIED:20250624T152809Z
UID:4002-1752519600-1752535800@www.danslesvignes.fr
SUMMARY:Aude aux vins
DESCRIPTION:Aude aux vins \nCOMPLET _ Soirée découverte des vins par les vignerons de l’Aude\, accompagnée d’une vue imprenable sur feu d’artifice de la Cité.\n– Dégustations et vente directe de vins\n– DJ\n– Restauration sur place (Food trucks)\n– Parking gratuit \nLycée Charlemagne\n15€ entrée + 3 dégustations \nwww.facebook.com\nPlus d’événements en Occitanie : www.danslesvignes.fr
URL:https://www.danslesvignes.fr/event/aude-aux-vins-5/
LOCATION:CARCASSONNE\, 11000
CATEGORIES:11. AUDE
ATTACH;FMTTYPE=image/jpeg:https://www.danslesvignes.fr/wp-content/uploads/2025/06/11_07_14-AUDE-AUX-VINS.jpeg
END:VEVENT
BEGIN:VEVENT
DTSTART;TZID=Europe/Paris:20250722T190000
DTEND;TZID=Europe/Paris:20250722T233000
DTSTAMP:20260422T125533
CREATED:20250624T170754Z
LAST-MODIFIED:20250624T170754Z
UID:4016-1753210800-1753227000@www.danslesvignes.fr
SUMMARY:Le Cru Boutenac fait son cinéma
DESCRIPTION:Le Cru Boutenac fait son cinéma\n\nUne soirée 100 % détente avec près d’une quinzaine de caves et domaines qui feront déguster leur vin à partir de 19h. La dégustation et le repas seront animés par Marie Pierre Loncan (Morena La Griotte) et Alain Beurrier (Casthana e Vinovel) dans un esprit guinguette. La restauration sera assurée par différents foodtrucks. A la tombée de la nuit vers 22h\, projection en plein air\, du film d’Eric Toledano et d’Olivier Nakache\, ‘’Le Sens de la fête’’ sorti en 2017 avec Jean Pierre Bacri\, Gilles Lellouche et Jean Paul Rouve. Un film plein d’humour pour célébrer avec légèreté les 20 ans du cru. Soirée sans réservation (entrée libre).\n\nwww.cruboutenac.com\nPlus d’événements en Occitanie : www.danslesvignes.fr
URL:https://www.danslesvignes.fr/event/le-cru-boutenac-fait-son-cinema-3/
LOCATION:BOUTENAC\, 11200
CATEGORIES:11. AUDE
END:VEVENT
END:VCALENDAR