BEGIN:VCALENDAR
VERSION:2.0
PRODID:-//Dans les vignes - ECPv6.15.20//NONSGML v1.0//EN
CALSCALE:GREGORIAN
METHOD:PUBLISH
X-WR-CALNAME:Dans les vignes
X-ORIGINAL-URL:https://www.danslesvignes.fr
X-WR-CALDESC:Évènements pour Dans les vignes
REFRESH-INTERVAL;VALUE=DURATION:PT1H
X-Robots-Tag:noindex
X-PUBLISHED-TTL:PT1H
BEGIN:VTIMEZONE
TZID:Europe/Paris
BEGIN:DAYLIGHT
TZOFFSETFROM:+0100
TZOFFSETTO:+0200
TZNAME:CEST
DTSTART:20220327T010000
END:DAYLIGHT
BEGIN:STANDARD
TZOFFSETFROM:+0200
TZOFFSETTO:+0100
TZNAME:CET
DTSTART:20221030T010000
END:STANDARD
BEGIN:DAYLIGHT
TZOFFSETFROM:+0100
TZOFFSETTO:+0200
TZNAME:CEST
DTSTART:20230326T010000
END:DAYLIGHT
BEGIN:STANDARD
TZOFFSETFROM:+0200
TZOFFSETTO:+0100
TZNAME:CET
DTSTART:20231029T010000
END:STANDARD
BEGIN:DAYLIGHT
TZOFFSETFROM:+0100
TZOFFSETTO:+0200
TZNAME:CEST
DTSTART:20240331T010000
END:DAYLIGHT
BEGIN:STANDARD
TZOFFSETFROM:+0200
TZOFFSETTO:+0100
TZNAME:CET
DTSTART:20241027T010000
END:STANDARD
END:VTIMEZONE
BEGIN:VEVENT
DTSTART;VALUE=DATE:20230521
DTEND;VALUE=DATE:20230522
DTSTAMP:20260424T091617
CREATED:20230401T095855Z
LAST-MODIFIED:20230411T172711Z
UID:341-1684627200-1684713599@www.danslesvignes.fr
SUMMARY:Sentiers Gourmands en Clape Vigneronne
DESCRIPTION:Sentiers Gourmands en Clape Vigneronne \nTout au long de ce parcours de 6km\, ponctué de pauses gourmandes\, vous découvrirez le cœur de la Clape en dégustant ses vins et en admirant le terroir qui les forge\, le tout en accord avec les mets préparés par le chef Marc Schwall du Petit Lac (Narbonne).  \nAdulte 72€ (68€ à partir de 12 personnes)\nEnfant 20€ (moins de 12 ans) \nDéparts toutes les 10mn : 10h20-14h00 \nCaveau d’Armissan \nRéservation obligatoire \nwww.la-clape.com\nwww.facebook.com/aoclaclape \nPlus d’événements dans l’Aude : www.danslesvignes.fr/events/categorie/11-aude/
URL:https://www.danslesvignes.fr/event/sentiers-gourmands-en-clape-vigneronne/
LOCATION:AMISSAN\, Amissan\, 11110
CATEGORIES:11. AUDE
ATTACH;FMTTYPE=image/jpeg:https://www.danslesvignes.fr/wp-content/uploads/2023/04/11_05_21-LA-CLAPE.jpg
END:VEVENT
END:VCALENDAR