BEGIN:VCALENDAR
VERSION:2.0
PRODID:-//Dans les vignes - ECPv6.15.20//NONSGML v1.0//EN
CALSCALE:GREGORIAN
METHOD:PUBLISH
X-WR-CALNAME:Dans les vignes
X-ORIGINAL-URL:https://www.danslesvignes.fr
X-WR-CALDESC:Évènements pour Dans les vignes
REFRESH-INTERVAL;VALUE=DURATION:PT1H
X-Robots-Tag:noindex
X-PUBLISHED-TTL:PT1H
BEGIN:VTIMEZONE
TZID:Europe/Paris
BEGIN:DAYLIGHT
TZOFFSETFROM:+0100
TZOFFSETTO:+0200
TZNAME:CEST
DTSTART:20220327T010000
END:DAYLIGHT
BEGIN:STANDARD
TZOFFSETFROM:+0200
TZOFFSETTO:+0100
TZNAME:CET
DTSTART:20221030T010000
END:STANDARD
BEGIN:DAYLIGHT
TZOFFSETFROM:+0100
TZOFFSETTO:+0200
TZNAME:CEST
DTSTART:20230326T010000
END:DAYLIGHT
BEGIN:STANDARD
TZOFFSETFROM:+0200
TZOFFSETTO:+0100
TZNAME:CET
DTSTART:20231029T010000
END:STANDARD
BEGIN:DAYLIGHT
TZOFFSETFROM:+0100
TZOFFSETTO:+0200
TZNAME:CEST
DTSTART:20240331T010000
END:DAYLIGHT
BEGIN:STANDARD
TZOFFSETFROM:+0200
TZOFFSETTO:+0100
TZNAME:CET
DTSTART:20241027T010000
END:STANDARD
END:VTIMEZONE
BEGIN:VEVENT
DTSTART;TZID=Europe/Paris:20230630T190000
DTEND;TZID=Europe/Paris:20230630T230000
DTSTAMP:20260424T060348
CREATED:20230605T153749Z
LAST-MODIFIED:20230605T153828Z
UID:1346-1688151600-1688166000@www.danslesvignes.fr
SUMMARY:Guinguette Made in Douzens
DESCRIPTION:Guinguette Made in Douzens \nSoirée cabaret populaire\, le plus souvent en plein air\, où l’on va déguster les vins des 5 domaines du village\, manger et danser. \nwww.facebook.com/madeindouzens \nPlus d’événements dans l’Aude : www.danslesvignes.fr/events/categorie/11-aude/
URL:https://www.danslesvignes.fr/event/1346/
LOCATION:DOUZENS\, 11700
CATEGORIES:11. AUDE
ATTACH;FMTTYPE=image/jpeg:https://www.danslesvignes.fr/wp-content/uploads/2023/06/11_06_03-GUINGUETTE-DOUZENS.jpeg
END:VEVENT
END:VCALENDAR