BEGIN:VCALENDAR
VERSION:2.0
PRODID:-//Dans les vignes - ECPv6.15.20//NONSGML v1.0//EN
CALSCALE:GREGORIAN
METHOD:PUBLISH
X-WR-CALNAME:Dans les vignes
X-ORIGINAL-URL:https://www.danslesvignes.fr
X-WR-CALDESC:Évènements pour Dans les vignes
REFRESH-INTERVAL;VALUE=DURATION:PT1H
X-Robots-Tag:noindex
X-PUBLISHED-TTL:PT1H
BEGIN:VTIMEZONE
TZID:Europe/Paris
BEGIN:DAYLIGHT
TZOFFSETFROM:+0100
TZOFFSETTO:+0200
TZNAME:CEST
DTSTART:20230326T010000
END:DAYLIGHT
BEGIN:STANDARD
TZOFFSETFROM:+0200
TZOFFSETTO:+0100
TZNAME:CET
DTSTART:20231029T010000
END:STANDARD
BEGIN:DAYLIGHT
TZOFFSETFROM:+0100
TZOFFSETTO:+0200
TZNAME:CEST
DTSTART:20240331T010000
END:DAYLIGHT
BEGIN:STANDARD
TZOFFSETFROM:+0200
TZOFFSETTO:+0100
TZNAME:CET
DTSTART:20241027T010000
END:STANDARD
BEGIN:DAYLIGHT
TZOFFSETFROM:+0100
TZOFFSETTO:+0200
TZNAME:CEST
DTSTART:20250330T010000
END:DAYLIGHT
BEGIN:STANDARD
TZOFFSETFROM:+0200
TZOFFSETTO:+0100
TZNAME:CET
DTSTART:20251026T010000
END:STANDARD
END:VTIMEZONE
BEGIN:VEVENT
DTSTART;VALUE=DATE:20240517
DTEND;VALUE=DATE:20240521
DTSTAMP:20260423T125116
CREATED:20240131T164528Z
LAST-MODIFIED:20240308T150156Z
UID:2082-1715904000-1716249599@www.danslesvignes.fr
SUMMARY:Prom'AUDE - Festival Aude al País
DESCRIPTION:Prom’AUDE – Festival Aude al País \nPentecôte gourmande en plein cœur de l’Occitanie : le printemps inspire les créateurs et les amateurs passionnés… Réservez une excursion de quatre jours pour découvrir les saveurs de l’Aude\, dans la capitale des Corbières\, aux portes du Minervois… Au programme\, présentations et découvertes\, démonstrations\, partages et transmissions\, dégustations avec les producteurs agricoles\, les artisans en agroalimentaire\, les métiers d’art\, les professionnels du tourisme et de l’animation. \nEntrée 2€\n5€ Pass 4 jours \nParc de Gaujac \nwww.promaude.fr\nwww.facebook.com/prom.aude \nPlus d’événements en Occitanie : www.danslesvignes.fr
URL:https://www.danslesvignes.fr/event/promaude-festival-aude-al-pais/
LOCATION:LEZIGNAN-CORBIERES\, 11200
CATEGORIES:11. AUDE
ATTACH;FMTTYPE=image/jpeg:https://www.danslesvignes.fr/wp-content/uploads/2024/01/11_05_17-PROMAUDE.jpeg
END:VEVENT
BEGIN:VEVENT
DTSTART;VALUE=DATE:20240519
DTEND;VALUE=DATE:20240520
DTSTAMP:20260423T125116
CREATED:20240224T073707Z
LAST-MODIFIED:20240329T090203Z
UID:2268-1716076800-1716163199@www.danslesvignes.fr
SUMMARY:Sentiers Gourmands en Clape Vigneronne
DESCRIPTION:Sentiers Gourmands en Clape Vigneronne \nTout au long de ce parcours de 6km\, ponctué de pauses gourmandes\, vous découvrirez le cœur de la Clape en dégustant ses vins et en admirant le terroir qui les forge\, le tout en accord avec les mets préparés par le chef Marc Schwall du Petit Lac (Narbonne). \nDéparts toutes les 10mn : 10h30-14h00\nAdulte 72€ (68€ à partir de 12 personnes)\nEnfant 20€ (moins de 12 ans)\nRéservation obligatoire https://billetterie.cotedumidi.com/aperos-et-gastronomie \nChâteau Rouquette-sur-mer \nwww.la-clape.com\nwww.facebook.com/aoclaclape \nPlus d’événements en Occitanie : www.danslesvignes.fr
URL:https://www.danslesvignes.fr/event/sentiers-gourmands-en-clape-vigneronne-2/
LOCATION:NARBONNE\, 11100
CATEGORIES:11. AUDE
ATTACH;FMTTYPE=image/jpeg:https://www.danslesvignes.fr/wp-content/uploads/2024/02/11_05_19-SENTIERS-GOURMANDS.jpeg
END:VEVENT
END:VCALENDAR