BEGIN:VCALENDAR
VERSION:2.0
PRODID:-//Dans les vignes - ECPv6.15.20//NONSGML v1.0//EN
CALSCALE:GREGORIAN
METHOD:PUBLISH
X-ORIGINAL-URL:https://www.danslesvignes.fr
X-WR-CALDESC:Évènements pour Dans les vignes
REFRESH-INTERVAL;VALUE=DURATION:PT1H
X-Robots-Tag:noindex
X-PUBLISHED-TTL:PT1H
BEGIN:VTIMEZONE
TZID:Europe/Paris
BEGIN:DAYLIGHT
TZOFFSETFROM:+0100
TZOFFSETTO:+0200
TZNAME:CEST
DTSTART:20230326T010000
END:DAYLIGHT
BEGIN:STANDARD
TZOFFSETFROM:+0200
TZOFFSETTO:+0100
TZNAME:CET
DTSTART:20231029T010000
END:STANDARD
BEGIN:DAYLIGHT
TZOFFSETFROM:+0100
TZOFFSETTO:+0200
TZNAME:CEST
DTSTART:20240331T010000
END:DAYLIGHT
BEGIN:STANDARD
TZOFFSETFROM:+0200
TZOFFSETTO:+0100
TZNAME:CET
DTSTART:20241027T010000
END:STANDARD
BEGIN:DAYLIGHT
TZOFFSETFROM:+0100
TZOFFSETTO:+0200
TZNAME:CEST
DTSTART:20250330T010000
END:DAYLIGHT
BEGIN:STANDARD
TZOFFSETFROM:+0200
TZOFFSETTO:+0100
TZNAME:CET
DTSTART:20251026T010000
END:STANDARD
END:VTIMEZONE
BEGIN:VEVENT
DTSTART;VALUE=DATE:20240525
DTEND;VALUE=DATE:20240526
DTSTAMP:20260423T125808
CREATED:20240216T101720Z
LAST-MODIFIED:20240414T155127Z
UID:2172-1716595200-1716681599@www.danslesvignes.fr
SUMMARY:Balade des 5 sens
DESCRIPTION:Balade des 5 sens \nOrganisée tous les deux ans\, les années paires\, cette balade gourmande de 6 km dans l’environnement exceptionnel de Peyriac-de-Mer est l’occasion de savourer au cours de chaque halte des mets proposés par un traiteur avec une sélection de vins locaux\, présentée par les vignerons. Un guide vous éclairera sur toutes les curiosités du parcours entre vignes\, étangs et massifs. Découvrez les différents paysages entourant notre village : les étangs\, les vignes\, la garrigue\, les sous-bois. \nDéparts toutes les 15′ de 09h30 à 12h45\nRéservation obligatoire\nAdulte : 58€\nEnfant 10-17 ans ou adulte sans alcool : 38€ \nwww.capeyriac.fr\nwww.facebook.com \nPlus d’événements en Occitanie : www.danslesvignes.fr
URL:https://www.danslesvignes.fr/event/balade-des-5-sens/
LOCATION:PEYRIAC-DE-MER\, 11440
CATEGORIES:11. AUDE
ATTACH;FMTTYPE=image/jpeg:https://www.danslesvignes.fr/wp-content/uploads/2024/02/34_05_25-BALADE-5-SENS.jpeg
END:VEVENT
BEGIN:VEVENT
DTSTART;TZID=Europe/Paris:20240525T100000
DTEND;TZID=Europe/Paris:20240525T230000
DTSTAMP:20260423T125808
CREATED:20240521T113857Z
LAST-MODIFIED:20240521T113857Z
UID:2579-1716631200-1716678000@www.danslesvignes.fr
SUMMARY:La Cruscadelle
DESCRIPTION:La Cruscadelle\, c’est avant tout le plaisir de rencontrer les vignerons de Cruscades.\nVenez découvrir notre patrimoine et nos vins à travers des dégustations\, des activités et une soirée\, pour partager des moments conviviaux et festifs autour du vin ! \nAu programme :\n– 10h00-13h30 : Le brunch du Clos du Cers\n– 10h30 : La randonnée vigneronne du château Hortala (7€ adulte / 3€ enfant)\n– 10h30-15h00 : Dégustation des vins de la Cave de Canet\n– 10h30-15h00 : Activités et goûter pour les enfants par l’ALAJC\n– 11h30-13h00 : Dégustation des vins de l’Etang des Colombes\n– 13h00 : Déjeuner dans le jardin Hortala (sur réservation 25€)\n– 14h00-17h00 : Le casino du vin de la Famille Fabre (3€)\n– 15h30 et 16h30 : La promenade en charrette du château Hortala (sur réservation 5€)\n– 19h00-23h00 : Bar commun des vignerons\n– 20h00 : Repas du soir (Food-truck Audois : tapas et burgers. Food-truck Bistrot Mobile : huîtres\, crevettes\, gambas à la plancha\, calamars\, charcuterie et fromage. Dessert par l’ALAJC : gaufres\, crêpes\, churros…\n– 20h30-22h30 : Concert du groupe Memory \nwww.la-cruscadelle.my.canva.site/ \nPlus d’événements en Occitanie : www.danslesvignes.fr
URL:https://www.danslesvignes.fr/event/la-cruscadelle/
LOCATION:CRUSCADES\, 11200
CATEGORIES:11. AUDE
ATTACH;FMTTYPE=image/jpeg:https://www.danslesvignes.fr/wp-content/uploads/2024/05/11_05_25-CRUSCADELLE.jpeg
END:VEVENT
END:VCALENDAR