BEGIN:VCALENDAR
VERSION:2.0
PRODID:-//Dans les vignes - ECPv6.15.20//NONSGML v1.0//EN
CALSCALE:GREGORIAN
METHOD:PUBLISH
X-WR-CALNAME:Dans les vignes
X-ORIGINAL-URL:https://www.danslesvignes.fr
X-WR-CALDESC:Évènements pour Dans les vignes
REFRESH-INTERVAL;VALUE=DURATION:PT1H
X-Robots-Tag:noindex
X-PUBLISHED-TTL:PT1H
BEGIN:VTIMEZONE
TZID:Europe/Paris
BEGIN:DAYLIGHT
TZOFFSETFROM:+0100
TZOFFSETTO:+0200
TZNAME:CEST
DTSTART:20230326T010000
END:DAYLIGHT
BEGIN:STANDARD
TZOFFSETFROM:+0200
TZOFFSETTO:+0100
TZNAME:CET
DTSTART:20231029T010000
END:STANDARD
BEGIN:DAYLIGHT
TZOFFSETFROM:+0100
TZOFFSETTO:+0200
TZNAME:CEST
DTSTART:20240331T010000
END:DAYLIGHT
BEGIN:STANDARD
TZOFFSETFROM:+0200
TZOFFSETTO:+0100
TZNAME:CET
DTSTART:20241027T010000
END:STANDARD
BEGIN:DAYLIGHT
TZOFFSETFROM:+0100
TZOFFSETTO:+0200
TZNAME:CEST
DTSTART:20250330T010000
END:DAYLIGHT
BEGIN:STANDARD
TZOFFSETFROM:+0200
TZOFFSETTO:+0100
TZNAME:CET
DTSTART:20251026T010000
END:STANDARD
END:VTIMEZONE
BEGIN:VEVENT
DTSTART;TZID=Europe/Paris:20240615T080000
DTEND;TZID=Europe/Paris:20240615T170000
DTSTAMP:20260423T112248
CREATED:20240227T090440Z
LAST-MODIFIED:20240425T125606Z
UID:2272-1718438400-1718470800@www.danslesvignes.fr
SUMMARY:Roque en vin
DESCRIPTION:Roque en vin \nDe 17h00 à 20h00 : les vignerons du village vous ouvrent leurs caves pour des dégustations et vous faire découvrir leurs vins.\nA partir de 20h00\, le bar à vins ouvre sur la place\, et une soirée festive clôture la journée en musique ! \n17h00-02h00 : Concerts\, Bar à Vin et Food trucks \n5€ le verre ouvrant droit à la dégustation \nwww.facebook.com \nPlus d’événements en Occitanie : www.danslesvignes.fr
URL:https://www.danslesvignes.fr/event/roque-en-vin-2/
LOCATION:ROQUETAILLADE\, 11300
CATEGORIES:11. AUDE
ATTACH;FMTTYPE=image/jpeg:https://www.danslesvignes.fr/wp-content/uploads/2024/02/11_06_15-ROQUE.jpeg
END:VEVENT
END:VCALENDAR