BEGIN:VCALENDAR
VERSION:2.0
PRODID:-//Dans les vignes - ECPv6.15.20//NONSGML v1.0//EN
CALSCALE:GREGORIAN
METHOD:PUBLISH
X-ORIGINAL-URL:https://www.danslesvignes.fr
X-WR-CALDESC:Évènements pour Dans les vignes
REFRESH-INTERVAL;VALUE=DURATION:PT1H
X-Robots-Tag:noindex
X-PUBLISHED-TTL:PT1H
BEGIN:VTIMEZONE
TZID:Europe/Paris
BEGIN:DAYLIGHT
TZOFFSETFROM:+0100
TZOFFSETTO:+0200
TZNAME:CEST
DTSTART:20230326T010000
END:DAYLIGHT
BEGIN:STANDARD
TZOFFSETFROM:+0200
TZOFFSETTO:+0100
TZNAME:CET
DTSTART:20231029T010000
END:STANDARD
BEGIN:DAYLIGHT
TZOFFSETFROM:+0100
TZOFFSETTO:+0200
TZNAME:CEST
DTSTART:20240331T010000
END:DAYLIGHT
BEGIN:STANDARD
TZOFFSETFROM:+0200
TZOFFSETTO:+0100
TZNAME:CET
DTSTART:20241027T010000
END:STANDARD
BEGIN:DAYLIGHT
TZOFFSETFROM:+0100
TZOFFSETTO:+0200
TZNAME:CEST
DTSTART:20250330T010000
END:DAYLIGHT
BEGIN:STANDARD
TZOFFSETFROM:+0200
TZOFFSETTO:+0100
TZNAME:CET
DTSTART:20251026T010000
END:STANDARD
END:VTIMEZONE
BEGIN:VEVENT
DTSTART;VALUE=DATE:20240814
DTEND;VALUE=DATE:20240815
DTSTAMP:20260423T081502
CREATED:20240806T075151Z
LAST-MODIFIED:20240806T075151Z
UID:3062-1723593600-1723679999@www.danslesvignes.fr
SUMMARY:Sea\, Grapes & Sun
DESCRIPTION:Sea\, Grapes & Sun \nLe Foodtruck des vignerons du Pays d’Oc se déplace à la rencontre d’épicurieux en vacances !\nAu bord de mer\, du 5 au 16 aout 2024\, ce sont 11 villes qui accueilleront cette tournée estivale des Vins Pays d’Oc IGP. De l’Aude\, à l’Hérault en passant par le Gard.\nVenez découvrir les cuvées ambassadrices du territoire et les meilleurs accords mets & vins. Toutes les animations sont gratuites !\n\nDe 11h00 à 13h00 et de 18h00 à 22h00.\nVoici les dates et les destinations de la tournée :\nLundi 5 août – Le Grau-du-Roi\, Parvis de la MairieMardi 6 août – Frontignan\, Place VaubanMercredi 7 août – Carnon Plage\, Place CassanJeudi 8 août – Valras Plage\, Place PanisVendredi 9 août – Sète\, Place Roger ThéronSamedi 10 août – Marseillan\, Liaison entre la plage d’Honneur et l’av de la MéditerranéeLundi 12 août – Le Cap d’Agde\, Place du MôleMardi 13 août – Portiragnes\, place du BicentenaireMercredi 14 août – Narbonne\, Terrasse de la mer à Narbonne PlageJeudi 15 août – La Grande-Motte\, sur le marchéVendredi 16 août – Port-la-Nouvelle\, Place Paul Valéry\nChaque jour\, un restaurateur sera mis à l’honneur en proposant des bouchées apéritives qui accompagneront les cuvées Pays d’Oc IGP.\n\nPour plus d’informations : www.paysdoc-wines.com/seagrapessun24 \nPlus d’événements en Occitanie : www.danslesvignes.fr
URL:https://www.danslesvignes.fr/event/sea-grapes-sun-8/
LOCATION:NARBONNE\, 11100
CATEGORIES:11. AUDE
ATTACH;FMTTYPE=image/jpeg:https://www.danslesvignes.fr/wp-content/uploads/2024/08/34_08_05-SEA-GRAPES-SUN.jpeg
END:VEVENT
END:VCALENDAR