BEGIN:VCALENDAR
VERSION:2.0
PRODID:-//Dans les vignes - ECPv6.15.20//NONSGML v1.0//EN
CALSCALE:GREGORIAN
METHOD:PUBLISH
X-ORIGINAL-URL:https://www.danslesvignes.fr
X-WR-CALDESC:Évènements pour Dans les vignes
REFRESH-INTERVAL;VALUE=DURATION:PT1H
X-Robots-Tag:noindex
X-PUBLISHED-TTL:PT1H
BEGIN:VTIMEZONE
TZID:Europe/Paris
BEGIN:DAYLIGHT
TZOFFSETFROM:+0100
TZOFFSETTO:+0200
TZNAME:CEST
DTSTART:20240331T010000
END:DAYLIGHT
BEGIN:STANDARD
TZOFFSETFROM:+0200
TZOFFSETTO:+0100
TZNAME:CET
DTSTART:20241027T010000
END:STANDARD
BEGIN:DAYLIGHT
TZOFFSETFROM:+0100
TZOFFSETTO:+0200
TZNAME:CEST
DTSTART:20250330T010000
END:DAYLIGHT
BEGIN:STANDARD
TZOFFSETFROM:+0200
TZOFFSETTO:+0100
TZNAME:CET
DTSTART:20251026T010000
END:STANDARD
BEGIN:DAYLIGHT
TZOFFSETFROM:+0100
TZOFFSETTO:+0200
TZNAME:CEST
DTSTART:20260329T010000
END:DAYLIGHT
BEGIN:STANDARD
TZOFFSETFROM:+0200
TZOFFSETTO:+0100
TZNAME:CET
DTSTART:20261025T010000
END:STANDARD
END:VTIMEZONE
BEGIN:VEVENT
DTSTART;TZID=Europe/Paris:20250524T110000
DTEND;TZID=Europe/Paris:20250524T230000
DTSTAMP:20260422T174835
CREATED:20250409T060126Z
LAST-MODIFIED:20250409T060515Z
UID:3618-1748084400-1748127600@www.danslesvignes.fr
SUMMARY:La Cruscadelle
DESCRIPTION:La Cruscadelle\, c’est avant tout le plaisir de rencontrer les vignerons de Cruscades.\nVenez découvrir notre patrimoine et nos vins à travers des dégustations\, des activités et une soirée\, pour partager des moments conviviaux et festifs autour du vin ! \nAu programme :\nBalade gourmande\nDépart : entre 11h00 et 11h30\, place de la Bacaune\, Cruscades\nDurée : entre 1h30 et 3h30\nDistance : 7km + 4km pour le retour (à pied ou en charette)\nAdulte : 35€ / Jeunes 12-18 ans : 10€\nRéservation obligatoire \nSoirée festive : 18h00-23h00\, Cour de la Mairie\n• Bar commun des vignerons : venez déguster les différents vins de nos partenaires ! Dégustation au verre.\n• Espace repas : Le comité des fêtes vous régale avec saucisses ou ventrèche\, frites et pain – Moules\, frites\n• Pour les enfants et les gourmands avec l’ALAJC : softs\, crêpes\, gaufres\, granités\, glaces et jeux gonflables\n• Concert live à 20h30 : Les Rat’s cordés. Un duo explosif pour une soirée festive !\nChris et Reno revisitent les grands classiques de la chanson française et des musiques festives. Guitares\, accordéon et bonne humeur garantis pour chanter\, danser et vibrer ensemble !  \nwww.la-cruscadelle \nPlus d’événements en Occitanie : www.danslesvignes.fr
URL:https://www.danslesvignes.fr/event/la-cruscadelle-2/
LOCATION:CRUSCADES\, 11200
CATEGORIES:11. AUDE
ATTACH;FMTTYPE=image/jpeg:https://www.danslesvignes.fr/wp-content/uploads/2025/04/11_05_24-CRUSCADELLE.jpeg
END:VEVENT
END:VCALENDAR