BEGIN:VCALENDAR
VERSION:2.0
PRODID:-//Dans les vignes - ECPv6.15.20//NONSGML v1.0//EN
CALSCALE:GREGORIAN
METHOD:PUBLISH
X-ORIGINAL-URL:https://www.danslesvignes.fr
X-WR-CALDESC:Évènements pour Dans les vignes
REFRESH-INTERVAL;VALUE=DURATION:PT1H
X-Robots-Tag:noindex
X-PUBLISHED-TTL:PT1H
BEGIN:VTIMEZONE
TZID:Europe/Paris
BEGIN:DAYLIGHT
TZOFFSETFROM:+0100
TZOFFSETTO:+0200
TZNAME:CEST
DTSTART:20240331T010000
END:DAYLIGHT
BEGIN:STANDARD
TZOFFSETFROM:+0200
TZOFFSETTO:+0100
TZNAME:CET
DTSTART:20241027T010000
END:STANDARD
BEGIN:DAYLIGHT
TZOFFSETFROM:+0100
TZOFFSETTO:+0200
TZNAME:CEST
DTSTART:20250330T010000
END:DAYLIGHT
BEGIN:STANDARD
TZOFFSETFROM:+0200
TZOFFSETTO:+0100
TZNAME:CET
DTSTART:20251026T010000
END:STANDARD
BEGIN:DAYLIGHT
TZOFFSETFROM:+0100
TZOFFSETTO:+0200
TZNAME:CEST
DTSTART:20260329T010000
END:DAYLIGHT
BEGIN:STANDARD
TZOFFSETFROM:+0200
TZOFFSETTO:+0100
TZNAME:CET
DTSTART:20261025T010000
END:STANDARD
END:VTIMEZONE
BEGIN:VEVENT
DTSTART;TZID=Europe/Paris:20250601T100000
DTEND;TZID=Europe/Paris:20250601T170000
DTSTAMP:20260422T160305
CREATED:20250520T141145Z
LAST-MODIFIED:20250520T141145Z
UID:3784-1748772000-1748797200@www.danslesvignes.fr
SUMMARY:Balade Vigneronne
DESCRIPTION:Balade Vigneronne \nBalade dans la Bade de Tourouzelle à la rencontre des vignerons présents tout le long du circuit. Découverte des sentiers des paysans batisseurs (ruchers\, terrasses\, drailles…). \nÀ partir de 10h00 : Balade dans la Bade de Tourouzelle à la rencontre des vignerons présents tout le long du circuit. Découverte des sentiers des paysans batisseurs (ruchers\, terrasses\, drailles …)\n12h30 : Dégustation gratuite à l’arrivée\n13h00 : Repas dans la pinède de la Bade : Tomate mozzarella\, Rougail saucisse\, Tarte aux pommes\, Café\nRepas 20€/pers (places limitées à 200 personnes)\nRéservation obligatoire \nDépart et arrivée parking de la Bade (GPS : 43.2526250\,2.7399124) \naop-minervois.com \nPlus d’événements en Occitanie : www.danslesvignes.fr
URL:https://www.danslesvignes.fr/event/balade-vigneronne-4/
LOCATION:TOUROUZELLE\, 11200
CATEGORIES:11. AUDE
ATTACH;FMTTYPE=image/jpeg:https://www.danslesvignes.fr/wp-content/uploads/2025/05/11_06_01-TOUROUZELLE.jpeg
END:VEVENT
END:VCALENDAR