BEGIN:VCALENDAR
VERSION:2.0
PRODID:-//Dans les vignes - ECPv6.15.20//NONSGML v1.0//EN
CALSCALE:GREGORIAN
METHOD:PUBLISH
X-WR-CALNAME:Dans les vignes
X-ORIGINAL-URL:https://www.danslesvignes.fr
X-WR-CALDESC:Évènements pour Dans les vignes
REFRESH-INTERVAL;VALUE=DURATION:PT1H
X-Robots-Tag:noindex
X-PUBLISHED-TTL:PT1H
BEGIN:VTIMEZONE
TZID:Europe/Paris
BEGIN:DAYLIGHT
TZOFFSETFROM:+0100
TZOFFSETTO:+0200
TZNAME:CEST
DTSTART:20240331T010000
END:DAYLIGHT
BEGIN:STANDARD
TZOFFSETFROM:+0200
TZOFFSETTO:+0100
TZNAME:CET
DTSTART:20241027T010000
END:STANDARD
BEGIN:DAYLIGHT
TZOFFSETFROM:+0100
TZOFFSETTO:+0200
TZNAME:CEST
DTSTART:20250330T010000
END:DAYLIGHT
BEGIN:STANDARD
TZOFFSETFROM:+0200
TZOFFSETTO:+0100
TZNAME:CET
DTSTART:20251026T010000
END:STANDARD
BEGIN:DAYLIGHT
TZOFFSETFROM:+0100
TZOFFSETTO:+0200
TZNAME:CEST
DTSTART:20260329T010000
END:DAYLIGHT
BEGIN:STANDARD
TZOFFSETFROM:+0200
TZOFFSETTO:+0100
TZNAME:CET
DTSTART:20261025T010000
END:STANDARD
END:VTIMEZONE
BEGIN:VEVENT
DTSTART;TZID=Europe/Paris:20250710T180000
DTEND;TZID=Europe/Paris:20250710T223000
DTSTAMP:20260422T142321
CREATED:20250624T145415Z
LAST-MODIFIED:20250624T145415Z
UID:3990-1752170400-1752186600@www.danslesvignes.fr
SUMMARY:Soirée des vignerons de Lagrasse
DESCRIPTION:Soirée des vignerons de Lagrasse \nRetrouvez une quinzaine de vignerons du terroir de Lagrasse dans une ambiance festive et conviviale\, où ils vous présenteront leur domaines\, caves et cuvées spécifiques à ce terroir rare\, en cours de reconnaissance en tant que Dénomination Géographique Complémentaire de l’appellation Corbières.  \nSoirée décontractée\, dans un cadre magnifique et en musique live avec le groupe Atomic Girls. Foodtrucks et restaurateurs du village. \nTarif : 10€ les 3 consommations + verre de dégustation\nHalle de Lagrasse \nwww.cruboutenac.com\nPlus d’événements en Occitanie : www.danslesvignes.fr
URL:https://www.danslesvignes.fr/event/soiree-des-vignerons-de-lagrasse/
LOCATION:LAGRASSE\, 11220
CATEGORIES:11. AUDE
ATTACH;FMTTYPE=image/png:https://www.danslesvignes.fr/wp-content/uploads/2025/06/11_07_10-LAGRASSE.png
END:VEVENT
END:VCALENDAR