BEGIN:VCALENDAR
VERSION:2.0
PRODID:-//Dans les vignes - ECPv6.15.20//NONSGML v1.0//EN
CALSCALE:GREGORIAN
METHOD:PUBLISH
X-WR-CALNAME:Dans les vignes
X-ORIGINAL-URL:https://www.danslesvignes.fr
X-WR-CALDESC:Évènements pour Dans les vignes
REFRESH-INTERVAL;VALUE=DURATION:PT1H
X-Robots-Tag:noindex
X-PUBLISHED-TTL:PT1H
BEGIN:VTIMEZONE
TZID:Europe/Paris
BEGIN:DAYLIGHT
TZOFFSETFROM:+0100
TZOFFSETTO:+0200
TZNAME:CEST
DTSTART:20240331T010000
END:DAYLIGHT
BEGIN:STANDARD
TZOFFSETFROM:+0200
TZOFFSETTO:+0100
TZNAME:CET
DTSTART:20241027T010000
END:STANDARD
BEGIN:DAYLIGHT
TZOFFSETFROM:+0100
TZOFFSETTO:+0200
TZNAME:CEST
DTSTART:20250330T010000
END:DAYLIGHT
BEGIN:STANDARD
TZOFFSETFROM:+0200
TZOFFSETTO:+0100
TZNAME:CET
DTSTART:20251026T010000
END:STANDARD
BEGIN:DAYLIGHT
TZOFFSETFROM:+0100
TZOFFSETTO:+0200
TZNAME:CEST
DTSTART:20260329T010000
END:DAYLIGHT
BEGIN:STANDARD
TZOFFSETFROM:+0200
TZOFFSETTO:+0100
TZNAME:CET
DTSTART:20261025T010000
END:STANDARD
END:VTIMEZONE
BEGIN:VEVENT
DTSTART;TZID=Europe/Paris:20250815T100000
DTEND;TZID=Europe/Paris:20250815T220000
DTSTAMP:20260422T142351
CREATED:20250814T161231Z
LAST-MODIFIED:20251023T164004Z
UID:4196-1755252000-1755295200@www.danslesvignes.fr
SUMMARY:Fête du vin de Montlaur
DESCRIPTION:Fête du vin de Montlaur \nLa 11e Fête du vin est maintenue malgré les récents incendies. \nDurant cette traditionnelle Fête du vin\, l’association Art de vivre en Alaric – dont l’une des missions est de valoriser et soutenir les acteurs locaux – organise\, en partenariat avec « Les Montlauriers » et « La boule Lyonnaise » une grande tombola caritative.\nGrâce à l’élan de générosité de nombreuses associations du Val de Dagne\, de nombreux lots de grande valeur seront mis en jeu.\nTout au long de la journée\, les visiteurs pourront déambuler à la rencontre des vignerons mais également se procurer des billets de tombola au prix de 2 €. L’intégralité des recettes sera reversée en faveur d’actions concrètes pour les vignerons et agriculteurs durement touchés. \nPlus d’événements en Occitanie : www.danslesvignes.fr
URL:https://www.danslesvignes.fr/event/fete-du-vin-de-montlaur/
LOCATION:VAL-DE-DAGNE\, 11220
CATEGORIES:11. AUDE
ATTACH;FMTTYPE=image/jpeg:https://www.danslesvignes.fr/wp-content/uploads/2025/08/11_08_15-FETE-DU-VIN-MONTLAUR-2025.jpeg
END:VEVENT
END:VCALENDAR