BEGIN:VCALENDAR
VERSION:2.0
PRODID:-//Dans les vignes - ECPv6.15.20//NONSGML v1.0//EN
CALSCALE:GREGORIAN
METHOD:PUBLISH
X-WR-CALNAME:Dans les vignes
X-ORIGINAL-URL:https://www.danslesvignes.fr
X-WR-CALDESC:Évènements pour Dans les vignes
REFRESH-INTERVAL;VALUE=DURATION:PT1H
X-Robots-Tag:noindex
X-PUBLISHED-TTL:PT1H
BEGIN:VTIMEZONE
TZID:Europe/Paris
BEGIN:DAYLIGHT
TZOFFSETFROM:+0100
TZOFFSETTO:+0200
TZNAME:CEST
DTSTART:20240331T010000
END:DAYLIGHT
BEGIN:STANDARD
TZOFFSETFROM:+0200
TZOFFSETTO:+0100
TZNAME:CET
DTSTART:20241027T010000
END:STANDARD
BEGIN:DAYLIGHT
TZOFFSETFROM:+0100
TZOFFSETTO:+0200
TZNAME:CEST
DTSTART:20250330T010000
END:DAYLIGHT
BEGIN:STANDARD
TZOFFSETFROM:+0200
TZOFFSETTO:+0100
TZNAME:CET
DTSTART:20251026T010000
END:STANDARD
BEGIN:DAYLIGHT
TZOFFSETFROM:+0100
TZOFFSETTO:+0200
TZNAME:CEST
DTSTART:20260329T010000
END:DAYLIGHT
BEGIN:STANDARD
TZOFFSETFROM:+0200
TZOFFSETTO:+0100
TZNAME:CET
DTSTART:20261025T010000
END:STANDARD
END:VTIMEZONE
BEGIN:VEVENT
DTSTART;TZID=Europe/Paris:20251107T170000
DTEND;TZID=Europe/Paris:20251109T180000
DTSTAMP:20260422T075508
CREATED:20251023T163415Z
LAST-MODIFIED:20251023T163415Z
UID:4301-1762534800-1762711200@www.danslesvignes.fr
SUMMARY:Fiesta Vino
DESCRIPTION:Fiesta Vino \nCette année encore\, l’Arena de Narbonne devient LE rendez-vous incontournable pour tous les amoureux du vin\, de la gastronomie et de la fête ! \nAu programme pendant 3 jours :\n– Dégustation et vente de vins avec 26 vignerons locaux\n– Découverte des arômes pour les enfants\n– Casino des cépages & Bar à vins par Pays d’Oc IGP Wines\n– Espaces restauration\n– Tombolas avec de beaux lots à gagner\n Concerts enflammés : The Toffees\, vendredi à partir de 20h et Eko Eko\, samedi à 20h\n\nVendredi 07 : 17h00 – 23h00\nSamedi 08 : 11h00 – 23h00\nDimanche 09 : 11h00 – 18h00\nNarbonne Arena\nRéservation\n\nFacebook\nPlus d’événements en Occitanie : www.danslesvignes.fr
URL:https://www.danslesvignes.fr/event/fiesta-vino/
LOCATION:NARBONNE\, 11100
CATEGORIES:11. AUDE
ATTACH;FMTTYPE=image/jpeg:https://www.danslesvignes.fr/wp-content/uploads/2025/10/11_11_07-FIESTA-VINO.jpeg
END:VEVENT
END:VCALENDAR