BEGIN:VCALENDAR
VERSION:2.0
PRODID:-//Dans les vignes - ECPv6.15.20//NONSGML v1.0//EN
CALSCALE:GREGORIAN
METHOD:PUBLISH
X-ORIGINAL-URL:https://www.danslesvignes.fr
X-WR-CALDESC:Évènements pour Dans les vignes
REFRESH-INTERVAL;VALUE=DURATION:PT1H
X-Robots-Tag:noindex
X-PUBLISHED-TTL:PT1H
BEGIN:VTIMEZONE
TZID:Europe/Paris
BEGIN:DAYLIGHT
TZOFFSETFROM:+0100
TZOFFSETTO:+0200
TZNAME:CEST
DTSTART:20220327T010000
END:DAYLIGHT
BEGIN:STANDARD
TZOFFSETFROM:+0200
TZOFFSETTO:+0100
TZNAME:CET
DTSTART:20221030T010000
END:STANDARD
BEGIN:DAYLIGHT
TZOFFSETFROM:+0100
TZOFFSETTO:+0200
TZNAME:CEST
DTSTART:20230326T010000
END:DAYLIGHT
BEGIN:STANDARD
TZOFFSETFROM:+0200
TZOFFSETTO:+0100
TZNAME:CET
DTSTART:20231029T010000
END:STANDARD
BEGIN:DAYLIGHT
TZOFFSETFROM:+0100
TZOFFSETTO:+0200
TZNAME:CEST
DTSTART:20240331T010000
END:DAYLIGHT
BEGIN:STANDARD
TZOFFSETFROM:+0200
TZOFFSETTO:+0100
TZNAME:CET
DTSTART:20241027T010000
END:STANDARD
END:VTIMEZONE
BEGIN:VEVENT
DTSTART;TZID=Europe/Paris:20230803T190000
DTEND;TZID=Europe/Paris:20230803T230000
DTSTAMP:20260425T015342
CREATED:20230503T095408Z
LAST-MODIFIED:20230503T095408Z
UID:995-1691089200-1691103600@www.danslesvignes.fr
SUMMARY:Bienvenue Chai les vignerons
DESCRIPTION:Bienvenue Chai les vignerons \nCes quelques rencontres dans le vignoble de Fronton mettent en lumière un vigneron qui vous fera découvrir sa passion des vins et de son terroir grâce aux visites de son chai\, de ses vignes. Voir également dans les pages Tarn-et-Garonne.  \nLES JEUDIS DU 29/06 AU 03/08\n03/08 : Domaine Plaisance Penavayre\, Vacquiers. Supplément balade trottinette : 35€/pers. (3 pers. minimum) \nA partir de 19h00 \n7€ \nwww.vins-de-fronton.com \nPlus d’événements en Haute-Garonne : www.danslesvignes.fr/events/categorie/31-haute-garonne
URL:https://www.danslesvignes.fr/event/bienvenue-chai-les-vignerons-4/
LOCATION:VACQUIERS\, 31340
CATEGORIES:31. HAUTE-GARONNE
END:VEVENT
BEGIN:VEVENT
DTSTART;VALUE=DATE:20230818
DTEND;VALUE=DATE:20230821
DTSTAMP:20260425T015342
CREATED:20230503T093357Z
LAST-MODIFIED:20230503T093357Z
UID:981-1692316800-1692575999@www.danslesvignes.fr
SUMMARY:Saveurs et Senteurs
DESCRIPTION:Saveurs et Senteurs \nLe temps d’un week-end\, Fronton fête son Vignoble et vibre au rythme de la musique et des animations. Au menu\, d’abord\, des dégustations bien sûr\, avec une trentaine de domaines représentés. Des produits du terroir ensuite\, pour marier avec les vins. Saveurs & Senteurs ce sont aussi des ateliers œnologiques ouverts à tous\, des animations pour les enfants\, un concours des vins\, une exposition\, etc. \n5€ avec verre de dégustation \nwww.fronton-saveurs-senteurs.fr\nwww.vins-de-fronton.com \nPlus d’événements en Haute-Garonne : www.danslesvignes.fr/events/categorie/31-haute-garonne
URL:https://www.danslesvignes.fr/event/saveurs-et-senteurs/
LOCATION:FRONTON\, 31620
CATEGORIES:31. HAUTE-GARONNE
END:VEVENT
BEGIN:VEVENT
DTSTART;TZID=Europe/Paris:20230826T210000
DTEND;TZID=Europe/Paris:20230826T233000
DTSTAMP:20260425T015342
CREATED:20230503T094325Z
LAST-MODIFIED:20230503T094325Z
UID:987-1693083600-1693092600@www.danslesvignes.fr
SUMMARY:Festival Musique en vignes
DESCRIPTION:Festival Musique en vignes \nCe festival propose des concerts de musique classique avec le Vignoble de Fronton\, dans les caves\, domaines ou lieux emblématiques de l’appelation suivis de dégustations. Voir également dans les pages Tarn-et-Garonne. \nDU SA. 01/07 AU SA. 10/09 \n09/07\, 18h00 : Château Caze\, Villaudric. Concert suivi d’un restaurant éphémère\n26/08\, 21h00 : Château des Peyraux\, Villematier\n31/08\, 20h30 : Château Cransac\, Fronton. Dégustations des vins du Château\n03/09\, 17h30 : Église de St Sauveur. Dégustations des vins du Domaine le Roc \nwww.musique-en-vignes.com\nwww.facebook.com/festival-musiqueenvignesdanslefrontonnaisofficiel \nPlus d’événements en Haute-Garonne : www.danslesvignes.fr/events/categorie/31-haute-garonne
URL:https://www.danslesvignes.fr/event/festival-musique-en-vignes-4/
LOCATION:VILLEMATIER\, 31340
CATEGORIES:31. HAUTE-GARONNE
END:VEVENT
BEGIN:VEVENT
DTSTART;TZID=Europe/Paris:20230831T203000
DTEND;TZID=Europe/Paris:20230831T233000
DTSTAMP:20260425T015342
CREATED:20230503T094530Z
LAST-MODIFIED:20230503T094530Z
UID:990-1693513800-1693524600@www.danslesvignes.fr
SUMMARY:Festival Musique en vignes
DESCRIPTION:Festival Musique en vignes \nCe festival propose des concerts de musique classique avec le Vignoble de Fronton\, dans les caves\, domaines ou lieux emblématiques de l’appelation suivis de dégustations. Voir également dans les pages Tarn-et-Garonne. \nDU SA. 01/07 AU SA. 10/09 \n09/07\, 18h00 : Château Caze\, Villaudric. Concert suivi d’un restaurant éphémère\n26/08\, 21h00 : Château des Peyraux\, Villematier\n31/08\, 20h30 : Château Cransac\, Fronton. Dégustations des vins du Château\n03/09\, 17h30 : Église de St Sauveur. Dégustations des vins du Domaine le Roc \nwww.musique-en-vignes.com\nwww.facebook.com/festival-musiqueenvignesdanslefrontonnaisofficiel \nPlus d’événements en Haute-Garonne : www.danslesvignes.fr/events/categorie/31-haute-garonne
URL:https://www.danslesvignes.fr/event/festival-musique-en-vignes-5/
LOCATION:FRONTON\, 31620
CATEGORIES:31. HAUTE-GARONNE
END:VEVENT
END:VCALENDAR