BEGIN:VCALENDAR
VERSION:2.0
PRODID:-//Dans les vignes - ECPv6.15.20//NONSGML v1.0//EN
CALSCALE:GREGORIAN
METHOD:PUBLISH
X-WR-CALNAME:Dans les vignes
X-ORIGINAL-URL:https://www.danslesvignes.fr
X-WR-CALDESC:Évènements pour Dans les vignes
REFRESH-INTERVAL;VALUE=DURATION:PT1H
X-Robots-Tag:noindex
X-PUBLISHED-TTL:PT1H
BEGIN:VTIMEZONE
TZID:Europe/Paris
BEGIN:DAYLIGHT
TZOFFSETFROM:+0100
TZOFFSETTO:+0200
TZNAME:CEST
DTSTART:20230326T010000
END:DAYLIGHT
BEGIN:STANDARD
TZOFFSETFROM:+0200
TZOFFSETTO:+0100
TZNAME:CET
DTSTART:20231029T010000
END:STANDARD
BEGIN:DAYLIGHT
TZOFFSETFROM:+0100
TZOFFSETTO:+0200
TZNAME:CEST
DTSTART:20240331T010000
END:DAYLIGHT
BEGIN:STANDARD
TZOFFSETFROM:+0200
TZOFFSETTO:+0100
TZNAME:CET
DTSTART:20241027T010000
END:STANDARD
BEGIN:DAYLIGHT
TZOFFSETFROM:+0100
TZOFFSETTO:+0200
TZNAME:CEST
DTSTART:20250330T010000
END:DAYLIGHT
BEGIN:STANDARD
TZOFFSETFROM:+0200
TZOFFSETTO:+0100
TZNAME:CET
DTSTART:20251026T010000
END:STANDARD
END:VTIMEZONE
BEGIN:VEVENT
DTSTART;TZID=Europe/Paris:20240808T190000
DTEND;TZID=Europe/Paris:20240808T230000
DTSTAMP:20260424T034353
CREATED:20240702T100245Z
LAST-MODIFIED:20240702T100245Z
UID:2843-1723143600-1723158000@www.danslesvignes.fr
SUMMARY:Les Buissonnières
DESCRIPTION:Les Buissonnières \nDeux fois dans l’été\, en préambule à la fête des vins Saveurs & Senteurs\, les Buissonières vous font découvrir ou redécouvrir les saveurs du terroir ! \nLes vignerons\, réunis pour l’occasion\, proposent une dégustation à marier avec les produits locaux présents (food truck\, produits locaux…) Pour vos bambins\, balades à poneys ou encore jeux en bois… Le tout dans une ambiance musicale. Bref\, des moments comme vous les aimez où se mêlent découverte et convivialité\, à partager en famille ou entre amis. \nA partir de 19h00\nChâteau de Capdeville à Fronton \n5€ avec verre de dégustation \nwww.vins-de-fronton.com \nPlus d’événements en Occitanie : www.danslesvignes.fr
URL:https://www.danslesvignes.fr/event/les-buissonnieres-4/
LOCATION:FRONTON\, 31620
CATEGORIES:31. HAUTE-GARONNE
ATTACH;FMTTYPE=image/png:https://www.danslesvignes.fr/wp-content/uploads/2024/07/31_07-FRONTON.png
END:VEVENT
BEGIN:VEVENT
DTSTART;VALUE=DATE:20240823
DTEND;VALUE=DATE:20240826
DTSTAMP:20260424T034353
CREATED:20240727T080726Z
LAST-MODIFIED:20240727T080726Z
UID:2986-1724371200-1724630399@www.danslesvignes.fr
SUMMARY:Saveurs et Senteurs
DESCRIPTION:Saveurs et Senteurs \nLe temps d’un week-end\, Fronton fête son Vignoble et vibre au rythme de la musique et des animations. Au menu\, d’abord\, des dégustations bien sûr\, avec 23 domaines représentés. Des produits du terroir ensuite\, pour marier avec les vins. Saveurs & Senteurs ce sont aussi des ateliers œnologiques ouverts à tous\, des animations pour les enfants\, un concours des vins\, une exposition\, etc. \n5€ avec verre de dégustation \nwww.fronton-saveurs-senteurs.fr\nwww.vins-de-fronton.com \nPlus d’événements en Occitanie : www.danslesvignes.fr
URL:https://www.danslesvignes.fr/event/saveurs-et-senteurs-2/
LOCATION:FRONTON\, 31620
CATEGORIES:31. HAUTE-GARONNE
ATTACH;FMTTYPE=image/jpeg:https://www.danslesvignes.fr/wp-content/uploads/2024/07/31_08_23-FRONTON.jpeg
END:VEVENT
BEGIN:VEVENT
DTSTART;TZID=Europe/Paris:20240830T160000
DTEND;TZID=Europe/Paris:20240831T230000
DTSTAMP:20260424T034353
CREATED:20240703T123033Z
LAST-MODIFIED:20240703T123643Z
UID:2853-1725033600-1725145200@www.danslesvignes.fr
SUMMARY:Fête des Vendanges
DESCRIPTION:Fête des Vendanges \nLa Fête des Vendanges revient pour une 3ème édition les 30 & 31 août\, place du Capitole.\nUne quarantaine de stands vigneron représentant l’ensemble des terroirs du Sud-ouest seront présents. De nombreuses animations durant ces deux jours de festivités.\nVendredi : 16h00-23h00\nSamedi : 12h00-23h00 \nPlace du Capitole \nwww.facebook.com\nwww.vignobles-sudouest.fr \nPlus d’événements en Occitanie : www.danslesvignes.fr
URL:https://www.danslesvignes.fr/event/fete-des-vendanges-2/
LOCATION:TOULOUSE\, 31000
CATEGORIES:31. HAUTE-GARONNE
ATTACH;FMTTYPE=image/jpeg:https://www.danslesvignes.fr/wp-content/uploads/2024/07/31_08_30-TOULOUSE.jpeg
END:VEVENT
END:VCALENDAR