BEGIN:VCALENDAR
VERSION:2.0
PRODID:-//Dans les vignes - ECPv6.15.20//NONSGML v1.0//EN
CALSCALE:GREGORIAN
METHOD:PUBLISH
X-ORIGINAL-URL:https://www.danslesvignes.fr
X-WR-CALDESC:Évènements pour Dans les vignes
REFRESH-INTERVAL;VALUE=DURATION:PT1H
X-Robots-Tag:noindex
X-PUBLISHED-TTL:PT1H
BEGIN:VTIMEZONE
TZID:Europe/Paris
BEGIN:DAYLIGHT
TZOFFSETFROM:+0100
TZOFFSETTO:+0200
TZNAME:CEST
DTSTART:20240331T010000
END:DAYLIGHT
BEGIN:STANDARD
TZOFFSETFROM:+0200
TZOFFSETTO:+0100
TZNAME:CET
DTSTART:20241027T010000
END:STANDARD
BEGIN:DAYLIGHT
TZOFFSETFROM:+0100
TZOFFSETTO:+0200
TZNAME:CEST
DTSTART:20250330T010000
END:DAYLIGHT
BEGIN:STANDARD
TZOFFSETFROM:+0200
TZOFFSETTO:+0100
TZNAME:CET
DTSTART:20251026T010000
END:STANDARD
BEGIN:DAYLIGHT
TZOFFSETFROM:+0100
TZOFFSETTO:+0200
TZNAME:CEST
DTSTART:20260329T010000
END:DAYLIGHT
BEGIN:STANDARD
TZOFFSETFROM:+0200
TZOFFSETTO:+0100
TZNAME:CET
DTSTART:20261025T010000
END:STANDARD
END:VTIMEZONE
BEGIN:VEVENT
DTSTART;TZID=Europe/Paris:20251017T160000
DTEND;TZID=Europe/Paris:20251018T230000
DTSTAMP:20260421T035730
CREATED:20250602T123111Z
LAST-MODIFIED:20250602T123111Z
UID:3810-1760716800-1760828400@www.danslesvignes.fr
SUMMARY:Fête des Vendanges
DESCRIPTION:  \nLa Fête des Vendanges revient pour une 3ème édition les 30 & 31 août\, place du Capitole.\nUne quarantaine de stands vigneron représentant l’ensemble des terroirs du Sud-ouest seront présents. De nombreuses animations durant ces deux jours de festivités.\nVendredi : 16h00-23h00\nSamedi : 12h00-23h00 \nPlace du Capitole \nwww.facebook.com\nwww.vignobles-sudouest.fr \nPlus d’événements en Occitanie : www.danslesvignes.fr
URL:https://www.danslesvignes.fr/event/fete-des-vendanges-3/
LOCATION:TOULOUSE\, 31000
CATEGORIES:31. HAUTE-GARONNE
ATTACH;FMTTYPE=image/jpeg:https://www.danslesvignes.fr/wp-content/uploads/2025/06/31_10_17-TOULOUSE.jpeg
END:VEVENT
END:VCALENDAR