BEGIN:VCALENDAR
VERSION:2.0
PRODID:-//Dans les vignes - ECPv6.15.20//NONSGML v1.0//EN
CALSCALE:GREGORIAN
METHOD:PUBLISH
X-ORIGINAL-URL:https://www.danslesvignes.fr
X-WR-CALDESC:Évènements pour Dans les vignes
REFRESH-INTERVAL;VALUE=DURATION:PT1H
X-Robots-Tag:noindex
X-PUBLISHED-TTL:PT1H
BEGIN:VTIMEZONE
TZID:Europe/Paris
BEGIN:DAYLIGHT
TZOFFSETFROM:+0100
TZOFFSETTO:+0200
TZNAME:CEST
DTSTART:20220327T010000
END:DAYLIGHT
BEGIN:STANDARD
TZOFFSETFROM:+0200
TZOFFSETTO:+0100
TZNAME:CET
DTSTART:20221030T010000
END:STANDARD
BEGIN:DAYLIGHT
TZOFFSETFROM:+0100
TZOFFSETTO:+0200
TZNAME:CEST
DTSTART:20230326T010000
END:DAYLIGHT
BEGIN:STANDARD
TZOFFSETFROM:+0200
TZOFFSETTO:+0100
TZNAME:CET
DTSTART:20231029T010000
END:STANDARD
BEGIN:DAYLIGHT
TZOFFSETFROM:+0100
TZOFFSETTO:+0200
TZNAME:CEST
DTSTART:20240331T010000
END:DAYLIGHT
BEGIN:STANDARD
TZOFFSETFROM:+0200
TZOFFSETTO:+0100
TZNAME:CET
DTSTART:20241027T010000
END:STANDARD
END:VTIMEZONE
BEGIN:VEVENT
DTSTART;TZID=Europe/Paris:20230430T110000
DTEND;TZID=Europe/Paris:20230501T170000
DTSTAMP:20260424T181220
CREATED:20230404T101133Z
LAST-MODIFIED:20230411T161522Z
UID:612-1682852400-1682960400@www.danslesvignes.fr
SUMMARY:Indigènes
DESCRIPTION:Indigènes \nSalon des vins Catalogne et Occitanie.\nMarché de producteurs engagés\, cuisine sur place et musique toute la journée\, sorties. \nDi. 11h00-18h00 / Lu. 11h00-17h00  \nPass 1 jour 8€ Pass 2 jours 14€ (avec verre dégustation) \nParc de Clairfont \nsite officiel\nwww.facebook.com \nPlus d’événements dans les Pyrénées-Orientales : www.danslesvignes.fr/events/categorie/66-pyrenees-orientales/
URL:https://www.danslesvignes.fr/event/indigenes/
LOCATION:TOULOUGES\, 66350
CATEGORIES:66. PYRENEES ORIENTALES
ATTACH;FMTTYPE=image/webp:https://www.danslesvignes.fr/wp-content/uploads/2023/04/66_04_30-INDIGENES.webp
END:VEVENT
BEGIN:VEVENT
DTSTART;TZID=Europe/Paris:20230528T104500
DTEND;TZID=Europe/Paris:20230528T104500
DTSTAMP:20260424T181220
CREATED:20230317T152038Z
LAST-MODIFIED:20230429T051412Z
UID:128-1685270700-1685270700@www.danslesvignes.fr
SUMMARY:Les Amorioles
DESCRIPTION:Les Amorioles\, c’est une balade gourmande de 7km environ au coeur du vignoble de Maury\, en présence de plus de 30 vignerons de l’AOP Maury\, ponctuée par 6 étapes gourmandes et clôturée en musique avec la bandas Les Canaillous. Menu concocté par Franck Séguret du Clos des Lys à Perpignan\, Le Pichenouille à Maury. \nDépart toutes les 15mn : 10h45-13h15 \nAdulte 57€ (51€ à partir de 12 personnes)\nEnfant 16€ \nRéservation obligatoire (COMPLET) \nwww.maury-aop.fr\nmy.weezevent.com/amorioles-2023 \nPlus d’événements dans les Pyrénées-Orientales : www.danslesvignes.fr/events/categorie/66-pyrenees-orientales/
URL:https://www.danslesvignes.fr/event/les-amorioles/
LOCATION:MAURY\, Maury\, 66460\, France
CATEGORIES:66. PYRENEES ORIENTALES
ATTACH;FMTTYPE=image/png:https://www.danslesvignes.fr/wp-content/uploads/2023/03/66_05_28-AMORIOLES.png
END:VEVENT
END:VCALENDAR