BEGIN:VCALENDAR
VERSION:2.0
PRODID:-//Dans les vignes - ECPv6.15.20//NONSGML v1.0//EN
CALSCALE:GREGORIAN
METHOD:PUBLISH
X-WR-CALNAME:Dans les vignes
X-ORIGINAL-URL:https://www.danslesvignes.fr
X-WR-CALDESC:Évènements pour Dans les vignes
REFRESH-INTERVAL;VALUE=DURATION:PT1H
X-Robots-Tag:noindex
X-PUBLISHED-TTL:PT1H
BEGIN:VTIMEZONE
TZID:Europe/Paris
BEGIN:DAYLIGHT
TZOFFSETFROM:+0100
TZOFFSETTO:+0200
TZNAME:CEST
DTSTART:20220327T010000
END:DAYLIGHT
BEGIN:STANDARD
TZOFFSETFROM:+0200
TZOFFSETTO:+0100
TZNAME:CET
DTSTART:20221030T010000
END:STANDARD
BEGIN:DAYLIGHT
TZOFFSETFROM:+0100
TZOFFSETTO:+0200
TZNAME:CEST
DTSTART:20230326T010000
END:DAYLIGHT
BEGIN:STANDARD
TZOFFSETFROM:+0200
TZOFFSETTO:+0100
TZNAME:CET
DTSTART:20231029T010000
END:STANDARD
BEGIN:DAYLIGHT
TZOFFSETFROM:+0100
TZOFFSETTO:+0200
TZNAME:CEST
DTSTART:20240331T010000
END:DAYLIGHT
BEGIN:STANDARD
TZOFFSETFROM:+0200
TZOFFSETTO:+0100
TZNAME:CET
DTSTART:20241027T010000
END:STANDARD
END:VTIMEZONE
BEGIN:VEVENT
DTSTART;TZID=Europe/Paris:20230603T110000
DTEND;TZID=Europe/Paris:20230603T183000
DTSTAMP:20260424T161227
CREATED:20230602T091121Z
LAST-MODIFIED:20230602T091121Z
UID:1322-1685790000-1685817000@www.danslesvignes.fr
SUMMARY:Marché des vins du Roussillon
DESCRIPTION:Marché des vins du Roussillon \nVenez découvrir les vins et cépages uniques du Roussillon. Rencontres dégustations avec 18 domaines. Stands de restauration : cuisine traditionnelle catalane\, huîtres. Animation musicale \n6€ le verre de dégustation + 5 tickets\n11h00-18h30\nPlace de la Loge \n/www.perpignantourisme.com \nPlus d’événements dans les Pyrénées-Orientales : www.danslesvignes.fr/events/categorie/66-pyrenees-orientales/
URL:https://www.danslesvignes.fr/event/marche-des-vins-du-roussillon/
LOCATION:PERPIGNAN\, 66000
CATEGORIES:66. PYRENEES ORIENTALES
ATTACH;FMTTYPE=image/jpeg:https://www.danslesvignes.fr/wp-content/uploads/2023/06/66_06_03-MARCHE-VINS-ROUSSILLON.jpeg
END:VEVENT
BEGIN:VEVENT
DTSTART;VALUE=DATE:20230604
DTEND;VALUE=DATE:20230605
DTSTAMP:20260424T161227
CREATED:20230402T075316Z
LAST-MODIFIED:20230515T133046Z
UID:382-1685836800-1685923199@www.danslesvignes.fr
SUMMARY:Les Caminades
DESCRIPTION:Les Caminades \nBalade gastronomique de 6km en 6 étapes autour de l’anse de Paulilles\, cœur du cru Collioure Banyuls. Chaque dégustation sera animée par les vignerons de la Côte Vermeille (24 domaines) et les chefs cuisiniers des « Toques blanches ». \nDépart toutes les 30mn : 09h00-13h00 \nAdulte 65€ (60€ à partir de 10 personnes).\nEnfant 35€\nParcours guidé à 09h00 par Jean-Pierre Bayo (président de Banyuls-rando) : 75€ \nRéservation obligatoire \nwww.lesvigneronssurmer.com\nhttps://my.weezevent.com/les-caminades-2023 \nPlus d’événements dans les Pyrénées-Orientales : www.danslesvignes.fr/events/categorie/66-pyrenees-orientales/
URL:https://www.danslesvignes.fr/event/les-caminades/
LOCATION:LES PAULILLES\, 66660
CATEGORIES:66. PYRENEES ORIENTALES
ATTACH;FMTTYPE=image/jpeg:https://www.danslesvignes.fr/wp-content/uploads/2023/04/66_06_04-CAMINADES.jpg
END:VEVENT
BEGIN:VEVENT
DTSTART;TZID=Europe/Paris:20230608T180000
DTEND;TZID=Europe/Paris:20230610T233000
DTSTAMP:20260424T161227
CREATED:20230402T075931Z
LAST-MODIFIED:20230412T075318Z
UID:385-1686247200-1686439800@www.danslesvignes.fr
SUMMARY:Bacchus Festival Roussillon
DESCRIPTION:Bacchus Festival Roussillon \nPremier festival 100% épicurien // 100 % circuit court.\nAprès le succès du premier millésime\, le Bacchus Festival est de retour ! Un bon moment à vivre en famille\, entre amis pour découvrir les Vins du Roussillon dans un cadre exceptionnel avec une scène donnant sur la mer\, un village de 21 exposants des vins du Roussillon tirés au sort\, des espaces de restauration mettant en valeur les produits locaux et l’enchainement de 3 concerts par soir.\nJeudi 08 : Sanseverino\, Amir et Christophe Maé.\nVendredi 09 : Elmer Food Beat\, Charlie Winston et Zazie.\nSamedi 10 : Will Barber\, Ibrahim Maalouf et Juliette Armanet. \nA partir de 18h00 \nPass 1 jour 39€ – Pass  3 jours 100€ \nChâteau de Valmy \nwww.festival-bacchus.fr\nwww.facebook.com/festivalbacchus \nPlus d’événements dans les Pyrénées-Orientales : www.danslesvignes.fr/events/categorie/66-pyrenees-orientales/
URL:https://www.danslesvignes.fr/event/bacchus-festival-roussillon/
LOCATION:ARGELES-SUR-MER\, 66700
CATEGORIES:66. PYRENEES ORIENTALES
ATTACH;FMTTYPE=image/png:https://www.danslesvignes.fr/wp-content/uploads/2023/04/66_06_08-BACCHUS.png
END:VEVENT
BEGIN:VEVENT
DTSTART;TZID=Europe/Paris:20230611T090000
DTEND;TZID=Europe/Paris:20230611T170000
DTSTAMP:20260424T161227
CREATED:20230425T055255Z
LAST-MODIFIED:20230425T061232Z
UID:930-1686474000-1686502800@www.danslesvignes.fr
SUMMARY:Dionysiade
DESCRIPTION:Dionysiade \nEvénement festif qui célèbre les vins et terroirs de la Vallée de l’Agly\, organisé dans un village différent de la vallée. Concours de dégustateurs\, initiation à la dégustation de vins\, grand marché de producteurs locaux\, randonnée panoramique\, activités découvertes… \n09h00-17h00 \n5€ le verre de dégustation \nwww.facebook.com\nwww.agly-tourisme.fr \nPlus d’événements dans les Pyrénées-Orientales : www.danslesvignes.fr/events/categorie/66-pyrenees-orientales/
URL:https://www.danslesvignes.fr/event/dionysiade/
LOCATION:CASSAGNES\, 66720
CATEGORIES:66. PYRENEES ORIENTALES
ATTACH;FMTTYPE=image/jpeg:https://www.danslesvignes.fr/wp-content/uploads/2023/04/66_06_11-DIONYSIADE.jpg
END:VEVENT
BEGIN:VEVENT
DTSTART;TZID=Europe/Paris:20230615T190000
DTEND;TZID=Europe/Paris:20230617T233000
DTSTAMP:20260424T161227
CREATED:20230402T080408Z
LAST-MODIFIED:20230412T081658Z
UID:389-1686855600-1687044600@www.danslesvignes.fr
SUMMARY:Festival Voix de Femmes
DESCRIPTION:Festival Voix de Femmes \nAu bar à vins du festival ou lors des dégustations\, les vignerons de l’appellation Maury regroupant vignerons indépendants et caves coopératives de la Haute vallée de l’Agly en collaboration avec le Cru Maury vous ferons découvrir leurs vins et ce terroir exceptionnel. Restauration avec des produits locaux et bio.\nJeudi 15 : Fischbach et Véronique Sanson.\nVendredi 16 : Clair et La Femme.\nSamedi 17 : Zaho de Sagazan et Jeanne Added. \nA partir de 19h00 \nPass 3 jours 89€ – Pass 1 jour 35€ (sauf Jeudi 38€) \nsite officiel\nwww.facebook.com \n\nPlus d’événements dans les Pyrénées-Orientales : www.danslesvignes.fr/events/categorie/66-pyrenees-orientales/
URL:https://www.danslesvignes.fr/event/festival-voix-de-femmes/
LOCATION:MAURY\, Maury\, 66460\, France
CATEGORIES:66. PYRENEES ORIENTALES
ATTACH;FMTTYPE=image/png:https://www.danslesvignes.fr/wp-content/uploads/2023/04/66_06_15-VOIX.png
END:VEVENT
BEGIN:VEVENT
DTSTART;TZID=Europe/Paris:20230624T193000
DTEND;TZID=Europe/Paris:20230624T235900
DTSTAMP:20260424T161227
CREATED:20230402T083914Z
LAST-MODIFIED:20230609T120851Z
UID:413-1687635000-1687651140@www.danslesvignes.fr
SUMMARY:Vignes en Fleurs
DESCRIPTION:Vignes en fleur \nSur la nouvelle esplanade du faubourg à Collioure\, la soirée blanche est consacrée au 20e anniversaire du Collioure Blanc.\nDes ateliers de dégustations élaborés par Masashi IIJIMA (5eme péché) et Pascal BORRELL (le Fanal) permettront des accords originaux avec les différents millésimes des Collioure Blanc des domaines du cru.\nUne ambiance musicale et un cadre exceptionnel face au clocher de Collioure feront de cette soirée un moment privilégié\, unique\, et mémorable dans l’histoire de notre Cru. \nwww.lesvigneronssurmer.com \nPlus d’événements dans les Pyrénées-Orientales : www.danslesvignes.fr/events/categorie/66-pyrenees-orientales/
URL:https://www.danslesvignes.fr/event/vignes-en-fleurs/
LOCATION:COLLIOURE\, 66190
CATEGORIES:66. PYRENEES ORIENTALES
ATTACH;FMTTYPE=image/jpeg:https://www.danslesvignes.fr/wp-content/uploads/2023/04/IMG_6103.jpeg
END:VEVENT
BEGIN:VEVENT
DTSTART;VALUE=DATE:20230625
DTEND;VALUE=DATE:20230626
DTSTAMP:20260424T161227
CREATED:20230402T084232Z
LAST-MODIFIED:20230425T061517Z
UID:416-1687651200-1687737599@www.danslesvignes.fr
SUMMARY:Bouteilles à la mer
DESCRIPTION:Bouteilles à la mer \nDégustation de cuvées traditionnelles vieillies en mer. \nBalade et dégustations dans les vignes\, déjeuner champêtre à l’Arboretum réalisé par le chef\, Ruben Gomez\, Toque Blanche du Roussillon. Ambiance jazzy et festive avec groupes musicaux et animation autour du vin. Tous les tarifs comprennent les vins dégustés\, les mises en bouche\, le panier ou le buffet gourmand\, les animations musicales et le kit participant. \nDépart 10h00 de l’Air du Mas \nAdulte 49€ (45€ à partir de 12 personnes)\nEnfant jusqu’à 12 ans : 12€\nRéservation obligatoire \nwww.ot-canet.fr\nwww.facebook.com/VDLMCanetRoussillon\nwww.roussillon.wine \nPlus d’événements dans les Pyrénées-Orientales : www.danslesvignes.fr/events/categorie/66-pyrenees-orientales/
URL:https://www.danslesvignes.fr/event/bouteilles-a-la-mer/
LOCATION:CANET-EN-ROUSSILLON\, 66140
CATEGORIES:66. PYRENEES ORIENTALES
ATTACH;FMTTYPE=image/jpeg:https://www.danslesvignes.fr/wp-content/uploads/2023/04/66_06_25-BOUTEILLES.jpg
END:VEVENT
END:VCALENDAR