BEGIN:VCALENDAR
VERSION:2.0
PRODID:-//Dans les vignes - ECPv6.15.20//NONSGML v1.0//EN
CALSCALE:GREGORIAN
METHOD:PUBLISH
X-ORIGINAL-URL:https://www.danslesvignes.fr
X-WR-CALDESC:Évènements pour Dans les vignes
REFRESH-INTERVAL;VALUE=DURATION:PT1H
X-Robots-Tag:noindex
X-PUBLISHED-TTL:PT1H
BEGIN:VTIMEZONE
TZID:Europe/Paris
BEGIN:DAYLIGHT
TZOFFSETFROM:+0100
TZOFFSETTO:+0200
TZNAME:CEST
DTSTART:20220327T010000
END:DAYLIGHT
BEGIN:STANDARD
TZOFFSETFROM:+0200
TZOFFSETTO:+0100
TZNAME:CET
DTSTART:20221030T010000
END:STANDARD
BEGIN:DAYLIGHT
TZOFFSETFROM:+0100
TZOFFSETTO:+0200
TZNAME:CEST
DTSTART:20230326T010000
END:DAYLIGHT
BEGIN:STANDARD
TZOFFSETFROM:+0200
TZOFFSETTO:+0100
TZNAME:CET
DTSTART:20231029T010000
END:STANDARD
BEGIN:DAYLIGHT
TZOFFSETFROM:+0100
TZOFFSETTO:+0200
TZNAME:CEST
DTSTART:20240331T010000
END:DAYLIGHT
BEGIN:STANDARD
TZOFFSETFROM:+0200
TZOFFSETTO:+0100
TZNAME:CET
DTSTART:20241027T010000
END:STANDARD
END:VTIMEZONE
BEGIN:VEVENT
DTSTART;TZID=Europe/Paris:20230802T190000
DTEND;TZID=Europe/Paris:20230802T223000
DTSTAMP:20260424T124112
CREATED:20230704T163221Z
LAST-MODIFIED:20230704T163221Z
UID:1593-1691002800-1691015400@www.danslesvignes.fr
SUMMARY:Vins en Têt
DESCRIPTION:Vins en Têt \nLes vignerons du Roussillon rejoignent le festival Têt en Fête pour 4 soirées. Venez flâner sur les berges de la Têt et rencontrez-les pour des dégustations – ventes uniques. Muni de votre verre collector et de votre pass dégustation\, partagez une pause au bord de l’eau avec ces artistes du vignoble\, le tout dans une ambiance musicale. Snacking et restauration sur place. \nLes mercredis du 19/07 au 09/08.\n6 € le verre + 2 tickets dégustation\n4 € la recharge de 2 tickets \nwww.roussillon.wine \nPlus d’événements dans les Pyrénées-Orientales : www.danslesvignes.fr/events/categorie/66-pyrenees-orientales/
URL:https://www.danslesvignes.fr/event/vins-en-tet-3/
LOCATION:PERPIGNAN\, 66000
CATEGORIES:66. PYRENEES ORIENTALES
ATTACH;FMTTYPE=image/png:https://www.danslesvignes.fr/wp-content/uploads/2023/07/66_07_19-VINS-EN-TET.png
END:VEVENT
BEGIN:VEVENT
DTSTART;TZID=Europe/Paris:20230809T190000
DTEND;TZID=Europe/Paris:20230809T223000
DTSTAMP:20260424T124112
CREATED:20230704T163346Z
LAST-MODIFIED:20230704T163346Z
UID:1595-1691607600-1691620200@www.danslesvignes.fr
SUMMARY:Vins en Têt
DESCRIPTION:Vins en Têt \nLes vignerons du Roussillon rejoignent le festival Têt en Fête pour 4 soirées. Venez flâner sur les berges de la Têt et rencontrez-les pour des dégustations – ventes uniques. Muni de votre verre collector et de votre pass dégustation\, partagez une pause au bord de l’eau avec ces artistes du vignoble\, le tout dans une ambiance musicale. Snacking et restauration sur place. \nLes mercredis du 19/07 au 09/08.\n6 € le verre + 2 tickets dégustation\n4 € la recharge de 2 tickets \nwww.roussillon.wine \nPlus d’événements dans les Pyrénées-Orientales : www.danslesvignes.fr/events/categorie/66-pyrenees-orientales/
URL:https://www.danslesvignes.fr/event/vins-en-tet-4/
LOCATION:PERPIGNAN\, 66000
CATEGORIES:66. PYRENEES ORIENTALES
ATTACH;FMTTYPE=image/png:https://www.danslesvignes.fr/wp-content/uploads/2023/07/66_07_19-VINS-EN-TET.png
END:VEVENT
BEGIN:VEVENT
DTSTART;TZID=Europe/Paris:20230816T183000
DTEND;TZID=Europe/Paris:20230816T223000
DTSTAMP:20260424T124112
CREATED:20230718T085238Z
LAST-MODIFIED:20230718T085238Z
UID:1720-1692210600-1692225000@www.danslesvignes.fr
SUMMARY:Rosé Vibes
DESCRIPTION:Rosé Vibes \nFace à la mer\, une dégustation de rosés du Roussillon\, proposée par les Vignerons du Roussillon Sud de France.\n\n18h30-22h30\nThéâtre de la mer \nwww.canetenroussillon.fr \nPlus d’événements dans les Pyrénées-Orientales : www.danslesvignes.fr/events/categorie/66-pyrenees-orientales/
URL:https://www.danslesvignes.fr/event/rose-vibes/
LOCATION:CANET-EN-ROUSSILLON\, 66140
CATEGORIES:66. PYRENEES ORIENTALES
ATTACH;FMTTYPE=image/png:https://www.danslesvignes.fr/wp-content/uploads/2023/07/66_08_16-ROSE-VIBES.png
END:VEVENT
END:VCALENDAR