BEGIN:VCALENDAR
VERSION:2.0
PRODID:-//Dans les vignes - ECPv6.15.20//NONSGML v1.0//EN
CALSCALE:GREGORIAN
METHOD:PUBLISH
X-ORIGINAL-URL:https://www.danslesvignes.fr
X-WR-CALDESC:Évènements pour Dans les vignes
REFRESH-INTERVAL;VALUE=DURATION:PT1H
X-Robots-Tag:noindex
X-PUBLISHED-TTL:PT1H
BEGIN:VTIMEZONE
TZID:Europe/Paris
BEGIN:DAYLIGHT
TZOFFSETFROM:+0100
TZOFFSETTO:+0200
TZNAME:CEST
DTSTART:20230326T010000
END:DAYLIGHT
BEGIN:STANDARD
TZOFFSETFROM:+0200
TZOFFSETTO:+0100
TZNAME:CET
DTSTART:20231029T010000
END:STANDARD
BEGIN:DAYLIGHT
TZOFFSETFROM:+0100
TZOFFSETTO:+0200
TZNAME:CEST
DTSTART:20240331T010000
END:DAYLIGHT
BEGIN:STANDARD
TZOFFSETFROM:+0200
TZOFFSETTO:+0100
TZNAME:CET
DTSTART:20241027T010000
END:STANDARD
BEGIN:DAYLIGHT
TZOFFSETFROM:+0100
TZOFFSETTO:+0200
TZNAME:CEST
DTSTART:20250330T010000
END:DAYLIGHT
BEGIN:STANDARD
TZOFFSETFROM:+0200
TZOFFSETTO:+0100
TZNAME:CET
DTSTART:20251026T010000
END:STANDARD
END:VTIMEZONE
BEGIN:VEVENT
DTSTART;VALUE=DATE:20240606
DTEND;VALUE=DATE:20240610
DTSTAMP:20260423T190904
CREATED:20240201T065405Z
LAST-MODIFIED:20240419T142722Z
UID:1801-1717632000-1717977599@www.danslesvignes.fr
SUMMARY:Bacchus Festival Roussillon
DESCRIPTION:Bacchus Festival Roussillon \nLe premier festival 100% épicurien et 100 % circuit court animera le parc du Château de Valmy à Argelès sur Mer du 6 au 9 juin 2024. \nUn moment unique à vivre en famille ou entre amis\, dans un cadre exceptionnel et enchanteur.\nComme chaque année\, c’est l’occasion de découvrir les Vins du Roussillon avec un village de 21 exposants tirés au sort\, des espaces de restauration mettant à l’honneur les produits locaux et pas moins de trois concerts par soir sur une scène vue sur mer ! \nPour marquer cette 3ème édition\, le Bacchus festival prolonge l’expérience avec un quatrième jour «Bacchus en famille» le dimanche 9 juin de 11h à 17h. (Entrée gratuite pour les – de 12 ans / 5€ par adulte) \nAu programme :\nJeudi 06 : Charlotte Cardin\, Louise Attaque\, Julien Granel\nVendredi 07 : Gambeat & Kayalik\, Manu Chao et Olivia Ruiz _ COMPLET _\nSamedi 08 : Etienne Daho\, Pierre de Maere\, Hervé \nChâteau de Valmy\nPass 1 jour : 39€\nPass 3 jours : 100€ \nwww.festival-bacchus.fr\nwww.facebook.com/festivalbacchus \nPlus d’événements en Occitanie : www.danslesvignes.fr
URL:https://www.danslesvignes.fr/event/bacchus-festival-roussillon-2/
LOCATION:ARGELES-SUR-MER\, 66700
CATEGORIES:66. PYRENEES ORIENTALES
ATTACH;FMTTYPE=image/png:https://www.danslesvignes.fr/wp-content/uploads/2024/02/66_06_06-BACCHUS-FESTIVAL.png
END:VEVENT
BEGIN:VEVENT
DTSTART;TZID=Europe/Paris:20240614T080000
DTEND;TZID=Europe/Paris:20240615T170000
DTSTAMP:20260423T190904
CREATED:20240212T165305Z
LAST-MODIFIED:20240227T092806Z
UID:2217-1718352000-1718470800@www.danslesvignes.fr
SUMMARY:Festival Voix de Femmes
DESCRIPTION:Festival Voix de Femmes \nAu bar à vins du festival ou lors des dégustations\, les vignerons de l’appellation Maury regroupant vignerons indépendants et caves coopératives de la Haute vallée de l’Agly en collaboration avec le Cru Maury vous ferons découvrir leurs vins et ce terroir exceptionnel. Restauration avec des produits locaux et bio.\nVendredi 14 : 20h30 Shake Shake Go – 22h30 Nach\nSamedi 15 : 21h00 Colt – 22h30 Kimberose \nA partir de 19h00 \nPass 1 jour : normal 32€ – réduit 29€\nPass 2 jours : 55€ \nwww.festival-voixdefemmes.fr\nwww.facebook.com \n\nPlus d’événements en Occitanie : www.danslesvignes.fr
URL:https://www.danslesvignes.fr/event/festival-voix-de-femmes-2/
LOCATION:MAURY\, Maury\, 66460\, France
CATEGORIES:66. PYRENEES ORIENTALES
ATTACH;FMTTYPE=image/jpeg:https://www.danslesvignes.fr/wp-content/uploads/2024/02/66_06_14-VDF.jpeg
END:VEVENT
BEGIN:VEVENT
DTSTART;TZID=Europe/Paris:20240622T170000
DTEND;TZID=Europe/Paris:20240622T230000
DTSTAMP:20260423T190904
CREATED:20240417T090744Z
LAST-MODIFIED:20240621T144154Z
UID:2483-1719075600-1719097200@www.danslesvignes.fr
SUMMARY:Bouteilles à la mer
DESCRIPTION:– COMPLET – Parcours gourmand dans le vignoble canetois avec 10 vignerons qui feront déguster leurs cuvées immergées. A l’issue de la balade un repas assuré par le Chef Toque Blanche Ruben Gomez prolongera la soirée au soleil couchant ! En musique et convivialité ! \nA partir de 17h00. La balade pédestre est ponctuée par 5 étapes gourmandes :\nÀ chaque arrêt\, les vignerons vous accueilleront pour partager avec vous leur savoir-faire et vous feront découvrir leurs millésimes vieillis traditionnellement en cave et vieillis en mer\, le tout accompagné d’une mise en bouche concocté par le Chef Ruben Gomez\, Toque blanche du Roussillon.\nÉtape 1 : Pan con tomate et jambon ibérique.\nÉtape 2 : Verrine crème de ciboulette\, concombre et saumon fumé.\nÉtape 3 : Rillette de maquereaux et chips de riz.\nÉtape 4 : Gaspacho basilic.\nÉtape 5 : Brie à la truffe sur pain d’épice. \nA partir de 19h30. Le repas gastronomique au coucher de soleil\nLe parcours dans le vignoble achevé\, direction un endroit unique entre mer\, étang et vue magique sur le Canigou ! C’est au coucher de soleil\, que les participants se retrouveront au milieu des vignes pour déguster « le plat signature » du chef Ruben Gomez\, Toque Blanche du Roussillon où il mettra à l’honneur un filet de poisson cuit au barbecue japonais\, légumes de saison\, émietté de crabes bleus accompagné de sa bisque.\nEn dessert\, Mel i Mato et croustillant d’abricot rôti au romarin. \nAdulte : 49€ (groupe 45€)\nEnfant : 35€\nDépart toutes les 15′ de 17h00 à 19h00 \nRéservations obligatoire au 04 68 86 72 00 \nwww.ot-canet.fr\nwww.facebook.com \nPlus d’événements en Occitanie : www.danslesvignes.fr
URL:https://www.danslesvignes.fr/event/bouteilles-a-la-mer-2/
LOCATION:CANET-EN-ROUSSILLON\, 66140
CATEGORIES:66. PYRENEES ORIENTALES
ATTACH;FMTTYPE=image/jpeg:https://www.danslesvignes.fr/wp-content/uploads/2024/04/66_06_22-BOUTEILLES-MER-scaled.jpeg
END:VEVENT
BEGIN:VEVENT
DTSTART;TZID=Europe/Paris:20240630T090000
DTEND;TZID=Europe/Paris:20240630T133000
DTSTAMP:20260423T190904
CREATED:20240301T100112Z
LAST-MODIFIED:20240618T124324Z
UID:2284-1719738000-1719754200@www.danslesvignes.fr
SUMMARY:Les Caminades
DESCRIPTION:Les Caminades \nAprès avoir caminé autour du village de Cosprons en 2022\, autour de l’anse de Paulilles en 2023\, c’est autour de la Ville de Collioure en Pays Catalan d’accueillir cet événement incontournable de la Côte Vermeille. Cette année\, un parcours exceptionnel autour du village Collioure vous attend\, au milieu des vignes\, de l’arrière-pays à la mer\, avec des vues à couper le souffle.\nAu menu : 7 pôles de dégustations avec 8 chefs\, 21 vignerons. Comme toujours\, vous serez équipés de notre kit du dégustateur : chapeau\, verre\, couverts\, brochure. À la fin du parcours vous pourrez acheter les cuvées que vous aurez aimées. \nDépart toutes les 30mn du parking du Cap Dourats : 09h00-13h30\nAdulte 68€ (60€ à partir de 10 personnes)\nEnfant 38€ (-18 ans) \nRéservation obligatoire \nwww.lesvigneronssurmer.com\nhttps://my.weezevent.com/les-caminades-2024-a-collioure \nPlus d’événements en Occitanie : www.danslesvignes.fr
URL:https://www.danslesvignes.fr/event/les-caminades-2/
LOCATION:COLLIOURE\, 66190
CATEGORIES:66. PYRENEES ORIENTALES
ATTACH;FMTTYPE=image/jpeg:https://www.danslesvignes.fr/wp-content/uploads/2024/03/66_06_30-CAMINADES.jpeg
END:VEVENT
END:VCALENDAR