BEGIN:VCALENDAR
VERSION:2.0
PRODID:-//Dans les vignes - ECPv6.15.20//NONSGML v1.0//EN
CALSCALE:GREGORIAN
METHOD:PUBLISH
X-WR-CALNAME:Dans les vignes
X-ORIGINAL-URL:https://www.danslesvignes.fr
X-WR-CALDESC:Évènements pour Dans les vignes
REFRESH-INTERVAL;VALUE=DURATION:PT1H
X-Robots-Tag:noindex
X-PUBLISHED-TTL:PT1H
BEGIN:VTIMEZONE
TZID:Europe/Paris
BEGIN:DAYLIGHT
TZOFFSETFROM:+0100
TZOFFSETTO:+0200
TZNAME:CEST
DTSTART:20230326T010000
END:DAYLIGHT
BEGIN:STANDARD
TZOFFSETFROM:+0200
TZOFFSETTO:+0100
TZNAME:CET
DTSTART:20231029T010000
END:STANDARD
BEGIN:DAYLIGHT
TZOFFSETFROM:+0100
TZOFFSETTO:+0200
TZNAME:CEST
DTSTART:20240331T010000
END:DAYLIGHT
BEGIN:STANDARD
TZOFFSETFROM:+0200
TZOFFSETTO:+0100
TZNAME:CET
DTSTART:20241027T010000
END:STANDARD
BEGIN:DAYLIGHT
TZOFFSETFROM:+0100
TZOFFSETTO:+0200
TZNAME:CEST
DTSTART:20250330T010000
END:DAYLIGHT
BEGIN:STANDARD
TZOFFSETFROM:+0200
TZOFFSETTO:+0100
TZNAME:CET
DTSTART:20251026T010000
END:STANDARD
END:VTIMEZONE
BEGIN:VEVENT
DTSTART;TZID=Europe/Paris:20240711T180000
DTEND;TZID=Europe/Paris:20240713T233000
DTSTAMP:20260423T173027
CREATED:20240624T105752Z
LAST-MODIFIED:20240624T105812Z
UID:2682-1720720800-1720913400@www.danslesvignes.fr
SUMMARY:Les Musicales de l'Agly
DESCRIPTION:3 jours de concerts\, de rencontres\, d’ateliers (chants\, cirque et arts plastiques)\, de dégustations et de découvertes.\nPetite restauration sur placeJeudi 11 juillet 18h30 : Louvalemonde Crieuse Publique\,\n21h30 : Legraux Tobrogoï\,\n23h30 :Pili Coït Vendredi 12 juillet 18h30 : Mogador\,\n21h30 : Facteur Sauvage Augmenté\,\n23h30 : Punk Soul BrothersSamedi 13 Juillet18h30 : Restitution Master Class\,\n19h00 : Tarik Chaouach Solo\,\n21h30 : Sanseverino\, feat. Fred Gastard \nApéro\, dégustations et concerts de 18h30 : gratuit\nTarif soirée à partir de 21h00 : Tarif normal 15€ / réduit 12€\nou Pass 3 jours 40€ / réduit 30€\nJardin Loubet de Sceaury \nFacebook\nBilletterieLe Château Cosco \nPlus d’événements en Occitanie : www.danslesvignes.fr
URL:https://www.danslesvignes.fr/event/les-musicales-de-lagly/
LOCATION:PLANEZES\, 66720
CATEGORIES:66. PYRENEES ORIENTALES
ATTACH;FMTTYPE=image/jpeg:https://www.danslesvignes.fr/wp-content/uploads/2024/06/66_07_11-LATOUR.jpeg
END:VEVENT
BEGIN:VEVENT
DTSTART;TZID=Europe/Paris:20240725T180000
DTEND;TZID=Europe/Paris:20240726T223000
DTSTAMP:20260423T173027
CREATED:20240702T101604Z
LAST-MODIFIED:20240702T101604Z
UID:2846-1721930400-1722033000@www.danslesvignes.fr
SUMMARY:Rosé Vibes
DESCRIPTION:Rosé Vibes \nLes rosés du Roussillon investissent la place de la République au Barcarès\, devant l’Office du Tourisme. Venez partager de bonnes Vibes en dégustant les vins rosés présentés par les vignerons\, dans une ambiance musicale.  \nRestauration et animation sur place. \nCaves & Domaines : \nCAVE ARNAUD DE VILLENEUVE – DOMAINE BISCONTE – DOMAINE BLANC PLUME – DOMAINE BOUDAU – CHÂTEAU DE CALADROY – LE CLOS D’ELPIS – CUVONS LAJOIE – JONQUÈRES D’ORIOLA VIGNOBLES – CHÂTEAU DE CORNEILLA – DOMAINE DE JUVI – DOMAINE LAFAGE – DOMAINE LAURENT BATLLE – DOMAINE MANYA PUIG – DOMAINE MARC MAJORAL – MAS LLOSSANES – MAS MOLINS – CHÂTEAU NADAL HAINAUT – DOMAINE VAQUER – DOMAINE DE VENUS – CHÂTEAU VESPEILLE LES PINS – VICA – LES VIGNERONS DE CARAMANY – LES VIGNERONS DE MAURY – LES VIGNERONS DE TREMOINE – CHÂTEAU DE VILLECLARE \n\n18h00-22h30\nPlace de la République \nwww.canetenroussillon.fr \nPlus d’événements en Occitanie : www.danslesvignes.fr
URL:https://www.danslesvignes.fr/event/rose-vibes-2/
LOCATION:LE BARCARES\, 66420
CATEGORIES:66. PYRENEES ORIENTALES
END:VEVENT
END:VCALENDAR