BEGIN:VCALENDAR
VERSION:2.0
PRODID:-//Dans les vignes - ECPv6.15.20//NONSGML v1.0//EN
CALSCALE:GREGORIAN
METHOD:PUBLISH
X-WR-CALNAME:Dans les vignes
X-ORIGINAL-URL:https://www.danslesvignes.fr
X-WR-CALDESC:Évènements pour Dans les vignes
REFRESH-INTERVAL;VALUE=DURATION:PT1H
X-Robots-Tag:noindex
X-PUBLISHED-TTL:PT1H
BEGIN:VTIMEZONE
TZID:Europe/Paris
BEGIN:DAYLIGHT
TZOFFSETFROM:+0100
TZOFFSETTO:+0200
TZNAME:CEST
DTSTART:20230326T010000
END:DAYLIGHT
BEGIN:STANDARD
TZOFFSETFROM:+0200
TZOFFSETTO:+0100
TZNAME:CET
DTSTART:20231029T010000
END:STANDARD
BEGIN:DAYLIGHT
TZOFFSETFROM:+0100
TZOFFSETTO:+0200
TZNAME:CEST
DTSTART:20240331T010000
END:DAYLIGHT
BEGIN:STANDARD
TZOFFSETFROM:+0200
TZOFFSETTO:+0100
TZNAME:CET
DTSTART:20241027T010000
END:STANDARD
BEGIN:DAYLIGHT
TZOFFSETFROM:+0100
TZOFFSETTO:+0200
TZNAME:CEST
DTSTART:20250330T010000
END:DAYLIGHT
BEGIN:STANDARD
TZOFFSETFROM:+0200
TZOFFSETTO:+0100
TZNAME:CET
DTSTART:20251026T010000
END:STANDARD
END:VTIMEZONE
BEGIN:VEVENT
DTSTART;TZID=Europe/Paris:20240929T103000
DTEND;TZID=Europe/Paris:20240929T170000
DTSTAMP:20260423T141614
CREATED:20240902T090239Z
LAST-MODIFIED:20240902T090239Z
UID:3112-1727605800-1727629200@www.danslesvignes.fr
SUMMARY:Fête des vendanges de Tresserre
DESCRIPTION:Du vin\, de quoi manger et un groupe de musicien ! Venez profiter de la 7ème édition de la fête des vendanges de Tresserre.\nVous pourrez déguster avec un verre de dégustation à 5€ les vins des domaines de Tresserre : Amistat\, Clos Mané\, Domaines de Nidolères\, Domaines des Demoiselles\, Domaine Trilles\, Domaine Vaquer\, les Barbats\, ainsi que 3 invités : Château Montana de Banyuls des aspres\, Le Domaine Conques de Villemolaque et le domaine du lendemain de Fourques.\n\nPour le midi\, plusieurs possibilités :\n2 food-trucks seront présents : Pizza Rosa et Daddy’s food (Hamburgers)\nou bien un menu concocté par Pascal restaurateur d’Al Canigó (restaurant épicerie du village) :Entrée : tartelette mousse roquefort\, noix et raisinsPlat : Brochettes de magret de canard sauce miroir\, pommes de Terre grenailleDessert : Baba au Rhum-raisin mousse vanilleMenu complet : 25€ ou plat : 15€Réservation Pascal : 06 13 63 90 58\nle tout au son du groupe Els Skatalans (Ska Rock)\n\nEspace Planas de Tresserre\, de 10h30 à 17h00\nwww.facebook.com/\nPlus d’événements en Occitanie : www.danslesvignes.fr
URL:https://www.danslesvignes.fr/event/fete-des-vendanges-de-tresserre-2/
LOCATION:TRESSERRE\, 66300
CATEGORIES:66. PYRENEES ORIENTALES
ATTACH;FMTTYPE=image/jpeg:https://www.danslesvignes.fr/wp-content/uploads/2024/09/66_09_29-TRESSERRE.jpeg
END:VEVENT
END:VCALENDAR