BEGIN:VCALENDAR
VERSION:2.0
PRODID:-//Dans les vignes - ECPv6.15.20//NONSGML v1.0//EN
CALSCALE:GREGORIAN
METHOD:PUBLISH
X-ORIGINAL-URL:https://www.danslesvignes.fr
X-WR-CALDESC:Évènements pour Dans les vignes
REFRESH-INTERVAL;VALUE=DURATION:PT1H
X-Robots-Tag:noindex
X-PUBLISHED-TTL:PT1H
BEGIN:VTIMEZONE
TZID:Europe/Paris
BEGIN:DAYLIGHT
TZOFFSETFROM:+0100
TZOFFSETTO:+0200
TZNAME:CEST
DTSTART:20240331T010000
END:DAYLIGHT
BEGIN:STANDARD
TZOFFSETFROM:+0200
TZOFFSETTO:+0100
TZNAME:CET
DTSTART:20241027T010000
END:STANDARD
BEGIN:DAYLIGHT
TZOFFSETFROM:+0100
TZOFFSETTO:+0200
TZNAME:CEST
DTSTART:20250330T010000
END:DAYLIGHT
BEGIN:STANDARD
TZOFFSETFROM:+0200
TZOFFSETTO:+0100
TZNAME:CET
DTSTART:20251026T010000
END:STANDARD
BEGIN:DAYLIGHT
TZOFFSETFROM:+0100
TZOFFSETTO:+0200
TZNAME:CEST
DTSTART:20260329T010000
END:DAYLIGHT
BEGIN:STANDARD
TZOFFSETFROM:+0200
TZOFFSETTO:+0100
TZNAME:CET
DTSTART:20261025T010000
END:STANDARD
END:VTIMEZONE
BEGIN:VEVENT
DTSTART;TZID=Europe/Paris:20250502T083000
DTEND;TZID=Europe/Paris:20250502T123000
DTSTAMP:20260423T014859
CREATED:20250311T170652Z
LAST-MODIFIED:20250325T160210Z
UID:3523-1746174600-1746189000@www.danslesvignes.fr
SUMMARY:Balade Vigneronne
DESCRIPTION:Balade Vigneronne \nDépart à 08h30 de la boutique au centre du village pour une balade de 5 km dans les vignes\, guidée par un vigneron de la cave coopérative de Maury.\nRetour à la boutique pour une dégustation de nos vins secs et de nos vins doux agrémentée de produits locaux.\nEn mai : vendredi 2\, 9 et 30\nEn juin : jeudi 19 et 26\nEn juillet et août : tous les jeudis \nSur réservation : 04.68.59.02.87 / maurycellier@outlook.fr\nRèglement sur place avant le départ : 25€/adulte et 10€/enfant\nBoutique : 14 avenue Jean Jaurès  66460 Maury\nwww.facebook.com\n \nPlus d’événements en Occitanie : www.danslesvignes.fr
URL:https://www.danslesvignes.fr/event/balade-vigneronne/
LOCATION:MAURY\, Maury\, 66460\, France
CATEGORIES:66. PYRENEES ORIENTALES
ATTACH;FMTTYPE=image/jpeg:https://www.danslesvignes.fr/wp-content/uploads/2025/03/66-BALADE-2025-Agenda-ds-les-vignes.jpg
END:VEVENT
BEGIN:VEVENT
DTSTART;TZID=Europe/Paris:20250509T083000
DTEND;TZID=Europe/Paris:20250509T123000
DTSTAMP:20260423T014859
CREATED:20250311T171015Z
LAST-MODIFIED:20250325T160306Z
UID:3530-1746779400-1746793800@www.danslesvignes.fr
SUMMARY:Balade Vigneronne
DESCRIPTION:Balade Vigneronne \nDépart à 08h30 de la boutique au centre du village pour une balade de 5 km dans les vignes\, guidée par un vigneron de la cave coopérative de Maury.\nRetour à la boutique pour une dégustation de nos vins secs et de nos vins doux agrémentée de produits locaux.\nEn mai : vendredi 2\, 9 et 30\nEn juin : jeudi 19 et 26\nEn juillet et août : tous les jeudis \nSur réservation : 04.68.59.02.87 / maurycellier@outlook.fr\nRèglement sur place avant le départ : 25€/adulte et 10€/enfant\nBoutique : 14 avenue Jean Jaurès  66460 Maury\nwww.facebook.com\n \nPlus d’événements en Occitanie : www.danslesvignes.fr
URL:https://www.danslesvignes.fr/event/balade-vigneronne-2/
LOCATION:MAURY\, Maury\, 66460\, France
CATEGORIES:66. PYRENEES ORIENTALES
ATTACH;FMTTYPE=image/jpeg:https://www.danslesvignes.fr/wp-content/uploads/2025/03/66-BALADE-2025-Agenda-ds-les-vignes.jpg
END:VEVENT
BEGIN:VEVENT
DTSTART;TZID=Europe/Paris:20250517T110000
DTEND;TZID=Europe/Paris:20250517T170000
DTSTAMP:20260423T014859
CREATED:20250306T164217Z
LAST-MODIFIED:20250331T082222Z
UID:3512-1747479600-1747501200@www.danslesvignes.fr
SUMMARY:Vins de femmes
DESCRIPTION:Vins de femmes \n\n12 vigneronnes engagées pour une jolie cause…\nTout au long de la journée vous pourrez déguster nos vins\, guincher\, vous restaurer et contribuer à une belle action.\nLa maraude du Lundi\, est un collectif d’entraide qui de se développe à Perpignan et qui fédèredes bénévoles toujours plus nombreux autour de leur projet : collecter de la nourriture et cuisinerpour pouvoir distribuer des repas chauds le lundi aux personnes dans le besoin.\n\n11h00-17h00\nDomaine de Piquemal\n\nwww.facebook.com\nPlus d’événements en Occitanie : www.danslesvignes.fr
URL:https://www.danslesvignes.fr/event/vin-de-femmes-2/
LOCATION:ESPIRA DE L’AGLY\, 66600
CATEGORIES:66. PYRENEES ORIENTALES
ATTACH;FMTTYPE=image/jpeg:https://www.danslesvignes.fr/wp-content/uploads/2025/03/66_03_08-VINS-DE-FEMMES.jpeg
END:VEVENT
BEGIN:VEVENT
DTSTART;VALUE=DATE:20250518
DTEND;VALUE=DATE:20250519
DTSTAMP:20260423T014859
CREATED:20250304T102643Z
LAST-MODIFIED:20250310T101925Z
UID:3490-1747526400-1747612799@www.danslesvignes.fr
SUMMARY:Les Amorioles
DESCRIPTION:Les Amorioles \nC’est une balade de 7km environ au coeur du vignoble de Maury ponctuée par 6 étapes gourmandes.\nCette nouvelle édition sera concocté par Franck Séguret et l’équipe du « Clos des Lys » et toujours la fromagerie « Chez Juliette » de Rivesaltes.\nPlus de 25 vignerons seront présents pour vous accueillir et vous présenter leurs vins (plus de 30 cuvées au total) et leur philosophie de travail.\nL’événement sera clôturé en musique autour des accords Maury et dessert avec la banda de Limos et cette année\, pour la deuxième fois\, l’évènement se pousuivra en musique et autour d’une grillade toute la soirée avec le comité des fêtes de Maury (réservation de la soirée auprès du comité des fêtes). \nDépart toutes les 15mn : 10h45-13h15\nAdulte 62€\nEnfant 17€ (- de 10 ans)\nGroupe 56€ (minimum 12 personnes)\nRéservation de groupe par mail à : contact@maury-aop.fr \nRéservation obligatoire \nwww.maury-aop.fr \nPlus d’événements en Occitanie : www.danslesvignes.fr
URL:https://www.danslesvignes.fr/event/les-amorioles-3/
LOCATION:MAURY\, Maury\, 66460\, France
CATEGORIES:66. PYRENEES ORIENTALES
ATTACH;FMTTYPE=image/png:https://www.danslesvignes.fr/wp-content/uploads/2025/03/66_05_18-AMORIOLES-1.png
END:VEVENT
BEGIN:VEVENT
DTSTART;TZID=Europe/Paris:20250530T083000
DTEND;TZID=Europe/Paris:20250530T123000
DTSTAMP:20260423T014859
CREATED:20250311T171200Z
LAST-MODIFIED:20250325T160337Z
UID:3532-1748593800-1748608200@www.danslesvignes.fr
SUMMARY:Balade Vigneronne
DESCRIPTION:Balade Vigneronne \nDépart à 08h30 de la boutique au centre du village pour une balade de 5 km dans les vignes\, guidée par un vigneron de la cave coopérative de Maury.\nRetour à la boutique pour une dégustation de nos vins secs et de nos vins doux agrémentée de produits locaux.\nEn mai : vendredi 2\, 9 et 30\nEn juin : jeudi 19 et 26\nEn juillet et août : tous les jeudis \nSur réservation : 04.68.59.02.87 / maurycellier@outlook.fr\nRèglement sur place avant le départ : 25€/adulte et 10€/enfant\nBoutique : 14 avenue Jean Jaurès  66460 Maury\nwww.facebook.com\n \nPlus d’événements en Occitanie : www.danslesvignes.fr
URL:https://www.danslesvignes.fr/event/balade-vigneronne-3/
LOCATION:MAURY\, Maury\, 66460\, France
CATEGORIES:66. PYRENEES ORIENTALES
ATTACH;FMTTYPE=image/jpeg:https://www.danslesvignes.fr/wp-content/uploads/2025/03/66-BALADE-2025-Agenda-ds-les-vignes.jpg
END:VEVENT
END:VCALENDAR