BEGIN:VCALENDAR
VERSION:2.0
PRODID:-//Dans les vignes - ECPv6.15.20//NONSGML v1.0//EN
CALSCALE:GREGORIAN
METHOD:PUBLISH
X-WR-CALNAME:Dans les vignes
X-ORIGINAL-URL:https://www.danslesvignes.fr
X-WR-CALDESC:Évènements pour Dans les vignes
REFRESH-INTERVAL;VALUE=DURATION:PT1H
X-Robots-Tag:noindex
X-PUBLISHED-TTL:PT1H
BEGIN:VTIMEZONE
TZID:Europe/Paris
BEGIN:DAYLIGHT
TZOFFSETFROM:+0100
TZOFFSETTO:+0200
TZNAME:CEST
DTSTART:20240331T010000
END:DAYLIGHT
BEGIN:STANDARD
TZOFFSETFROM:+0200
TZOFFSETTO:+0100
TZNAME:CET
DTSTART:20241027T010000
END:STANDARD
BEGIN:DAYLIGHT
TZOFFSETFROM:+0100
TZOFFSETTO:+0200
TZNAME:CEST
DTSTART:20250330T010000
END:DAYLIGHT
BEGIN:STANDARD
TZOFFSETFROM:+0200
TZOFFSETTO:+0100
TZNAME:CET
DTSTART:20251026T010000
END:STANDARD
BEGIN:DAYLIGHT
TZOFFSETFROM:+0100
TZOFFSETTO:+0200
TZNAME:CEST
DTSTART:20260329T010000
END:DAYLIGHT
BEGIN:STANDARD
TZOFFSETFROM:+0200
TZOFFSETTO:+0100
TZNAME:CET
DTSTART:20261025T010000
END:STANDARD
END:VTIMEZONE
BEGIN:VEVENT
DTSTART;TZID=Europe/Paris:20250605T180000
DTEND;TZID=Europe/Paris:20250607T233000
DTSTAMP:20260422T235444
CREATED:20250116T114643Z
LAST-MODIFIED:20250224T172636Z
UID:3368-1749146400-1749339000@www.danslesvignes.fr
SUMMARY:Bacchus Festival Roussillon
DESCRIPTION:Bacchus Festival Roussillon \nLe premier festival 100% épicurien et 100 % circuit court animera le parc du Château de Valmy à Argelès sur Mer du 6 au 9 juin 2024. \nUn moment unique à vivre en famille ou entre amis\, dans un cadre exceptionnel et enchanteur.\nComme chaque année\, c’est l’occasion de découvrir les Vins du Roussillon avec un village de 21 exposants tirés au sort\, des espaces de restauration mettant à l’honneur les produits locaux et pas moins de trois concerts par soir sur une scène vue sur mer ! \nPour marquer cette 3ème édition\, le Bacchus festival prolonge l’expérience avec un quatrième jour «Bacchus en famille» le dimanche 9 juin de 11h à 17h. (Entrée gratuite pour les – de 12 ans / 5€ par adulte) \nAu programme :\nJeudi 05 : Michel Polnareff\, The Rabeats\, Cali\nVendredi 06 : Pascal Obispo\, Pierre Granier\, Hugues Di Francesco\nSamedi 07 : MC Solaar\, FFF\, Sinclair \nChâteau de Valmy\nPass 1 jour : 39€\nPass 3 jours : 105€ \nwww.festival-bacchus.fr\nwww.facebook.com/festivalbacchus \nPlus d’événements en Occitanie : www.danslesvignes.fr
URL:https://www.danslesvignes.fr/event/bacchus-festival-roussillon-3/
LOCATION:ARGELES-SUR-MER\, 66700
CATEGORIES:66. PYRENEES ORIENTALES
ATTACH;FMTTYPE=image/jpeg:https://www.danslesvignes.fr/wp-content/uploads/2025/01/66_06_05-BACCHUS.jpeg
END:VEVENT
BEGIN:VEVENT
DTSTART;TZID=Europe/Paris:20250613T180000
DTEND;TZID=Europe/Paris:20250614T233000
DTSTAMP:20260422T235444
CREATED:20250116T115123Z
LAST-MODIFIED:20250224T172934Z
UID:3370-1749837600-1749943800@www.danslesvignes.fr
SUMMARY:Festival Voix de Femmes
DESCRIPTION:Festival Voix de Femmes \nAu bar à vins du festival ou lors des dégustations\, les vignerons de l’appellation Maury regroupant vignerons indépendants et caves coopératives de la Haute vallée de l’Agly en collaboration avec le Cru Maury vous ferons découvrir leurs vins et ce terroir exceptionnel. Restauration avec des produits locaux et bio. \nA partir de 19h00 \nPass 1 jour : normal 32€ – réduit 29€\nPass 2 jours : 55€ \nwww.festival-voixdefemmes.fr\nwww.facebook.com \n\nPlus d’événements en Occitanie : www.danslesvignes.fr
URL:https://www.danslesvignes.fr/event/festival-voix-de-femmes-3/
LOCATION:MAURY\, Maury\, 66460\, France
CATEGORIES:66. PYRENEES ORIENTALES
ATTACH;FMTTYPE=image/jpeg:https://www.danslesvignes.fr/wp-content/uploads/2025/01/66_06_13-VOIX-1.jpeg
END:VEVENT
BEGIN:VEVENT
DTSTART;TZID=Europe/Paris:20250614T080000
DTEND;TZID=Europe/Paris:20250614T170000
DTSTAMP:20260422T235444
CREATED:20250409T072156Z
LAST-MODIFIED:20251023T164309Z
UID:3645-1749888000-1749920400@www.danslesvignes.fr
SUMMARY:Bouteilles à la mer
DESCRIPTION:Bouteilles à la mer \n Journée festive autour des cuvées traditionnelles vieillies en mer\, balade\, dégustation\, musique. Venez découvrir les vins de domaines viticoles d’exception. \nA partir de 17h00. La balade pédestre est ponctuée par 3 étapes gourmandes :\nÀ chaque arrêt\, les vignerons vous accueilleront pour partager avec vous leur savoir-faire et vous feront découvrir leurs millésimes vieillis traditionnellement en cave et vieillis en mer\, le tout accompagné d’une mise en bouche gourmande. \nA partir de 19h30. Le repas gastronomique au coucher de soleil\nLe parcours dans le vignoble achevé\, direction un endroit unique entre mer\, étang et vue magique sur le Canigou ! \nAdulte : 49€ (groupe 45€)\nEnfant : 35€\nDépart toutes les 15′ de 17h00 à 19h00 \nRéservations obligatoire au 04 68 86 72 00 \nwww.ot-canet.fr\nwww.facebook.com \nPlus d’événements en Occitanie : www.danslesvignes.fr
URL:https://www.danslesvignes.fr/event/bouteilles-a-la-mer-3/
LOCATION:CANET-EN-ROUSSILLON\, 66140
CATEGORIES:66. PYRENEES ORIENTALES
ATTACH;FMTTYPE=image/png:https://www.danslesvignes.fr/wp-content/uploads/2025/04/66_06_14-BOUTEILLES.png
END:VEVENT
BEGIN:VEVENT
DTSTART;TZID=Europe/Paris:20250614T103000
DTEND;TZID=Europe/Paris:20250614T233000
DTSTAMP:20260422T235444
CREATED:20250513T115003Z
LAST-MODIFIED:20250513T115208Z
UID:3727-1749897000-1749943800@www.danslesvignes.fr
SUMMARY:Les caves se rebiffent
DESCRIPTION:Les caves se rebiffent \nPour cette édition 2025\, Les Caves se Rebiffent fêtent leur 20 ans !\nJournée traditionnelle de dégustation des vignerons de Calce et de leurs invités au coeur du village. Street food toute la journée.\nLe soir\, concert à partir de 19h00 avec le groupe Lemon Grass puis DJ Select Aioli.\nStreet food : Huitres\, Hot-dog catalan ou Hot-tofu et Fromages.\nRepas généreux et gourmand sur réservation via la billetterie en ligne préparé par le trio d’enfer Las Pescadoras et MEO MEO.\n\nA partir de 10h30\n8€\n\nFacebook\nPlus d’événements en Occitanie : www.danslesvignes.fr
URL:https://www.danslesvignes.fr/event/les-caves-se-rebiffent/
LOCATION:CALCE\, 66600
CATEGORIES:66. PYRENEES ORIENTALES
ATTACH;FMTTYPE=image/jpeg:https://www.danslesvignes.fr/wp-content/uploads/2025/05/66_06_14-CAVES.jpeg
END:VEVENT
BEGIN:VEVENT
DTSTART;TZID=Europe/Paris:20250622T090000
DTEND;TZID=Europe/Paris:20250622T133000
DTSTAMP:20260422T235444
CREATED:20241216T113652Z
LAST-MODIFIED:20260305T120536Z
UID:3282-1750582800-1750599000@www.danslesvignes.fr
SUMMARY:Les Caminades
DESCRIPTION:Les Caminades \nAprès avoir caminé autour du village de Cosprons en 2022\, de l’anse de Paulilles en 2023 et de la Ville de Collioure en 2024\, cette année un parcours exceptionnel autour du village Cerbère vous attend\, au milieu des vignes\, de l’arrière-pays à la mer\, avec des vues à couper le souffle.\nAu menu : 7 pôles de dégustations avec 8 chefs\, 21 vignerons. Comme toujours\, vous serez équipés de notre kit du dégustateur : chapeau\, verre\, couverts\, brochure. À la fin du parcours vous pourrez acheter les cuvées que vous aurez aimées. \nDépart toutes les 30mn : 09h00-13h30\nAdulte 68€ (60€ à partir de 10 personnes)\nEnfant 38€ (-18 ans) \nRéservation obligatoire \n\n\nwww.lesvigneronssurmer.com\nhttps://my.weezevent.com/les-caminades-2025-a-cerbere \nPlus d’événements en Occitanie : www.danslesvignes.fr \n 
URL:https://www.danslesvignes.fr/event/les-caminades-3/
LOCATION:CERBERE\, 66290
CATEGORIES:66. PYRENEES ORIENTALES
ATTACH;FMTTYPE=image/jpeg:https://www.danslesvignes.fr/wp-content/uploads/2024/12/66_06_22-CAMINADES.jpeg
END:VEVENT
END:VCALENDAR