BEGIN:VCALENDAR
VERSION:2.0
PRODID:-//Dans les vignes - ECPv6.15.20//NONSGML v1.0//EN
CALSCALE:GREGORIAN
METHOD:PUBLISH
X-ORIGINAL-URL:https://www.danslesvignes.fr
X-WR-CALDESC:Évènements pour Dans les vignes
REFRESH-INTERVAL;VALUE=DURATION:PT1H
X-Robots-Tag:noindex
X-PUBLISHED-TTL:PT1H
BEGIN:VTIMEZONE
TZID:Europe/Paris
BEGIN:DAYLIGHT
TZOFFSETFROM:+0100
TZOFFSETTO:+0200
TZNAME:CEST
DTSTART:20250330T010000
END:DAYLIGHT
BEGIN:STANDARD
TZOFFSETFROM:+0200
TZOFFSETTO:+0100
TZNAME:CET
DTSTART:20251026T010000
END:STANDARD
BEGIN:DAYLIGHT
TZOFFSETFROM:+0100
TZOFFSETTO:+0200
TZNAME:CEST
DTSTART:20260329T010000
END:DAYLIGHT
BEGIN:STANDARD
TZOFFSETFROM:+0200
TZOFFSETTO:+0100
TZNAME:CET
DTSTART:20261025T010000
END:STANDARD
BEGIN:DAYLIGHT
TZOFFSETFROM:+0100
TZOFFSETTO:+0200
TZNAME:CEST
DTSTART:20270328T010000
END:DAYLIGHT
BEGIN:STANDARD
TZOFFSETFROM:+0200
TZOFFSETTO:+0100
TZNAME:CET
DTSTART:20271031T010000
END:STANDARD
END:VTIMEZONE
BEGIN:VEVENT
DTSTART;TZID=Europe/Paris:20260604T180000
DTEND;TZID=Europe/Paris:20260606T233000
DTSTAMP:20260422T113759
CREATED:20260112T110422Z
LAST-MODIFIED:20260112T110422Z
UID:4391-1780596000-1780788600@www.danslesvignes.fr
SUMMARY:Bacchus Festival Roussillon
DESCRIPTION:Bacchus Festival Roussillon \nLe premier festival 100% épicurien et 100 % circuit court animera le parc du Château de Valmy à Argelès sur Mer. \nUn moment unique à vivre en famille ou entre amis\, dans un cadre exceptionnel et enchanteur.\nComme chaque année\, c’est l’occasion de découvrir les Vins du Roussillon avec un village de 21 exposants tirés au sort\, des espaces de restauration mettant à l’honneur les produits locaux et pas moins de trois concerts par soir sur une scène vue sur mer ! \nAu programme :\nJeudi 04 : Ben Mazué\, Claudio Capéo\, Bess\nVendredi 05 : Vanessa Paradis\, Lilly Wood & The Prick\, Bon Entendeur\nSamedi 06 : Kyo\, Skip The Use\, Suzane \nChâteau de Valmy\nPass 1 jour : 44€\nPass 3 jours : 110€ \nwww.festival-bacchus.fr\nwww.facebook.com/festivalbacchus \nPlus d’événements en Occitanie : www.danslesvignes.fr
URL:https://www.danslesvignes.fr/event/bacchus-festival-roussillon-4/
LOCATION:ARGELES-SUR-MER\, 66700
CATEGORIES:66. PYRENEES ORIENTALES
ATTACH;FMTTYPE=image/jpeg:https://www.danslesvignes.fr/wp-content/uploads/2026/01/66_06_04-BACCHUS.jpeg
END:VEVENT
BEGIN:VEVENT
DTSTART;TZID=Europe/Paris:20260611T180000
DTEND;TZID=Europe/Paris:20260613T233000
DTSTAMP:20260422T113759
CREATED:20260112T105028Z
LAST-MODIFIED:20260112T105028Z
UID:4386-1781200800-1781393400@www.danslesvignes.fr
SUMMARY:Festival Voix de Femmes
DESCRIPTION:Festival Voix de Femmes \nAu bar à vins du festival ou lors des dégustations\, les vignerons de l’appellation Maury regroupant vignerons indépendants et caves coopératives de la Haute vallée de l’Agly en collaboration avec le Cru Maury vous ferons découvrir leurs vins et ce terroir exceptionnel. Restauration avec des produits locaux et bio. \nPlus d’infos à venir \nwww.festival-voixdefemmes.fr\nwww.facebook.com \n\nPlus d’événements en Occitanie : www.danslesvignes.fr
URL:https://www.danslesvignes.fr/event/festival-voix-de-femmes-4/
LOCATION:MAURY\, Maury\, 66460\, France
CATEGORIES:66. PYRENEES ORIENTALES
ATTACH;FMTTYPE=image/jpeg:https://www.danslesvignes.fr/wp-content/uploads/2026/01/66_06_11-VOIX-DE-FEMMES.jpeg
END:VEVENT
BEGIN:VEVENT
DTSTART;TZID=Europe/Paris:20260613T080000
DTEND;TZID=Europe/Paris:20260613T170000
DTSTAMP:20260422T113759
CREATED:20260405T155518Z
LAST-MODIFIED:20260405T155819Z
UID:4554-1781337600-1781370000@www.danslesvignes.fr
SUMMARY:Bouteilles à la mer
DESCRIPTION:Bouteilles à la mer \n Journée festive autour des cuvées traditionnelles vieillies en mer\, balade\, dégustation\, musique. Venez découvrir les vins de domaines viticoles d’exception. \nA partir de 17h00. La balade pédestre est ponctuée par 5 étapes gourmandes :\nÀ chaque arrêt\, les vignerons vous accueilleront pour partager avec vous leur savoir-faire et vous feront découvrir leurs millésimes vieillis traditionnellement en cave et vieillis en mer\, le tout accompagné d’une mise en bouche gourmande. \nA partir de 19h30. Le repas gastronomique au coucher de soleil\nLe parcours dans le vignoble achevé\, direction un endroit unique entre mer\, étang et vue magique sur le Canigou ! \nAdulte : 55€ (groupe 49€)\nEnfant : 40€\nDépart toutes les 15′ de 17h00 à 19h15 \nRéservations obligatoire ICI \nwww.ot-canet.fr\nwww.facebook.com \nPlus d’événements en Occitanie : www.danslesvignes.fr
URL:https://www.danslesvignes.fr/event/bouteilles-a-la-mer-4/
LOCATION:CANET-EN-ROUSSILLON\, 66140
CATEGORIES:66. PYRENEES ORIENTALES
ATTACH;FMTTYPE=image/jpeg:https://www.danslesvignes.fr/wp-content/uploads/2026/04/66_06_13-BOUTEILLES.jpeg
END:VEVENT
BEGIN:VEVENT
DTSTART;VALUE=DATE:20260621
DTEND;VALUE=DATE:20260622
DTSTAMP:20260422T113759
CREATED:20260305T120552Z
LAST-MODIFIED:20260305T120552Z
UID:4462-1782000000-1782086399@www.danslesvignes.fr
SUMMARY:Les Caminades
DESCRIPTION:Les Caminades \nLes Caminades arrivent à Banyuls-sur-Mer pour une édition exceptionnelle des 90 ans de l’AOP Banyuls. Au programme :\n9\,5 km de balade entre vignoble et mer\n7 pôles de dégustation avec les vignerons du Cru\nAccords mets & vins imaginés avec des chefs de la région\nAnimations musicales\nUn pôle “Bienvenue à la Ferme” plein de fraîcheur \n\nEt cette année\, la fête continuera après la marche !\n\n\nLe 21 juin\, c’est aussi la Fête des Pères et la Fête de la Musique : rendez-vous sur le front de mer de Banyuls pour prolonger la journée dans une ambiance festive avec des groupes musicaux.\n\nDépart toutes les 30mn : 09h00-12h30\nAdulte 70€ (62€ à partir de 10 personnes)\nEnfant 38€ (-18 ans) \nRéservation obligatoire \nwww.lesvigneronssurmer.com\nhttps://my.weezevent.com \nPlus d’événements en Occitanie : www.danslesvignes.fr
URL:https://www.danslesvignes.fr/event/les-caminades-4/
LOCATION:BANYULS\, 66650
CATEGORIES:66. PYRENEES ORIENTALES
ATTACH;FMTTYPE=image/jpeg:https://www.danslesvignes.fr/wp-content/uploads/2026/03/66_06_21-CAMINADES.jpeg
END:VEVENT
END:VCALENDAR