BEGIN:VCALENDAR
VERSION:2.0
PRODID:-//Dans les vignes - ECPv6.15.20//NONSGML v1.0//EN
CALSCALE:GREGORIAN
METHOD:PUBLISH
X-ORIGINAL-URL:https://www.danslesvignes.fr
X-WR-CALDESC:Évènements pour Dans les vignes
REFRESH-INTERVAL;VALUE=DURATION:PT1H
X-Robots-Tag:noindex
X-PUBLISHED-TTL:PT1H
BEGIN:VTIMEZONE
TZID:Europe/Paris
BEGIN:DAYLIGHT
TZOFFSETFROM:+0100
TZOFFSETTO:+0200
TZNAME:CEST
DTSTART:20220327T010000
END:DAYLIGHT
BEGIN:STANDARD
TZOFFSETFROM:+0200
TZOFFSETTO:+0100
TZNAME:CET
DTSTART:20221030T010000
END:STANDARD
BEGIN:DAYLIGHT
TZOFFSETFROM:+0100
TZOFFSETTO:+0200
TZNAME:CEST
DTSTART:20230326T010000
END:DAYLIGHT
BEGIN:STANDARD
TZOFFSETFROM:+0200
TZOFFSETTO:+0100
TZNAME:CET
DTSTART:20231029T010000
END:STANDARD
BEGIN:DAYLIGHT
TZOFFSETFROM:+0100
TZOFFSETTO:+0200
TZNAME:CEST
DTSTART:20240331T010000
END:DAYLIGHT
BEGIN:STANDARD
TZOFFSETFROM:+0200
TZOFFSETTO:+0100
TZNAME:CET
DTSTART:20241027T010000
END:STANDARD
END:VTIMEZONE
BEGIN:VEVENT
DTSTART;TZID=Europe/Paris:20230603T110000
DTEND;TZID=Europe/Paris:20230603T183000
DTSTAMP:20260424T182049
CREATED:20230602T091121Z
LAST-MODIFIED:20230602T091121Z
UID:1322-1685790000-1685817000@www.danslesvignes.fr
SUMMARY:Marché des vins du Roussillon
DESCRIPTION:Marché des vins du Roussillon \nVenez découvrir les vins et cépages uniques du Roussillon. Rencontres dégustations avec 18 domaines. Stands de restauration : cuisine traditionnelle catalane\, huîtres. Animation musicale \n6€ le verre de dégustation + 5 tickets\n11h00-18h30\nPlace de la Loge \n/www.perpignantourisme.com \nPlus d’événements dans les Pyrénées-Orientales : www.danslesvignes.fr/events/categorie/66-pyrenees-orientales/
URL:https://www.danslesvignes.fr/event/marche-des-vins-du-roussillon/
LOCATION:PERPIGNAN\, 66000
CATEGORIES:66. PYRENEES ORIENTALES
ATTACH;FMTTYPE=image/jpeg:https://www.danslesvignes.fr/wp-content/uploads/2023/06/66_06_03-MARCHE-VINS-ROUSSILLON.jpeg
END:VEVENT
END:VCALENDAR