BEGIN:VCALENDAR
VERSION:2.0
PRODID:-//Dans les vignes - ECPv6.15.20//NONSGML v1.0//EN
CALSCALE:GREGORIAN
METHOD:PUBLISH
X-WR-CALNAME:Dans les vignes
X-ORIGINAL-URL:https://www.danslesvignes.fr
X-WR-CALDESC:Évènements pour Dans les vignes
REFRESH-INTERVAL;VALUE=DURATION:PT1H
X-Robots-Tag:noindex
X-PUBLISHED-TTL:PT1H
BEGIN:VTIMEZONE
TZID:Europe/Paris
BEGIN:DAYLIGHT
TZOFFSETFROM:+0100
TZOFFSETTO:+0200
TZNAME:CEST
DTSTART:20220327T010000
END:DAYLIGHT
BEGIN:STANDARD
TZOFFSETFROM:+0200
TZOFFSETTO:+0100
TZNAME:CET
DTSTART:20221030T010000
END:STANDARD
BEGIN:DAYLIGHT
TZOFFSETFROM:+0100
TZOFFSETTO:+0200
TZNAME:CEST
DTSTART:20230326T010000
END:DAYLIGHT
BEGIN:STANDARD
TZOFFSETFROM:+0200
TZOFFSETTO:+0100
TZNAME:CET
DTSTART:20231029T010000
END:STANDARD
BEGIN:DAYLIGHT
TZOFFSETFROM:+0100
TZOFFSETTO:+0200
TZNAME:CEST
DTSTART:20240331T010000
END:DAYLIGHT
BEGIN:STANDARD
TZOFFSETFROM:+0200
TZOFFSETTO:+0100
TZNAME:CET
DTSTART:20241027T010000
END:STANDARD
END:VTIMEZONE
BEGIN:VEVENT
DTSTART;TZID=Europe/Paris:20230624T193000
DTEND;TZID=Europe/Paris:20230624T235900
DTSTAMP:20260424T181403
CREATED:20230402T083914Z
LAST-MODIFIED:20230609T120851Z
UID:413-1687635000-1687651140@www.danslesvignes.fr
SUMMARY:Vignes en Fleurs
DESCRIPTION:Vignes en fleur \nSur la nouvelle esplanade du faubourg à Collioure\, la soirée blanche est consacrée au 20e anniversaire du Collioure Blanc.\nDes ateliers de dégustations élaborés par Masashi IIJIMA (5eme péché) et Pascal BORRELL (le Fanal) permettront des accords originaux avec les différents millésimes des Collioure Blanc des domaines du cru.\nUne ambiance musicale et un cadre exceptionnel face au clocher de Collioure feront de cette soirée un moment privilégié\, unique\, et mémorable dans l’histoire de notre Cru. \nwww.lesvigneronssurmer.com \nPlus d’événements dans les Pyrénées-Orientales : www.danslesvignes.fr/events/categorie/66-pyrenees-orientales/
URL:https://www.danslesvignes.fr/event/vignes-en-fleurs/
LOCATION:COLLIOURE\, 66190
CATEGORIES:66. PYRENEES ORIENTALES
ATTACH;FMTTYPE=image/jpeg:https://www.danslesvignes.fr/wp-content/uploads/2023/04/IMG_6103.jpeg
END:VEVENT
END:VCALENDAR