BEGIN:VCALENDAR
VERSION:2.0
PRODID:-//Dans les vignes - ECPv6.15.20//NONSGML v1.0//EN
CALSCALE:GREGORIAN
METHOD:PUBLISH
X-ORIGINAL-URL:https://www.danslesvignes.fr
X-WR-CALDESC:Évènements pour Dans les vignes
REFRESH-INTERVAL;VALUE=DURATION:PT1H
X-Robots-Tag:noindex
X-PUBLISHED-TTL:PT1H
BEGIN:VTIMEZONE
TZID:Europe/Paris
BEGIN:DAYLIGHT
TZOFFSETFROM:+0100
TZOFFSETTO:+0200
TZNAME:CEST
DTSTART:20220327T010000
END:DAYLIGHT
BEGIN:STANDARD
TZOFFSETFROM:+0200
TZOFFSETTO:+0100
TZNAME:CET
DTSTART:20221030T010000
END:STANDARD
BEGIN:DAYLIGHT
TZOFFSETFROM:+0100
TZOFFSETTO:+0200
TZNAME:CEST
DTSTART:20230326T010000
END:DAYLIGHT
BEGIN:STANDARD
TZOFFSETFROM:+0200
TZOFFSETTO:+0100
TZNAME:CET
DTSTART:20231029T010000
END:STANDARD
BEGIN:DAYLIGHT
TZOFFSETFROM:+0100
TZOFFSETTO:+0200
TZNAME:CEST
DTSTART:20240331T010000
END:DAYLIGHT
BEGIN:STANDARD
TZOFFSETFROM:+0200
TZOFFSETTO:+0100
TZNAME:CET
DTSTART:20241027T010000
END:STANDARD
END:VTIMEZONE
BEGIN:VEVENT
DTSTART;VALUE=DATE:20230625
DTEND;VALUE=DATE:20230626
DTSTAMP:20260424T182012
CREATED:20230402T084232Z
LAST-MODIFIED:20230425T061517Z
UID:416-1687651200-1687737599@www.danslesvignes.fr
SUMMARY:Bouteilles à la mer
DESCRIPTION:Bouteilles à la mer \nDégustation de cuvées traditionnelles vieillies en mer. \nBalade et dégustations dans les vignes\, déjeuner champêtre à l’Arboretum réalisé par le chef\, Ruben Gomez\, Toque Blanche du Roussillon. Ambiance jazzy et festive avec groupes musicaux et animation autour du vin. Tous les tarifs comprennent les vins dégustés\, les mises en bouche\, le panier ou le buffet gourmand\, les animations musicales et le kit participant. \nDépart 10h00 de l’Air du Mas \nAdulte 49€ (45€ à partir de 12 personnes)\nEnfant jusqu’à 12 ans : 12€\nRéservation obligatoire \nwww.ot-canet.fr\nwww.facebook.com/VDLMCanetRoussillon\nwww.roussillon.wine \nPlus d’événements dans les Pyrénées-Orientales : www.danslesvignes.fr/events/categorie/66-pyrenees-orientales/
URL:https://www.danslesvignes.fr/event/bouteilles-a-la-mer/
LOCATION:CANET-EN-ROUSSILLON\, 66140
CATEGORIES:66. PYRENEES ORIENTALES
ATTACH;FMTTYPE=image/jpeg:https://www.danslesvignes.fr/wp-content/uploads/2023/04/66_06_25-BOUTEILLES.jpg
END:VEVENT
END:VCALENDAR