BEGIN:VCALENDAR
VERSION:2.0
PRODID:-//Dans les vignes - ECPv6.15.20//NONSGML v1.0//EN
CALSCALE:GREGORIAN
METHOD:PUBLISH
X-ORIGINAL-URL:https://www.danslesvignes.fr
X-WR-CALDESC:Évènements pour Dans les vignes
REFRESH-INTERVAL;VALUE=DURATION:PT1H
X-Robots-Tag:noindex
X-PUBLISHED-TTL:PT1H
BEGIN:VTIMEZONE
TZID:Europe/Paris
BEGIN:DAYLIGHT
TZOFFSETFROM:+0100
TZOFFSETTO:+0200
TZNAME:CEST
DTSTART:20220327T010000
END:DAYLIGHT
BEGIN:STANDARD
TZOFFSETFROM:+0200
TZOFFSETTO:+0100
TZNAME:CET
DTSTART:20221030T010000
END:STANDARD
BEGIN:DAYLIGHT
TZOFFSETFROM:+0100
TZOFFSETTO:+0200
TZNAME:CEST
DTSTART:20230326T010000
END:DAYLIGHT
BEGIN:STANDARD
TZOFFSETFROM:+0200
TZOFFSETTO:+0100
TZNAME:CET
DTSTART:20231029T010000
END:STANDARD
BEGIN:DAYLIGHT
TZOFFSETFROM:+0100
TZOFFSETTO:+0200
TZNAME:CEST
DTSTART:20240331T010000
END:DAYLIGHT
BEGIN:STANDARD
TZOFFSETFROM:+0200
TZOFFSETTO:+0100
TZNAME:CET
DTSTART:20241027T010000
END:STANDARD
END:VTIMEZONE
BEGIN:VEVENT
DTSTART;TZID=Europe/Paris:20231001T103000
DTEND;TZID=Europe/Paris:20231001T170000
DTSTAMP:20260424T111348
CREATED:20230916T055420Z
LAST-MODIFIED:20230916T055420Z
UID:1854-1696156200-1696179600@www.danslesvignes.fr
SUMMARY:Fête des vendanges de Tresserre
DESCRIPTION:Fête des vendanges de Tresserre \nVous pourrez déguster avec un verre de dégustation à 5€ les vins des domaines de Tresserre : Amistat\, Clos Mané\, Domaines de Nidolères\, Domaines des Demoiselles\, Domaine Trilles\, Domaine Vaquer\, Dounhic\, les Barbats et l’association Hortet de Les Bruixes\, ainsi que 2 invités : le Domaine Treloar de Trouillas et le domaine des Hélianthèmes de Maureillas\nPour le midi\, repas tiré du sac ou bien un menu concocté par notre restaurateur du village Thomas (sur réservation 15€) ou présence de la camionnette du Stef\n19h30-17h00\nEspace Planas de Tresserre \nwww.facebook.com \nPlus d’événements dans les Pyrénées-Orientales : www.danslesvignes.fr/events/categorie/66-pyrenees-orientales/
URL:https://www.danslesvignes.fr/event/fete-des-vendanges-de-tresserre/
LOCATION:TRESSERRE\, 66300
CATEGORIES:66. PYRENEES ORIENTALES
ATTACH;FMTTYPE=image/jpeg:https://www.danslesvignes.fr/wp-content/uploads/2023/09/66_10_01-TRESSERRE.jpeg
END:VEVENT
END:VCALENDAR