BEGIN:VCALENDAR
VERSION:2.0
PRODID:-//Dans les vignes - ECPv6.15.20//NONSGML v1.0//EN
CALSCALE:GREGORIAN
METHOD:PUBLISH
X-WR-CALNAME:Dans les vignes
X-ORIGINAL-URL:https://www.danslesvignes.fr
X-WR-CALDESC:Évènements pour Dans les vignes
REFRESH-INTERVAL;VALUE=DURATION:PT1H
X-Robots-Tag:noindex
X-PUBLISHED-TTL:PT1H
BEGIN:VTIMEZONE
TZID:Europe/Paris
BEGIN:DAYLIGHT
TZOFFSETFROM:+0100
TZOFFSETTO:+0200
TZNAME:CEST
DTSTART:20220327T010000
END:DAYLIGHT
BEGIN:STANDARD
TZOFFSETFROM:+0200
TZOFFSETTO:+0100
TZNAME:CET
DTSTART:20221030T010000
END:STANDARD
BEGIN:DAYLIGHT
TZOFFSETFROM:+0100
TZOFFSETTO:+0200
TZNAME:CEST
DTSTART:20230326T010000
END:DAYLIGHT
BEGIN:STANDARD
TZOFFSETFROM:+0200
TZOFFSETTO:+0100
TZNAME:CET
DTSTART:20231029T010000
END:STANDARD
BEGIN:DAYLIGHT
TZOFFSETFROM:+0100
TZOFFSETTO:+0200
TZNAME:CEST
DTSTART:20240331T010000
END:DAYLIGHT
BEGIN:STANDARD
TZOFFSETFROM:+0200
TZOFFSETTO:+0100
TZNAME:CET
DTSTART:20241027T010000
END:STANDARD
END:VTIMEZONE
BEGIN:VEVENT
DTSTART;VALUE=DATE:20231005
DTEND;VALUE=DATE:20231009
DTSTAMP:20260424T105038
CREATED:20230403T121515Z
LAST-MODIFIED:20230921T123548Z
UID:564-1696464000-1696809599@www.danslesvignes.fr
SUMMARY:Vendanges en Fête
DESCRIPTION:Vendanges en Fêtes \nPartez à la découverte du vignoble du Cru Banyuls & Collioure et de ses vignerons. Dégustations\, dîner de gala\, animations musicales\, visites de caves\, atelier du goût\, atelier des 4 saveurs\, village vigneron\, exposition\, cinéma\, théâtre\, repas vigneron… \nJeudi 19h30 : dîner de gala (sur réservation 160€)\nVillage vigneron sur la plage centrale : Vendredi 15h00-21h00\, Samedi 10h00-21h00\, Dimanche 10h00-17h00 \n5€ verre + 15€ carnet dégustation \nwww.lesvigneronssurmer.com \nPlus d’événements dans les Pyrénées-Orientales : www.danslesvignes.fr/events/categorie/66-pyrenees-orientales/
URL:https://www.danslesvignes.fr/event/vendanges-en-fete/
LOCATION:BANYULS\, 66650
CATEGORIES:66. PYRENEES ORIENTALES
ATTACH;FMTTYPE=image/jpeg:https://www.danslesvignes.fr/wp-content/uploads/2023/04/66_10_05-VENDANGES-EN-FETE.jpeg
END:VEVENT
END:VCALENDAR