BEGIN:VCALENDAR
VERSION:2.0
PRODID:-//Dans les vignes - ECPv6.15.20//NONSGML v1.0//EN
CALSCALE:GREGORIAN
METHOD:PUBLISH
X-WR-CALNAME:Dans les vignes
X-ORIGINAL-URL:https://www.danslesvignes.fr
X-WR-CALDESC:Évènements pour Dans les vignes
REFRESH-INTERVAL;VALUE=DURATION:PT1H
X-Robots-Tag:noindex
X-PUBLISHED-TTL:PT1H
BEGIN:VTIMEZONE
TZID:Europe/Paris
BEGIN:DAYLIGHT
TZOFFSETFROM:+0100
TZOFFSETTO:+0200
TZNAME:CEST
DTSTART:20230326T010000
END:DAYLIGHT
BEGIN:STANDARD
TZOFFSETFROM:+0200
TZOFFSETTO:+0100
TZNAME:CET
DTSTART:20231029T010000
END:STANDARD
BEGIN:DAYLIGHT
TZOFFSETFROM:+0100
TZOFFSETTO:+0200
TZNAME:CEST
DTSTART:20240331T010000
END:DAYLIGHT
BEGIN:STANDARD
TZOFFSETFROM:+0200
TZOFFSETTO:+0100
TZNAME:CET
DTSTART:20241027T010000
END:STANDARD
BEGIN:DAYLIGHT
TZOFFSETFROM:+0100
TZOFFSETTO:+0200
TZNAME:CEST
DTSTART:20250330T010000
END:DAYLIGHT
BEGIN:STANDARD
TZOFFSETFROM:+0200
TZOFFSETTO:+0100
TZNAME:CET
DTSTART:20251026T010000
END:STANDARD
END:VTIMEZONE
BEGIN:VEVENT
DTSTART;TZID=Europe/Paris:20240622T170000
DTEND;TZID=Europe/Paris:20240622T230000
DTSTAMP:20260423T205539
CREATED:20240417T090744Z
LAST-MODIFIED:20240621T144154Z
UID:2483-1719075600-1719097200@www.danslesvignes.fr
SUMMARY:Bouteilles à la mer
DESCRIPTION:– COMPLET – Parcours gourmand dans le vignoble canetois avec 10 vignerons qui feront déguster leurs cuvées immergées. A l’issue de la balade un repas assuré par le Chef Toque Blanche Ruben Gomez prolongera la soirée au soleil couchant ! En musique et convivialité ! \nA partir de 17h00. La balade pédestre est ponctuée par 5 étapes gourmandes :\nÀ chaque arrêt\, les vignerons vous accueilleront pour partager avec vous leur savoir-faire et vous feront découvrir leurs millésimes vieillis traditionnellement en cave et vieillis en mer\, le tout accompagné d’une mise en bouche concocté par le Chef Ruben Gomez\, Toque blanche du Roussillon.\nÉtape 1 : Pan con tomate et jambon ibérique.\nÉtape 2 : Verrine crème de ciboulette\, concombre et saumon fumé.\nÉtape 3 : Rillette de maquereaux et chips de riz.\nÉtape 4 : Gaspacho basilic.\nÉtape 5 : Brie à la truffe sur pain d’épice. \nA partir de 19h30. Le repas gastronomique au coucher de soleil\nLe parcours dans le vignoble achevé\, direction un endroit unique entre mer\, étang et vue magique sur le Canigou ! C’est au coucher de soleil\, que les participants se retrouveront au milieu des vignes pour déguster « le plat signature » du chef Ruben Gomez\, Toque Blanche du Roussillon où il mettra à l’honneur un filet de poisson cuit au barbecue japonais\, légumes de saison\, émietté de crabes bleus accompagné de sa bisque.\nEn dessert\, Mel i Mato et croustillant d’abricot rôti au romarin. \nAdulte : 49€ (groupe 45€)\nEnfant : 35€\nDépart toutes les 15′ de 17h00 à 19h00 \nRéservations obligatoire au 04 68 86 72 00 \nwww.ot-canet.fr\nwww.facebook.com \nPlus d’événements en Occitanie : www.danslesvignes.fr
URL:https://www.danslesvignes.fr/event/bouteilles-a-la-mer-2/
LOCATION:CANET-EN-ROUSSILLON\, 66140
CATEGORIES:66. PYRENEES ORIENTALES
ATTACH;FMTTYPE=image/jpeg:https://www.danslesvignes.fr/wp-content/uploads/2024/04/66_06_22-BOUTEILLES-MER-scaled.jpeg
END:VEVENT
END:VCALENDAR