BEGIN:VCALENDAR
VERSION:2.0
PRODID:-//Dans les vignes - ECPv6.15.20//NONSGML v1.0//EN
CALSCALE:GREGORIAN
METHOD:PUBLISH
X-ORIGINAL-URL:https://www.danslesvignes.fr
X-WR-CALDESC:Évènements pour Dans les vignes
REFRESH-INTERVAL;VALUE=DURATION:PT1H
X-Robots-Tag:noindex
X-PUBLISHED-TTL:PT1H
BEGIN:VTIMEZONE
TZID:Europe/Paris
BEGIN:DAYLIGHT
TZOFFSETFROM:+0100
TZOFFSETTO:+0200
TZNAME:CEST
DTSTART:20240331T010000
END:DAYLIGHT
BEGIN:STANDARD
TZOFFSETFROM:+0200
TZOFFSETTO:+0100
TZNAME:CET
DTSTART:20241027T010000
END:STANDARD
BEGIN:DAYLIGHT
TZOFFSETFROM:+0100
TZOFFSETTO:+0200
TZNAME:CEST
DTSTART:20250330T010000
END:DAYLIGHT
BEGIN:STANDARD
TZOFFSETFROM:+0200
TZOFFSETTO:+0100
TZNAME:CET
DTSTART:20251026T010000
END:STANDARD
BEGIN:DAYLIGHT
TZOFFSETFROM:+0100
TZOFFSETTO:+0200
TZNAME:CEST
DTSTART:20260329T010000
END:DAYLIGHT
BEGIN:STANDARD
TZOFFSETFROM:+0200
TZOFFSETTO:+0100
TZNAME:CET
DTSTART:20261025T010000
END:STANDARD
END:VTIMEZONE
BEGIN:VEVENT
DTSTART;TZID=Europe/Paris:20250605T180000
DTEND;TZID=Europe/Paris:20250607T233000
DTSTAMP:20260423T015354
CREATED:20250116T114643Z
LAST-MODIFIED:20250224T172636Z
UID:3368-1749146400-1749339000@www.danslesvignes.fr
SUMMARY:Bacchus Festival Roussillon
DESCRIPTION:Bacchus Festival Roussillon \nLe premier festival 100% épicurien et 100 % circuit court animera le parc du Château de Valmy à Argelès sur Mer du 6 au 9 juin 2024. \nUn moment unique à vivre en famille ou entre amis\, dans un cadre exceptionnel et enchanteur.\nComme chaque année\, c’est l’occasion de découvrir les Vins du Roussillon avec un village de 21 exposants tirés au sort\, des espaces de restauration mettant à l’honneur les produits locaux et pas moins de trois concerts par soir sur une scène vue sur mer ! \nPour marquer cette 3ème édition\, le Bacchus festival prolonge l’expérience avec un quatrième jour «Bacchus en famille» le dimanche 9 juin de 11h à 17h. (Entrée gratuite pour les – de 12 ans / 5€ par adulte) \nAu programme :\nJeudi 05 : Michel Polnareff\, The Rabeats\, Cali\nVendredi 06 : Pascal Obispo\, Pierre Granier\, Hugues Di Francesco\nSamedi 07 : MC Solaar\, FFF\, Sinclair \nChâteau de Valmy\nPass 1 jour : 39€\nPass 3 jours : 105€ \nwww.festival-bacchus.fr\nwww.facebook.com/festivalbacchus \nPlus d’événements en Occitanie : www.danslesvignes.fr
URL:https://www.danslesvignes.fr/event/bacchus-festival-roussillon-3/
LOCATION:ARGELES-SUR-MER\, 66700
CATEGORIES:66. PYRENEES ORIENTALES
ATTACH;FMTTYPE=image/jpeg:https://www.danslesvignes.fr/wp-content/uploads/2025/01/66_06_05-BACCHUS.jpeg
END:VEVENT
END:VCALENDAR