BEGIN:VCALENDAR
VERSION:2.0
PRODID:-//Dans les vignes - ECPv6.15.20//NONSGML v1.0//EN
CALSCALE:GREGORIAN
METHOD:PUBLISH
X-WR-CALNAME:Dans les vignes
X-ORIGINAL-URL:https://www.danslesvignes.fr
X-WR-CALDESC:Évènements pour Dans les vignes
REFRESH-INTERVAL;VALUE=DURATION:PT1H
X-Robots-Tag:noindex
X-PUBLISHED-TTL:PT1H
BEGIN:VTIMEZONE
TZID:Europe/Paris
BEGIN:DAYLIGHT
TZOFFSETFROM:+0100
TZOFFSETTO:+0200
TZNAME:CEST
DTSTART:20240331T010000
END:DAYLIGHT
BEGIN:STANDARD
TZOFFSETFROM:+0200
TZOFFSETTO:+0100
TZNAME:CET
DTSTART:20241027T010000
END:STANDARD
BEGIN:DAYLIGHT
TZOFFSETFROM:+0100
TZOFFSETTO:+0200
TZNAME:CEST
DTSTART:20250330T010000
END:DAYLIGHT
BEGIN:STANDARD
TZOFFSETFROM:+0200
TZOFFSETTO:+0100
TZNAME:CET
DTSTART:20251026T010000
END:STANDARD
BEGIN:DAYLIGHT
TZOFFSETFROM:+0100
TZOFFSETTO:+0200
TZNAME:CEST
DTSTART:20260329T010000
END:DAYLIGHT
BEGIN:STANDARD
TZOFFSETFROM:+0200
TZOFFSETTO:+0100
TZNAME:CET
DTSTART:20261025T010000
END:STANDARD
END:VTIMEZONE
BEGIN:VEVENT
DTSTART;TZID=Europe/Paris:20250722T180000
DTEND;TZID=Europe/Paris:20250722T223000
DTSTAMP:20260423T001953
CREATED:20250709T074845Z
LAST-MODIFIED:20250709T074856Z
UID:4062-1753207200-1753223400@www.danslesvignes.fr
SUMMARY:Rosés Plage
DESCRIPTION:Rosés Plage \nLaissez-vous porter par l’ambiance festive de Rosés Plage\, un événement qui célèbre les rosés du Roussillon entre musique live\, dégustations et cuisine locale\, face à la Méditerranée. \nSur deux lieux emblématiques du littoral – Sainte-Marie-la-Mer et Le Barcarès – 28 vignerons du Roussillon vous invitent à découvrir leurs cuvées\, fraîches\, fruitées et idéales pour les soirées d’été. Chaque date propose un programme complet : stands de dégustation\, concerts en plein air et une offre de restauration. \nDe 18h00 à 22h30\nPlace de la République\n6€ les 3 tickets de dégustation + 1 verre collector \nwww.roussillon.wine \nPlus d’événements en Occitanie : www.danslesvignes.fr
URL:https://www.danslesvignes.fr/event/roses-plage-3/
LOCATION:LE BARCARES\, 66420
CATEGORIES:66. PYRENEES ORIENTALES
ATTACH;FMTTYPE=image/jpeg:https://www.danslesvignes.fr/wp-content/uploads/2025/07/66_07-BACARES.jpeg
END:VEVENT
END:VCALENDAR