BEGIN:VCALENDAR
VERSION:2.0
PRODID:-//Dans les vignes - ECPv6.15.20//NONSGML v1.0//EN
CALSCALE:GREGORIAN
METHOD:PUBLISH
X-ORIGINAL-URL:https://www.danslesvignes.fr
X-WR-CALDESC:Évènements pour Dans les vignes
REFRESH-INTERVAL;VALUE=DURATION:PT1H
X-Robots-Tag:noindex
X-PUBLISHED-TTL:PT1H
BEGIN:VTIMEZONE
TZID:Europe/Paris
BEGIN:DAYLIGHT
TZOFFSETFROM:+0100
TZOFFSETTO:+0200
TZNAME:CEST
DTSTART:20240331T010000
END:DAYLIGHT
BEGIN:STANDARD
TZOFFSETFROM:+0200
TZOFFSETTO:+0100
TZNAME:CET
DTSTART:20241027T010000
END:STANDARD
BEGIN:DAYLIGHT
TZOFFSETFROM:+0100
TZOFFSETTO:+0200
TZNAME:CEST
DTSTART:20250330T010000
END:DAYLIGHT
BEGIN:STANDARD
TZOFFSETFROM:+0200
TZOFFSETTO:+0100
TZNAME:CET
DTSTART:20251026T010000
END:STANDARD
BEGIN:DAYLIGHT
TZOFFSETFROM:+0100
TZOFFSETTO:+0200
TZNAME:CEST
DTSTART:20260329T010000
END:DAYLIGHT
BEGIN:STANDARD
TZOFFSETFROM:+0200
TZOFFSETTO:+0100
TZNAME:CET
DTSTART:20261025T010000
END:STANDARD
END:VTIMEZONE
BEGIN:VEVENT
DTSTART;TZID=Europe/Paris:20251005T103000
DTEND;TZID=Europe/Paris:20251005T170000
DTSTAMP:20260422T192541
CREATED:20250709T075545Z
LAST-MODIFIED:20250902T080014Z
UID:4067-1759660200-1759683600@www.danslesvignes.fr
SUMMARY:Fête des vendanges
DESCRIPTION:Fête des vendanges de Tresserre \nDu vin\, de quoi manger et un groupe de musiciens ! \nVous pourrez déguster avec un verre de dégustation les vins des domaines de Tresserre : Amistat\, Clos Mané\, Domaine de Nidolères\, Domains des Demoiselles\, Domaine Trilles\, Domaine Vaquer\, les Barbats\, ainsi que 3 invités : Château Montana de Banyuls dels Aspres\, Le Domaine Conques de Villemolaque et le Domaine du Lendemain de Fourques. \nDe 10h30 à 17h00\nEspace Planas de Tresserre \nwww.roussillon.wine \nPlus d’événements en Occitanie : www.danslesvignes.fr
URL:https://www.danslesvignes.fr/event/fete-des-vendanges-4/
LOCATION:TRESSERRE\, 66300
CATEGORIES:66. PYRENEES ORIENTALES
END:VEVENT
END:VCALENDAR