BEGIN:VCALENDAR
VERSION:2.0
PRODID:-//Dans les vignes - ECPv6.15.20//NONSGML v1.0//EN
CALSCALE:GREGORIAN
METHOD:PUBLISH
X-ORIGINAL-URL:https://www.danslesvignes.fr
X-WR-CALDESC:Évènements pour Dans les vignes
REFRESH-INTERVAL;VALUE=DURATION:PT1H
X-Robots-Tag:noindex
X-PUBLISHED-TTL:PT1H
BEGIN:VTIMEZONE
TZID:Europe/Paris
BEGIN:DAYLIGHT
TZOFFSETFROM:+0100
TZOFFSETTO:+0200
TZNAME:CEST
DTSTART:20240331T010000
END:DAYLIGHT
BEGIN:STANDARD
TZOFFSETFROM:+0200
TZOFFSETTO:+0100
TZNAME:CET
DTSTART:20241027T010000
END:STANDARD
BEGIN:DAYLIGHT
TZOFFSETFROM:+0100
TZOFFSETTO:+0200
TZNAME:CEST
DTSTART:20250330T010000
END:DAYLIGHT
BEGIN:STANDARD
TZOFFSETFROM:+0200
TZOFFSETTO:+0100
TZNAME:CET
DTSTART:20251026T010000
END:STANDARD
BEGIN:DAYLIGHT
TZOFFSETFROM:+0100
TZOFFSETTO:+0200
TZNAME:CEST
DTSTART:20260329T010000
END:DAYLIGHT
BEGIN:STANDARD
TZOFFSETFROM:+0200
TZOFFSETTO:+0100
TZNAME:CET
DTSTART:20261025T010000
END:STANDARD
END:VTIMEZONE
BEGIN:VEVENT
DTSTART;VALUE=DATE:20251008
DTEND;VALUE=DATE:20251013
DTSTAMP:20260422T192540
CREATED:20250806T145632Z
LAST-MODIFIED:20250806T145927Z
UID:4154-1759881600-1760313599@www.danslesvignes.fr
SUMMARY:Vendanges en Fêtes
DESCRIPTION:Vendanges en Fêtes \nPartez à la découverte du vignoble du Cru Banyuls & Collioure et de ses vignerons. Dégustations\, dîner de gala\, animations musicales\, visites de caves\, atelier du goût\, atelier des 4 saveurs\, village vigneron\, exposition\, cinéma\, théâtre\, repas vigneron… \nVillage vigneron sur la plage centrale : 15 vignerons vous accueilleront dans les chalets du Village vigneron dans une ambiance festive\, vous offrant l’occasion de déguster les meilleurs vins de chaque domaine.\nAtelier du goût : Venez déguster les mets préparés par Pascal Borrell\, Chef du restaurant Le Fanal\, en accord avec les vins du Cru.\nToques et vignerons : Savourez des accords mets et vins avec 11 chefs et 22 vignerons lors d’une soirée gastronomique unique !\nMasterclass : Découvrez les secrets des grands vins avec Benjamin Roffet lors d’une masterclass unique à Banyuls. \n  \nwww.vendangesenfete.fr \nPlus d’événements en Occitanie : www.danslesvignes.fr
URL:https://www.danslesvignes.fr/event/vendanges-en-fetes-2/
LOCATION:BANYULS\, 66650
CATEGORIES:66. PYRENEES ORIENTALES
ATTACH;FMTTYPE=image/jpeg:https://www.danslesvignes.fr/wp-content/uploads/2025/08/66_10_08-VENDANGES-FETE-BANYULS.jpeg
END:VEVENT
END:VCALENDAR