BEGIN:VCALENDAR
VERSION:2.0
PRODID:-//Dans les vignes - ECPv6.15.20//NONSGML v1.0//EN
CALSCALE:GREGORIAN
METHOD:PUBLISH
X-ORIGINAL-URL:https://www.danslesvignes.fr
X-WR-CALDESC:Évènements pour Dans les vignes
REFRESH-INTERVAL;VALUE=DURATION:PT1H
X-Robots-Tag:noindex
X-PUBLISHED-TTL:PT1H
BEGIN:VTIMEZONE
TZID:Europe/Paris
BEGIN:DAYLIGHT
TZOFFSETFROM:+0100
TZOFFSETTO:+0200
TZNAME:CEST
DTSTART:20250330T010000
END:DAYLIGHT
BEGIN:STANDARD
TZOFFSETFROM:+0200
TZOFFSETTO:+0100
TZNAME:CET
DTSTART:20251026T010000
END:STANDARD
BEGIN:DAYLIGHT
TZOFFSETFROM:+0100
TZOFFSETTO:+0200
TZNAME:CEST
DTSTART:20260329T010000
END:DAYLIGHT
BEGIN:STANDARD
TZOFFSETFROM:+0200
TZOFFSETTO:+0100
TZNAME:CET
DTSTART:20261025T010000
END:STANDARD
BEGIN:DAYLIGHT
TZOFFSETFROM:+0100
TZOFFSETTO:+0200
TZNAME:CEST
DTSTART:20270328T010000
END:DAYLIGHT
BEGIN:STANDARD
TZOFFSETFROM:+0200
TZOFFSETTO:+0100
TZNAME:CET
DTSTART:20271031T010000
END:STANDARD
END:VTIMEZONE
BEGIN:VEVENT
DTSTART;TZID=Europe/Paris:20260321T080000
DTEND;TZID=Europe/Paris:20260321T170000
DTSTAMP:20260422T114457
CREATED:20260131T082903Z
LAST-MODIFIED:20260131T083000Z
UID:4427-1774080000-1774112400@www.danslesvignes.fr
SUMMARY:Vins de femmes
DESCRIPTION:Vins de femmes \n\n12 vigneronnes engagées pour une journée dédiée à l’Association Alice et les petits guerriers.\nTout au long de la journée vous pourrez déguster nos vins\, guincher\, vous restaurer et contribuer à une belle action.\n\n11h00-17h00\nChâteau Jonquière d’Oriola\n\nwww.facebook.com\nPlus d’événements en Occitanie : www.danslesvignes.fr
URL:https://www.danslesvignes.fr/event/vins-de-femmes/
LOCATION:CORNEILLA-DEL-VERCOL\, 66200
CATEGORIES:66. PYRENEES ORIENTALES
ATTACH;FMTTYPE=image/jpeg:https://www.danslesvignes.fr/wp-content/uploads/2026/01/66_03_21-VINS-DE-FEMMES.jpeg
END:VEVENT
END:VCALENDAR